BEGIN:VCALENDAR
VERSION:2.0
PRODID:-//Charlotte Trans Health - ECPv6.15.17.1//NONSGML v1.0//EN
CALSCALE:GREGORIAN
METHOD:PUBLISH
X-ORIGINAL-URL:https://charlottetranshealth.org
X-WR-CALDESC:Events for Charlotte Trans Health
REFRESH-INTERVAL;VALUE=DURATION:PT1H
X-Robots-Tag:noindex
X-PUBLISHED-TTL:PT1H
BEGIN:VTIMEZONE
TZID:America/New_York
BEGIN:DAYLIGHT
TZOFFSETFROM:-0500
TZOFFSETTO:-0400
TZNAME:EDT
DTSTART:20240310T070000
END:DAYLIGHT
BEGIN:STANDARD
TZOFFSETFROM:-0400
TZOFFSETTO:-0500
TZNAME:EST
DTSTART:20241103T060000
END:STANDARD
BEGIN:DAYLIGHT
TZOFFSETFROM:-0500
TZOFFSETTO:-0400
TZNAME:EDT
DTSTART:20250309T070000
END:DAYLIGHT
BEGIN:STANDARD
TZOFFSETFROM:-0400
TZOFFSETTO:-0500
TZNAME:EST
DTSTART:20251102T060000
END:STANDARD
BEGIN:DAYLIGHT
TZOFFSETFROM:-0500
TZOFFSETTO:-0400
TZNAME:EDT
DTSTART:20260308T070000
END:DAYLIGHT
BEGIN:STANDARD
TZOFFSETFROM:-0400
TZOFFSETTO:-0500
TZNAME:EST
DTSTART:20261101T060000
END:STANDARD
END:VTIMEZONE
BEGIN:VEVENT
DTSTART;TZID=America/New_York:20250809T120000
DTEND;TZID=America/New_York:20250809T170000
DTSTAMP:20260425T094901
CREATED:20250802T163643Z
LAST-MODIFIED:20250802T202011Z
UID:10000910-1754740800-1754758800@charlottetranshealth.org
SUMMARY:Pride Kick-Off Party at Common Market - Benefitting Charlotte Trans Health
DESCRIPTION:What Are You Doing Saturday\, August 9th?\nCome kick off Charlotte Pride a weekend early at Common Market Oakwold—and support Charlotte Trans Health while you’re at it!\n\n\nIt’s a full day and evening of fun\, celebration\, and community featuring:\n\n\nDrag Storytime & Two Major Drag Shows\nHosted by RC Cola and Lolita Chanel\nFeaturing Don Javi\, Lucy Paradisco\, and Oso Chanel!\n\n\nAll Ages Show | 6:30–8:00 PM\n“Not All Ages” Show | 8:30–10:00 PM\nVendor Market — Bits\, baubles\, art\, and more!\nFeatured Beverages from:\nSierra Nevada • Suffolk Punch • Hoptown • Hopfly • Wolffer Wines\n\n\nRaffle Benefiting Charlotte Trans Health!\nWin prizes from: Charlotte FC • Charlotte Royals • Enderly Coffee • Liquid Death • Magnolia Coffee • Five Flowers • Adams Beverage Distribution and more!\n\n\nLocation: Common Market Oakwold\nDate: Saturday\, August 9th\nProceeds support Charlotte Trans Health’s mission to provide affirming\, accessible care for trans and gender-diverse communities.\n\n\nCome say hi\, learn more about our work\, and help us celebrate Charlotte Pride early—with style!\n\n\n#CharlottePride #TransHealth #DragisArt #SupportLocal #CommonMarketOakwold #GenderAffirmingCareSavesLives #lgbtqia
URL:https://charlottetranshealth.org/event/pride-kick-off-party-at-common-market-benefitting-charlotte-trans-health/
LOCATION:Common Market Oakwold\, 4420-A Monroe Road\, Charlotte\, United States
CATEGORIES:Community Engagement,Fundraising,In-Person,Social
ATTACH;FMTTYPE=image/jpeg:https://charlottetranshealth.org/wp-content/uploads/2025/08/CM-Pride-Kickoff-scaled.jpg
ORGANIZER;CN="Charlotte Trans Health":MAILTO:info@charlottetranshealth.org
END:VEVENT
END:VCALENDAR