BEGIN:VCALENDAR
VERSION:2.0
PRODID:-//Charlotte Trans Health - ECPv6.15.17.1//NONSGML v1.0//EN
CALSCALE:GREGORIAN
METHOD:PUBLISH
X-WR-CALNAME:Charlotte Trans Health
X-ORIGINAL-URL:https://charlottetranshealth.org
X-WR-CALDESC:Events for Charlotte Trans Health
REFRESH-INTERVAL;VALUE=DURATION:PT1H
X-Robots-Tag:noindex
X-PUBLISHED-TTL:PT1H
BEGIN:VTIMEZONE
TZID:America/New_York
BEGIN:DAYLIGHT
TZOFFSETFROM:-0500
TZOFFSETTO:-0400
TZNAME:EDT
DTSTART:20240310T070000
END:DAYLIGHT
BEGIN:STANDARD
TZOFFSETFROM:-0400
TZOFFSETTO:-0500
TZNAME:EST
DTSTART:20241103T060000
END:STANDARD
BEGIN:DAYLIGHT
TZOFFSETFROM:-0500
TZOFFSETTO:-0400
TZNAME:EDT
DTSTART:20250309T070000
END:DAYLIGHT
BEGIN:STANDARD
TZOFFSETFROM:-0400
TZOFFSETTO:-0500
TZNAME:EST
DTSTART:20251102T060000
END:STANDARD
BEGIN:DAYLIGHT
TZOFFSETFROM:-0500
TZOFFSETTO:-0400
TZNAME:EDT
DTSTART:20260308T070000
END:DAYLIGHT
BEGIN:STANDARD
TZOFFSETFROM:-0400
TZOFFSETTO:-0500
TZNAME:EST
DTSTART:20261101T060000
END:STANDARD
END:VTIMEZONE
BEGIN:VEVENT
DTSTART;VALUE=DATE:20250307
DTEND;VALUE=DATE:20250401
DTSTAMP:20260423T071842
CREATED:20250310T005241Z
LAST-MODIFIED:20250310T005415Z
UID:10000314-1741305600-1743465599@charlottetranshealth.org
SUMMARY:Sip a Spring Latte and Support CTH
DESCRIPTION:Spring is in the air at Queen City Grounds! \n\n\nIntroducing our Spring Drink Menu\, featuring floral-inspired flavors that are sure to brighten your day:\n\n\n Petal & Cocoa Latte – Mocha latte with a splash of rose\n Rose Matcha Shake – Matcha milk shake with a touch of rose\n Lavender Serenade Latte – Lavender latte with a hint of agave\n\n\nEach drink is $7\, and for a limited time\, 10% of sales from our spring lattes will be donated to Charlotte Trans Health until April 1st! \n\n\nCome sip\, support\, and celebrate the season with us!
URL:https://charlottetranshealth.org/event/sip-a-spring-latte-and-support-cth/
LOCATION:Queen City Grounds\, 644 N. Church Street\, Charlotte\, United States
CATEGORIES:Fundraising
ORGANIZER;CN="Charlotte Trans Health":MAILTO:info@charlottetranshealth.org
END:VEVENT
END:VCALENDAR