BEGIN:VCALENDAR
VERSION:2.0
PRODID:-//Charlotte Trans Health - ECPv6.15.17.1//NONSGML v1.0//EN
CALSCALE:GREGORIAN
METHOD:PUBLISH
X-WR-CALNAME:Charlotte Trans Health
X-ORIGINAL-URL:https://charlottetranshealth.org
X-WR-CALDESC:Events for Charlotte Trans Health
REFRESH-INTERVAL;VALUE=DURATION:PT1H
X-Robots-Tag:noindex
X-PUBLISHED-TTL:PT1H
BEGIN:VTIMEZONE
TZID:America/New_York
BEGIN:DAYLIGHT
TZOFFSETFROM:-0500
TZOFFSETTO:-0400
TZNAME:EDT
DTSTART:20240310T070000
END:DAYLIGHT
BEGIN:STANDARD
TZOFFSETFROM:-0400
TZOFFSETTO:-0500
TZNAME:EST
DTSTART:20241103T060000
END:STANDARD
BEGIN:DAYLIGHT
TZOFFSETFROM:-0500
TZOFFSETTO:-0400
TZNAME:EDT
DTSTART:20250309T070000
END:DAYLIGHT
BEGIN:STANDARD
TZOFFSETFROM:-0400
TZOFFSETTO:-0500
TZNAME:EST
DTSTART:20251102T060000
END:STANDARD
BEGIN:DAYLIGHT
TZOFFSETFROM:-0500
TZOFFSETTO:-0400
TZNAME:EDT
DTSTART:20260308T070000
END:DAYLIGHT
BEGIN:STANDARD
TZOFFSETFROM:-0400
TZOFFSETTO:-0500
TZNAME:EST
DTSTART:20261101T060000
END:STANDARD
BEGIN:DAYLIGHT
TZOFFSETFROM:-0500
TZOFFSETTO:-0400
TZNAME:EDT
DTSTART:20270314T070000
END:DAYLIGHT
BEGIN:STANDARD
TZOFFSETFROM:-0400
TZOFFSETTO:-0500
TZNAME:EST
DTSTART:20271107T060000
END:STANDARD
END:VTIMEZONE
BEGIN:VEVENT
DTSTART;TZID=America/New_York:20260322T120000
DTEND;TZID=America/New_York:20260322T160000
DTSTAMP:20260423T071844
CREATED:20260226T034526Z
LAST-MODIFIED:20260313T025045Z
UID:10001073-1774180800-1774195200@charlottetranshealth.org
SUMMARY:TDOV: Kaleidoscope Market
DESCRIPTION:Join us at the Kaleidoscope Community Market event in honor of Transgender Day of Visibility. \n\n\n\nA one-stop community market built for Trans & Non-Binary people (and those who support them).\nKaleidoscope is a free\, affirming mini market designed to make support more accessible\, more practical\, and more connected\, all in one place. Whether you’re looking for resources\, a refresh\, paperwork help\, community\, or just a space that feels like yours\, you belong here. \nOfferings include:  Makeup Tutorials\,  Gender-Affirming Haircuts\,  Clothing Swap\,  Self-Defense Class\,  Voting Information\,  Massage Therapy\,  Insurance Info\,  Notary Services\,  Support Groups\,  Banking & Name Change Assistance\,  Assistance Programs\,  Reproductive & Contraceptive Resources\,  Therapy Services (signups only\, sessions not onsite) and more! \n\n  \n\n\n\nWho This Event Is For\n\nTrans & non-binary individuals seeking resources\, support\, and services\nFriends\, chosen family\, and allies who want to show up the right way\nCommunity members looking for practical help in a respectful environment\n\nWhat To Bring (Not required but helpful if you have them)\n\nA form of ID (if you’re planning to use notary or admin services)\nQuestions you’ve been putting off asking\nA friend (optional\, but encouraged)\n\n\nName Change Workshop led by Attorney Connie J. Vetter\nHave questions about the name change process in North Carolina? This workshop will walk through the basics\, what to expect\, and how to prepare. (Workshop is educational and informational; it is not legal representation.) \nUnapologetically Visible: Black\, Brown\, and Immigrant Trans Stories Panel Hosted by Equality NC\n*Light snacks\, and parking onsite are free. \n\n\n 
URL:https://charlottetranshealth.org/event/tdov-kaleidoscope-market/
LOCATION:Goodwill Opportunity Campus\, 5301 Wilkinson Blvd\, Charlotte\, 28208\, United States
CATEGORIES:Community Engagement,In-Person
ATTACH;FMTTYPE=image/png:https://charlottetranshealth.org/wp-content/uploads/2026/02/Updated-Kaleidoscope-2026-Graphic.png
ORGANIZER;CN="Charlotte Trans Health":MAILTO:info@charlottetranshealth.org
END:VEVENT
BEGIN:VEVENT
DTSTART;TZID=America/New_York:20250719T120000
DTEND;TZID=America/New_York:20250719T170000
DTSTAMP:20260423T071844
CREATED:20250718T023718Z
LAST-MODIFIED:20250718T023718Z
UID:10000908-1752926400-1752944400@charlottetranshealth.org
SUMMARY:Charlotte Black Pride
DESCRIPTION:Join us at the Charlotte Black Pride Expo on Saturday\, July 19th from 12-6pm!
URL:https://charlottetranshealth.org/event/charlotte-black-pride/
LOCATION:Westend Complex\, 1600 West Trade St\, Charlotte\, 28216\, United States
CATEGORIES:In-Person,Social
ATTACH;FMTTYPE=image/jpeg:https://charlottetranshealth.org/wp-content/uploads/2025/07/CBP-2025.jpg
END:VEVENT
BEGIN:VEVENT
DTSTART;TZID=America/New_York:20250330T130000
DTEND;TZID=America/New_York:20250330T170000
DTSTAMP:20260423T071844
CREATED:20250305T025737Z
LAST-MODIFIED:20250305T030044Z
UID:10000312-1743339600-1743354000@charlottetranshealth.org
SUMMARY:Kaleidoscope: TDOV Mini Market
DESCRIPTION:Join us for this free Trans and Non-Binary market! Participate in free gender-affirming services such as: \nHaircuts \nClothing\, accessories\, shoes\, etc. \nSTI testing and vaccines \nFood and housing resources \nJob assistance \nInsurance Information \nMassage Therapy \nGames & more! \nLight hors d’oeuvres will be provided. Registration and parking are free!
URL:https://charlottetranshealth.org/event/kaleidoscope-tdov-mini-market/
LOCATION:Eastway Recreation Center\, 3150 Eastway Park Dr\, Charlotte\, North Carolina\, 28213\, United States
ORGANIZER;CN="Charlotte Trans Health":MAILTO:info@charlottetranshealth.org
END:VEVENT
END:VCALENDAR