BEGIN:VCALENDAR
VERSION:2.0
PRODID:-//Charlotte Trans Health - ECPv6.15.17.1//NONSGML v1.0//EN
CALSCALE:GREGORIAN
METHOD:PUBLISH
X-ORIGINAL-URL:https://charlottetranshealth.org
X-WR-CALDESC:Events for Charlotte Trans Health
REFRESH-INTERVAL;VALUE=DURATION:PT1H
X-Robots-Tag:noindex
X-PUBLISHED-TTL:PT1H
BEGIN:VTIMEZONE
TZID:America/New_York
BEGIN:DAYLIGHT
TZOFFSETFROM:-0500
TZOFFSETTO:-0400
TZNAME:EDT
DTSTART:20260308T070000
END:DAYLIGHT
BEGIN:STANDARD
TZOFFSETFROM:-0400
TZOFFSETTO:-0500
TZNAME:EST
DTSTART:20261101T060000
END:STANDARD
BEGIN:DAYLIGHT
TZOFFSETFROM:-0500
TZOFFSETTO:-0400
TZNAME:EDT
DTSTART:20270314T070000
END:DAYLIGHT
BEGIN:STANDARD
TZOFFSETFROM:-0400
TZOFFSETTO:-0500
TZNAME:EST
DTSTART:20271107T060000
END:STANDARD
BEGIN:DAYLIGHT
TZOFFSETFROM:-0500
TZOFFSETTO:-0400
TZNAME:EDT
DTSTART:20280312T070000
END:DAYLIGHT
BEGIN:STANDARD
TZOFFSETFROM:-0400
TZOFFSETTO:-0500
TZNAME:EST
DTSTART:20281105T060000
END:STANDARD
BEGIN:DAYLIGHT
TZOFFSETFROM:-0500
TZOFFSETTO:-0400
TZNAME:EDT
DTSTART:20290311T070000
END:DAYLIGHT
BEGIN:STANDARD
TZOFFSETFROM:-0400
TZOFFSETTO:-0500
TZNAME:EST
DTSTART:20291104T060000
END:STANDARD
BEGIN:DAYLIGHT
TZOFFSETFROM:-0500
TZOFFSETTO:-0400
TZNAME:EDT
DTSTART:20300310T070000
END:DAYLIGHT
BEGIN:STANDARD
TZOFFSETFROM:-0400
TZOFFSETTO:-0500
TZNAME:EST
DTSTART:20301103T060000
END:STANDARD
END:VTIMEZONE
BEGIN:VEVENT
DTSTART;TZID=America/New_York:20271103T183000
DTEND;TZID=America/New_York:20271103T193000
DTSTAMP:20260423T004229
CREATED:20250430T004541Z
LAST-MODIFIED:20250430T004839Z
UID:10000164-1825266600-1825270200@charlottetranshealth.org
SUMMARY:Therapist-Led Support Group
DESCRIPTION:  \nFor more information and to register\, please email eileen@charlottetranshealth.org.
URL:https://charlottetranshealth.org/event/therapist-led-support-group-3/2027-11-03/
CATEGORIES:Support Group
ATTACH;FMTTYPE=image/png:https://charlottetranshealth.org/wp-content/uploads/2025/04/TGD-Support-Group-Edited.png
ORGANIZER;CN="Charlotte Trans Health":MAILTO:info@charlottetranshealth.org
END:VEVENT
BEGIN:VEVENT
DTSTART;TZID=America/New_York:20271117T183000
DTEND;TZID=America/New_York:20271117T193000
DTSTAMP:20260423T004229
CREATED:20250221T041055Z
LAST-MODIFIED:20260120T010404Z
UID:10001027-1826476200-1826479800@charlottetranshealth.org
SUMMARY:Therapist-Led Support Group
DESCRIPTION:  \nFor more information and to register\, please email eileen@charlottetranshealth.org.
URL:https://charlottetranshealth.org/event/therapist-led-support-group-2/2027-11-17/
CATEGORIES:In-Person,Support Group
ATTACH;FMTTYPE=image/png:https://charlottetranshealth.org/wp-content/uploads/2025/04/TGD-Support-Group-Edited.png
ORGANIZER;CN="Charlotte Trans Health":MAILTO:info@charlottetranshealth.org
END:VEVENT
BEGIN:VEVENT
DTSTART;TZID=America/New_York:20271201T183000
DTEND;TZID=America/New_York:20271201T193000
DTSTAMP:20260423T004229
CREATED:20250430T004541Z
LAST-MODIFIED:20250430T004839Z
UID:10000165-1827685800-1827689400@charlottetranshealth.org
SUMMARY:Therapist-Led Support Group
DESCRIPTION:  \nFor more information and to register\, please email eileen@charlottetranshealth.org.
URL:https://charlottetranshealth.org/event/therapist-led-support-group-3/2027-12-01/
CATEGORIES:Support Group
ATTACH;FMTTYPE=image/png:https://charlottetranshealth.org/wp-content/uploads/2025/04/TGD-Support-Group-Edited.png
ORGANIZER;CN="Charlotte Trans Health":MAILTO:info@charlottetranshealth.org
END:VEVENT
BEGIN:VEVENT
DTSTART;TZID=America/New_York:20271215T183000
DTEND;TZID=America/New_York:20271215T193000
DTSTAMP:20260423T004229
CREATED:20250221T041055Z
LAST-MODIFIED:20260120T010404Z
UID:10001028-1828895400-1828899000@charlottetranshealth.org
SUMMARY:Therapist-Led Support Group
DESCRIPTION:  \nFor more information and to register\, please email eileen@charlottetranshealth.org.
URL:https://charlottetranshealth.org/event/therapist-led-support-group-2/2027-12-15/
CATEGORIES:In-Person,Support Group
ATTACH;FMTTYPE=image/png:https://charlottetranshealth.org/wp-content/uploads/2025/04/TGD-Support-Group-Edited.png
ORGANIZER;CN="Charlotte Trans Health":MAILTO:info@charlottetranshealth.org
END:VEVENT
BEGIN:VEVENT
DTSTART;TZID=America/New_York:20280105T183000
DTEND;TZID=America/New_York:20280105T193000
DTSTAMP:20260423T004229
CREATED:20250430T004541Z
LAST-MODIFIED:20250430T004839Z
UID:10000166-1830709800-1830713400@charlottetranshealth.org
SUMMARY:Therapist-Led Support Group
DESCRIPTION:  \nFor more information and to register\, please email eileen@charlottetranshealth.org.
URL:https://charlottetranshealth.org/event/therapist-led-support-group-3/2028-01-05/
CATEGORIES:Support Group
ATTACH;FMTTYPE=image/png:https://charlottetranshealth.org/wp-content/uploads/2025/04/TGD-Support-Group-Edited.png
ORGANIZER;CN="Charlotte Trans Health":MAILTO:info@charlottetranshealth.org
END:VEVENT
BEGIN:VEVENT
DTSTART;TZID=America/New_York:20280119T183000
DTEND;TZID=America/New_York:20280119T193000
DTSTAMP:20260423T004229
CREATED:20250221T041055Z
LAST-MODIFIED:20260120T010404Z
UID:10001029-1831919400-1831923000@charlottetranshealth.org
SUMMARY:Therapist-Led Support Group
DESCRIPTION:  \nFor more information and to register\, please email eileen@charlottetranshealth.org.
URL:https://charlottetranshealth.org/event/therapist-led-support-group-2/2028-01-19/
CATEGORIES:In-Person,Support Group
ATTACH;FMTTYPE=image/png:https://charlottetranshealth.org/wp-content/uploads/2025/04/TGD-Support-Group-Edited.png
ORGANIZER;CN="Charlotte Trans Health":MAILTO:info@charlottetranshealth.org
END:VEVENT
BEGIN:VEVENT
DTSTART;TZID=America/New_York:20280202T183000
DTEND;TZID=America/New_York:20280202T193000
DTSTAMP:20260423T004229
CREATED:20250430T004541Z
LAST-MODIFIED:20250430T004839Z
UID:10000167-1833129000-1833132600@charlottetranshealth.org
SUMMARY:Therapist-Led Support Group
DESCRIPTION:  \nFor more information and to register\, please email eileen@charlottetranshealth.org.
URL:https://charlottetranshealth.org/event/therapist-led-support-group-3/2028-02-02/
CATEGORIES:Support Group
ATTACH;FMTTYPE=image/png:https://charlottetranshealth.org/wp-content/uploads/2025/04/TGD-Support-Group-Edited.png
ORGANIZER;CN="Charlotte Trans Health":MAILTO:info@charlottetranshealth.org
END:VEVENT
BEGIN:VEVENT
DTSTART;TZID=America/New_York:20280216T183000
DTEND;TZID=America/New_York:20280216T193000
DTSTAMP:20260423T004229
CREATED:20250221T041055Z
LAST-MODIFIED:20260120T010404Z
UID:10001030-1834338600-1834342200@charlottetranshealth.org
SUMMARY:Therapist-Led Support Group
DESCRIPTION:  \nFor more information and to register\, please email eileen@charlottetranshealth.org.
URL:https://charlottetranshealth.org/event/therapist-led-support-group-2/2028-02-16/
CATEGORIES:In-Person,Support Group
ATTACH;FMTTYPE=image/png:https://charlottetranshealth.org/wp-content/uploads/2025/04/TGD-Support-Group-Edited.png
ORGANIZER;CN="Charlotte Trans Health":MAILTO:info@charlottetranshealth.org
END:VEVENT
BEGIN:VEVENT
DTSTART;TZID=America/New_York:20280301T183000
DTEND;TZID=America/New_York:20280301T193000
DTSTAMP:20260423T004229
CREATED:20250430T004541Z
LAST-MODIFIED:20250430T004839Z
UID:10000168-1835548200-1835551800@charlottetranshealth.org
SUMMARY:Therapist-Led Support Group
DESCRIPTION:  \nFor more information and to register\, please email eileen@charlottetranshealth.org.
URL:https://charlottetranshealth.org/event/therapist-led-support-group-3/2028-03-01/
CATEGORIES:Support Group
ATTACH;FMTTYPE=image/png:https://charlottetranshealth.org/wp-content/uploads/2025/04/TGD-Support-Group-Edited.png
ORGANIZER;CN="Charlotte Trans Health":MAILTO:info@charlottetranshealth.org
END:VEVENT
BEGIN:VEVENT
DTSTART;TZID=America/New_York:20280315T183000
DTEND;TZID=America/New_York:20280315T193000
DTSTAMP:20260423T004229
CREATED:20250221T041055Z
LAST-MODIFIED:20260120T010404Z
UID:10001031-1836757800-1836761400@charlottetranshealth.org
SUMMARY:Therapist-Led Support Group
DESCRIPTION:  \nFor more information and to register\, please email eileen@charlottetranshealth.org.
URL:https://charlottetranshealth.org/event/therapist-led-support-group-2/2028-03-15/
CATEGORIES:In-Person,Support Group
ATTACH;FMTTYPE=image/png:https://charlottetranshealth.org/wp-content/uploads/2025/04/TGD-Support-Group-Edited.png
ORGANIZER;CN="Charlotte Trans Health":MAILTO:info@charlottetranshealth.org
END:VEVENT
BEGIN:VEVENT
DTSTART;TZID=America/New_York:20280405T183000
DTEND;TZID=America/New_York:20280405T193000
DTSTAMP:20260423T004229
CREATED:20250430T004541Z
LAST-MODIFIED:20250430T004839Z
UID:10000169-1838572200-1838575800@charlottetranshealth.org
SUMMARY:Therapist-Led Support Group
DESCRIPTION:  \nFor more information and to register\, please email eileen@charlottetranshealth.org.
URL:https://charlottetranshealth.org/event/therapist-led-support-group-3/2028-04-05/
CATEGORIES:Support Group
ATTACH;FMTTYPE=image/png:https://charlottetranshealth.org/wp-content/uploads/2025/04/TGD-Support-Group-Edited.png
ORGANIZER;CN="Charlotte Trans Health":MAILTO:info@charlottetranshealth.org
END:VEVENT
BEGIN:VEVENT
DTSTART;TZID=America/New_York:20280419T183000
DTEND;TZID=America/New_York:20280419T193000
DTSTAMP:20260423T004229
CREATED:20250221T041055Z
LAST-MODIFIED:20260120T010404Z
UID:10001032-1839781800-1839785400@charlottetranshealth.org
SUMMARY:Therapist-Led Support Group
DESCRIPTION:  \nFor more information and to register\, please email eileen@charlottetranshealth.org.
URL:https://charlottetranshealth.org/event/therapist-led-support-group-2/2028-04-19/
CATEGORIES:In-Person,Support Group
ATTACH;FMTTYPE=image/png:https://charlottetranshealth.org/wp-content/uploads/2025/04/TGD-Support-Group-Edited.png
ORGANIZER;CN="Charlotte Trans Health":MAILTO:info@charlottetranshealth.org
END:VEVENT
BEGIN:VEVENT
DTSTART;TZID=America/New_York:20280503T183000
DTEND;TZID=America/New_York:20280503T193000
DTSTAMP:20260423T004229
CREATED:20250430T004541Z
LAST-MODIFIED:20250430T004839Z
UID:10000170-1840991400-1840995000@charlottetranshealth.org
SUMMARY:Therapist-Led Support Group
DESCRIPTION:  \nFor more information and to register\, please email eileen@charlottetranshealth.org.
URL:https://charlottetranshealth.org/event/therapist-led-support-group-3/2028-05-03/
CATEGORIES:Support Group
ATTACH;FMTTYPE=image/png:https://charlottetranshealth.org/wp-content/uploads/2025/04/TGD-Support-Group-Edited.png
ORGANIZER;CN="Charlotte Trans Health":MAILTO:info@charlottetranshealth.org
END:VEVENT
BEGIN:VEVENT
DTSTART;TZID=America/New_York:20280517T183000
DTEND;TZID=America/New_York:20280517T193000
DTSTAMP:20260423T004229
CREATED:20250221T041055Z
LAST-MODIFIED:20260120T010404Z
UID:10001033-1842201000-1842204600@charlottetranshealth.org
SUMMARY:Therapist-Led Support Group
DESCRIPTION:  \nFor more information and to register\, please email eileen@charlottetranshealth.org.
URL:https://charlottetranshealth.org/event/therapist-led-support-group-2/2028-05-17/
CATEGORIES:In-Person,Support Group
ATTACH;FMTTYPE=image/png:https://charlottetranshealth.org/wp-content/uploads/2025/04/TGD-Support-Group-Edited.png
ORGANIZER;CN="Charlotte Trans Health":MAILTO:info@charlottetranshealth.org
END:VEVENT
BEGIN:VEVENT
DTSTART;TZID=America/New_York:20280607T183000
DTEND;TZID=America/New_York:20280607T193000
DTSTAMP:20260423T004229
CREATED:20250430T004541Z
LAST-MODIFIED:20250430T004839Z
UID:10000171-1844015400-1844019000@charlottetranshealth.org
SUMMARY:Therapist-Led Support Group
DESCRIPTION:  \nFor more information and to register\, please email eileen@charlottetranshealth.org.
URL:https://charlottetranshealth.org/event/therapist-led-support-group-3/2028-06-07/
CATEGORIES:Support Group
ATTACH;FMTTYPE=image/png:https://charlottetranshealth.org/wp-content/uploads/2025/04/TGD-Support-Group-Edited.png
ORGANIZER;CN="Charlotte Trans Health":MAILTO:info@charlottetranshealth.org
END:VEVENT
BEGIN:VEVENT
DTSTART;TZID=America/New_York:20280621T183000
DTEND;TZID=America/New_York:20280621T193000
DTSTAMP:20260423T004229
CREATED:20250221T041055Z
LAST-MODIFIED:20260120T010404Z
UID:10001034-1845225000-1845228600@charlottetranshealth.org
SUMMARY:Therapist-Led Support Group
DESCRIPTION:  \nFor more information and to register\, please email eileen@charlottetranshealth.org.
URL:https://charlottetranshealth.org/event/therapist-led-support-group-2/2028-06-21/
CATEGORIES:In-Person,Support Group
ATTACH;FMTTYPE=image/png:https://charlottetranshealth.org/wp-content/uploads/2025/04/TGD-Support-Group-Edited.png
ORGANIZER;CN="Charlotte Trans Health":MAILTO:info@charlottetranshealth.org
END:VEVENT
BEGIN:VEVENT
DTSTART;TZID=America/New_York:20280705T183000
DTEND;TZID=America/New_York:20280705T193000
DTSTAMP:20260423T004229
CREATED:20250430T004541Z
LAST-MODIFIED:20250430T004839Z
UID:10000172-1846434600-1846438200@charlottetranshealth.org
SUMMARY:Therapist-Led Support Group
DESCRIPTION:  \nFor more information and to register\, please email eileen@charlottetranshealth.org.
URL:https://charlottetranshealth.org/event/therapist-led-support-group-3/2028-07-05/
CATEGORIES:Support Group
ATTACH;FMTTYPE=image/png:https://charlottetranshealth.org/wp-content/uploads/2025/04/TGD-Support-Group-Edited.png
ORGANIZER;CN="Charlotte Trans Health":MAILTO:info@charlottetranshealth.org
END:VEVENT
BEGIN:VEVENT
DTSTART;TZID=America/New_York:20280719T183000
DTEND;TZID=America/New_York:20280719T193000
DTSTAMP:20260423T004229
CREATED:20250221T041055Z
LAST-MODIFIED:20260120T010404Z
UID:10001035-1847644200-1847647800@charlottetranshealth.org
SUMMARY:Therapist-Led Support Group
DESCRIPTION:  \nFor more information and to register\, please email eileen@charlottetranshealth.org.
URL:https://charlottetranshealth.org/event/therapist-led-support-group-2/2028-07-19/
CATEGORIES:In-Person,Support Group
ATTACH;FMTTYPE=image/png:https://charlottetranshealth.org/wp-content/uploads/2025/04/TGD-Support-Group-Edited.png
ORGANIZER;CN="Charlotte Trans Health":MAILTO:info@charlottetranshealth.org
END:VEVENT
BEGIN:VEVENT
DTSTART;TZID=America/New_York:20280802T183000
DTEND;TZID=America/New_York:20280802T193000
DTSTAMP:20260423T004229
CREATED:20250430T004541Z
LAST-MODIFIED:20250430T004839Z
UID:10000173-1848853800-1848857400@charlottetranshealth.org
SUMMARY:Therapist-Led Support Group
DESCRIPTION:  \nFor more information and to register\, please email eileen@charlottetranshealth.org.
URL:https://charlottetranshealth.org/event/therapist-led-support-group-3/2028-08-02/
CATEGORIES:Support Group
ATTACH;FMTTYPE=image/png:https://charlottetranshealth.org/wp-content/uploads/2025/04/TGD-Support-Group-Edited.png
ORGANIZER;CN="Charlotte Trans Health":MAILTO:info@charlottetranshealth.org
END:VEVENT
BEGIN:VEVENT
DTSTART;TZID=America/New_York:20280816T183000
DTEND;TZID=America/New_York:20280816T193000
DTSTAMP:20260423T004229
CREATED:20250221T041055Z
LAST-MODIFIED:20260120T010404Z
UID:10001036-1850063400-1850067000@charlottetranshealth.org
SUMMARY:Therapist-Led Support Group
DESCRIPTION:  \nFor more information and to register\, please email eileen@charlottetranshealth.org.
URL:https://charlottetranshealth.org/event/therapist-led-support-group-2/2028-08-16/
CATEGORIES:In-Person,Support Group
ATTACH;FMTTYPE=image/png:https://charlottetranshealth.org/wp-content/uploads/2025/04/TGD-Support-Group-Edited.png
ORGANIZER;CN="Charlotte Trans Health":MAILTO:info@charlottetranshealth.org
END:VEVENT
BEGIN:VEVENT
DTSTART;TZID=America/New_York:20280906T183000
DTEND;TZID=America/New_York:20280906T193000
DTSTAMP:20260423T004229
CREATED:20250430T004541Z
LAST-MODIFIED:20250430T004839Z
UID:10000174-1851877800-1851881400@charlottetranshealth.org
SUMMARY:Therapist-Led Support Group
DESCRIPTION:  \nFor more information and to register\, please email eileen@charlottetranshealth.org.
URL:https://charlottetranshealth.org/event/therapist-led-support-group-3/2028-09-06/
CATEGORIES:Support Group
ATTACH;FMTTYPE=image/png:https://charlottetranshealth.org/wp-content/uploads/2025/04/TGD-Support-Group-Edited.png
ORGANIZER;CN="Charlotte Trans Health":MAILTO:info@charlottetranshealth.org
END:VEVENT
BEGIN:VEVENT
DTSTART;TZID=America/New_York:20280920T183000
DTEND;TZID=America/New_York:20280920T193000
DTSTAMP:20260423T004229
CREATED:20250221T041055Z
LAST-MODIFIED:20260120T010404Z
UID:10001037-1853087400-1853091000@charlottetranshealth.org
SUMMARY:Therapist-Led Support Group
DESCRIPTION:  \nFor more information and to register\, please email eileen@charlottetranshealth.org.
URL:https://charlottetranshealth.org/event/therapist-led-support-group-2/2028-09-20/
CATEGORIES:In-Person,Support Group
ATTACH;FMTTYPE=image/png:https://charlottetranshealth.org/wp-content/uploads/2025/04/TGD-Support-Group-Edited.png
ORGANIZER;CN="Charlotte Trans Health":MAILTO:info@charlottetranshealth.org
END:VEVENT
BEGIN:VEVENT
DTSTART;TZID=America/New_York:20281004T183000
DTEND;TZID=America/New_York:20281004T193000
DTSTAMP:20260423T004229
CREATED:20250430T004541Z
LAST-MODIFIED:20250430T004839Z
UID:10000175-1854297000-1854300600@charlottetranshealth.org
SUMMARY:Therapist-Led Support Group
DESCRIPTION:  \nFor more information and to register\, please email eileen@charlottetranshealth.org.
URL:https://charlottetranshealth.org/event/therapist-led-support-group-3/2028-10-04/
CATEGORIES:Support Group
ATTACH;FMTTYPE=image/png:https://charlottetranshealth.org/wp-content/uploads/2025/04/TGD-Support-Group-Edited.png
ORGANIZER;CN="Charlotte Trans Health":MAILTO:info@charlottetranshealth.org
END:VEVENT
BEGIN:VEVENT
DTSTART;TZID=America/New_York:20281018T183000
DTEND;TZID=America/New_York:20281018T193000
DTSTAMP:20260423T004229
CREATED:20250221T041055Z
LAST-MODIFIED:20260120T010404Z
UID:10001038-1855506600-1855510200@charlottetranshealth.org
SUMMARY:Therapist-Led Support Group
DESCRIPTION:  \nFor more information and to register\, please email eileen@charlottetranshealth.org.
URL:https://charlottetranshealth.org/event/therapist-led-support-group-2/2028-10-18/
CATEGORIES:In-Person,Support Group
ATTACH;FMTTYPE=image/png:https://charlottetranshealth.org/wp-content/uploads/2025/04/TGD-Support-Group-Edited.png
ORGANIZER;CN="Charlotte Trans Health":MAILTO:info@charlottetranshealth.org
END:VEVENT
BEGIN:VEVENT
DTSTART;TZID=America/New_York:20281101T183000
DTEND;TZID=America/New_York:20281101T193000
DTSTAMP:20260423T004229
CREATED:20250430T004541Z
LAST-MODIFIED:20250430T004839Z
UID:10000176-1856716200-1856719800@charlottetranshealth.org
SUMMARY:Therapist-Led Support Group
DESCRIPTION:  \nFor more information and to register\, please email eileen@charlottetranshealth.org.
URL:https://charlottetranshealth.org/event/therapist-led-support-group-3/2028-11-01/
CATEGORIES:Support Group
ATTACH;FMTTYPE=image/png:https://charlottetranshealth.org/wp-content/uploads/2025/04/TGD-Support-Group-Edited.png
ORGANIZER;CN="Charlotte Trans Health":MAILTO:info@charlottetranshealth.org
END:VEVENT
BEGIN:VEVENT
DTSTART;TZID=America/New_York:20281115T183000
DTEND;TZID=America/New_York:20281115T193000
DTSTAMP:20260423T004229
CREATED:20250221T041055Z
LAST-MODIFIED:20260120T010404Z
UID:10001039-1857925800-1857929400@charlottetranshealth.org
SUMMARY:Therapist-Led Support Group
DESCRIPTION:  \nFor more information and to register\, please email eileen@charlottetranshealth.org.
URL:https://charlottetranshealth.org/event/therapist-led-support-group-2/2028-11-15/
CATEGORIES:In-Person,Support Group
ATTACH;FMTTYPE=image/png:https://charlottetranshealth.org/wp-content/uploads/2025/04/TGD-Support-Group-Edited.png
ORGANIZER;CN="Charlotte Trans Health":MAILTO:info@charlottetranshealth.org
END:VEVENT
BEGIN:VEVENT
DTSTART;TZID=America/New_York:20281206T183000
DTEND;TZID=America/New_York:20281206T193000
DTSTAMP:20260423T004229
CREATED:20250430T004541Z
LAST-MODIFIED:20250430T004839Z
UID:10000177-1859740200-1859743800@charlottetranshealth.org
SUMMARY:Therapist-Led Support Group
DESCRIPTION:  \nFor more information and to register\, please email eileen@charlottetranshealth.org.
URL:https://charlottetranshealth.org/event/therapist-led-support-group-3/2028-12-06/
CATEGORIES:Support Group
ATTACH;FMTTYPE=image/png:https://charlottetranshealth.org/wp-content/uploads/2025/04/TGD-Support-Group-Edited.png
ORGANIZER;CN="Charlotte Trans Health":MAILTO:info@charlottetranshealth.org
END:VEVENT
BEGIN:VEVENT
DTSTART;TZID=America/New_York:20281220T183000
DTEND;TZID=America/New_York:20281220T193000
DTSTAMP:20260423T004229
CREATED:20250221T041055Z
LAST-MODIFIED:20260120T010404Z
UID:10001040-1860949800-1860953400@charlottetranshealth.org
SUMMARY:Therapist-Led Support Group
DESCRIPTION:  \nFor more information and to register\, please email eileen@charlottetranshealth.org.
URL:https://charlottetranshealth.org/event/therapist-led-support-group-2/2028-12-20/
CATEGORIES:In-Person,Support Group
ATTACH;FMTTYPE=image/png:https://charlottetranshealth.org/wp-content/uploads/2025/04/TGD-Support-Group-Edited.png
ORGANIZER;CN="Charlotte Trans Health":MAILTO:info@charlottetranshealth.org
END:VEVENT
BEGIN:VEVENT
DTSTART;TZID=America/New_York:20290103T183000
DTEND;TZID=America/New_York:20290103T193000
DTSTAMP:20260423T004229
CREATED:20250430T004541Z
LAST-MODIFIED:20250430T004839Z
UID:10000178-1862159400-1862163000@charlottetranshealth.org
SUMMARY:Therapist-Led Support Group
DESCRIPTION:  \nFor more information and to register\, please email eileen@charlottetranshealth.org.
URL:https://charlottetranshealth.org/event/therapist-led-support-group-3/2029-01-03/
CATEGORIES:Support Group
ATTACH;FMTTYPE=image/png:https://charlottetranshealth.org/wp-content/uploads/2025/04/TGD-Support-Group-Edited.png
ORGANIZER;CN="Charlotte Trans Health":MAILTO:info@charlottetranshealth.org
END:VEVENT
BEGIN:VEVENT
DTSTART;TZID=America/New_York:20290117T183000
DTEND;TZID=America/New_York:20290117T193000
DTSTAMP:20260423T004229
CREATED:20250221T041055Z
LAST-MODIFIED:20260120T010404Z
UID:10001041-1863369000-1863372600@charlottetranshealth.org
SUMMARY:Therapist-Led Support Group
DESCRIPTION:  \nFor more information and to register\, please email eileen@charlottetranshealth.org.
URL:https://charlottetranshealth.org/event/therapist-led-support-group-2/2029-01-17/
CATEGORIES:In-Person,Support Group
ATTACH;FMTTYPE=image/png:https://charlottetranshealth.org/wp-content/uploads/2025/04/TGD-Support-Group-Edited.png
ORGANIZER;CN="Charlotte Trans Health":MAILTO:info@charlottetranshealth.org
END:VEVENT
END:VCALENDAR