BEGIN:VCALENDAR
VERSION:2.0
PRODID:-//Charlotte Trans Health - ECPv6.15.17.1//NONSGML v1.0//EN
CALSCALE:GREGORIAN
METHOD:PUBLISH
X-ORIGINAL-URL:https://charlottetranshealth.org
X-WR-CALDESC:Events for Charlotte Trans Health
REFRESH-INTERVAL;VALUE=DURATION:PT1H
X-Robots-Tag:noindex
X-PUBLISHED-TTL:PT1H
BEGIN:VTIMEZONE
TZID:America/New_York
BEGIN:DAYLIGHT
TZOFFSETFROM:-0500
TZOFFSETTO:-0400
TZNAME:EDT
DTSTART:20270314T070000
END:DAYLIGHT
BEGIN:STANDARD
TZOFFSETFROM:-0400
TZOFFSETTO:-0500
TZNAME:EST
DTSTART:20271107T060000
END:STANDARD
BEGIN:DAYLIGHT
TZOFFSETFROM:-0500
TZOFFSETTO:-0400
TZNAME:EDT
DTSTART:20280312T070000
END:DAYLIGHT
BEGIN:STANDARD
TZOFFSETFROM:-0400
TZOFFSETTO:-0500
TZNAME:EST
DTSTART:20281105T060000
END:STANDARD
BEGIN:DAYLIGHT
TZOFFSETFROM:-0500
TZOFFSETTO:-0400
TZNAME:EDT
DTSTART:20290311T070000
END:DAYLIGHT
BEGIN:STANDARD
TZOFFSETFROM:-0400
TZOFFSETTO:-0500
TZNAME:EST
DTSTART:20291104T060000
END:STANDARD
BEGIN:DAYLIGHT
TZOFFSETFROM:-0500
TZOFFSETTO:-0400
TZNAME:EDT
DTSTART:20300310T070000
END:DAYLIGHT
BEGIN:STANDARD
TZOFFSETFROM:-0400
TZOFFSETTO:-0500
TZNAME:EST
DTSTART:20301103T060000
END:STANDARD
END:VTIMEZONE
BEGIN:VEVENT
DTSTART;TZID=America/New_York:20280821T190000
DTEND;TZID=America/New_York:20280821T203000
DTSTAMP:20260423T121639
CREATED:20260120T010750Z
LAST-MODIFIED:20260120T011926Z
UID:10000045-1850497200-1850502600@charlottetranshealth.org
SUMMARY:Monthly Member Meeting
DESCRIPTION:Monthly meeting for current and prospective CTH member providers. Meetings are the 3rd Monday of every month\, except December. Meetings include educational topics\, article discussions\, networking\, and case consultations. For more info\, contact the Membership Chair at membership@charlottetranshealth.org. \nMeeting on 1/19/26 is moved to 1/26/26 due to MLK Holiday.
URL:https://charlottetranshealth.org/event/monthly-member-meeting-4/2028-08-21/
LOCATION:Virtual with Quarterly In-Person\, Charlotte\, NC\, United States
CATEGORIES:Education,Member Meetings
ATTACH;FMTTYPE=image/jpeg:https://charlottetranshealth.org/wp-content/uploads/2024/09/CTH_logo_purple_screen.jpg
ORGANIZER;CN="Charlotte Trans Health":MAILTO:info@charlottetranshealth.org
END:VEVENT
BEGIN:VEVENT
DTSTART;TZID=America/New_York:20280906T183000
DTEND;TZID=America/New_York:20280906T193000
DTSTAMP:20260423T121639
CREATED:20250430T004541Z
LAST-MODIFIED:20250430T004839Z
UID:10000174-1851877800-1851881400@charlottetranshealth.org
SUMMARY:Therapist-Led Support Group
DESCRIPTION:  \nFor more information and to register\, please email eileen@charlottetranshealth.org.
URL:https://charlottetranshealth.org/event/therapist-led-support-group-3/2028-09-06/
CATEGORIES:Support Group
ATTACH;FMTTYPE=image/png:https://charlottetranshealth.org/wp-content/uploads/2025/04/TGD-Support-Group-Edited.png
ORGANIZER;CN="Charlotte Trans Health":MAILTO:info@charlottetranshealth.org
END:VEVENT
BEGIN:VEVENT
DTSTART;TZID=America/New_York:20280918T190000
DTEND;TZID=America/New_York:20280918T203000
DTSTAMP:20260423T121639
CREATED:20260120T010750Z
LAST-MODIFIED:20260120T011926Z
UID:10000046-1852916400-1852921800@charlottetranshealth.org
SUMMARY:Monthly Member Meeting
DESCRIPTION:Monthly meeting for current and prospective CTH member providers. Meetings are the 3rd Monday of every month\, except December. Meetings include educational topics\, article discussions\, networking\, and case consultations. For more info\, contact the Membership Chair at membership@charlottetranshealth.org. \nMeeting on 1/19/26 is moved to 1/26/26 due to MLK Holiday.
URL:https://charlottetranshealth.org/event/monthly-member-meeting-4/2028-09-18/
LOCATION:Virtual with Quarterly In-Person\, Charlotte\, NC\, United States
CATEGORIES:Education,Member Meetings
ATTACH;FMTTYPE=image/jpeg:https://charlottetranshealth.org/wp-content/uploads/2024/09/CTH_logo_purple_screen.jpg
ORGANIZER;CN="Charlotte Trans Health":MAILTO:info@charlottetranshealth.org
END:VEVENT
BEGIN:VEVENT
DTSTART;TZID=America/New_York:20280920T183000
DTEND;TZID=America/New_York:20280920T193000
DTSTAMP:20260423T121639
CREATED:20250221T041055Z
LAST-MODIFIED:20260120T010404Z
UID:10001037-1853087400-1853091000@charlottetranshealth.org
SUMMARY:Therapist-Led Support Group
DESCRIPTION:  \nFor more information and to register\, please email eileen@charlottetranshealth.org.
URL:https://charlottetranshealth.org/event/therapist-led-support-group-2/2028-09-20/
CATEGORIES:In-Person,Support Group
ATTACH;FMTTYPE=image/png:https://charlottetranshealth.org/wp-content/uploads/2025/04/TGD-Support-Group-Edited.png
ORGANIZER;CN="Charlotte Trans Health":MAILTO:info@charlottetranshealth.org
END:VEVENT
BEGIN:VEVENT
DTSTART;TZID=America/New_York:20281004T183000
DTEND;TZID=America/New_York:20281004T193000
DTSTAMP:20260423T121639
CREATED:20250430T004541Z
LAST-MODIFIED:20250430T004839Z
UID:10000175-1854297000-1854300600@charlottetranshealth.org
SUMMARY:Therapist-Led Support Group
DESCRIPTION:  \nFor more information and to register\, please email eileen@charlottetranshealth.org.
URL:https://charlottetranshealth.org/event/therapist-led-support-group-3/2028-10-04/
CATEGORIES:Support Group
ATTACH;FMTTYPE=image/png:https://charlottetranshealth.org/wp-content/uploads/2025/04/TGD-Support-Group-Edited.png
ORGANIZER;CN="Charlotte Trans Health":MAILTO:info@charlottetranshealth.org
END:VEVENT
BEGIN:VEVENT
DTSTART;TZID=America/New_York:20281016T190000
DTEND;TZID=America/New_York:20281016T203000
DTSTAMP:20260423T121639
CREATED:20260120T010750Z
LAST-MODIFIED:20260120T011926Z
UID:10000047-1855335600-1855341000@charlottetranshealth.org
SUMMARY:Monthly Member Meeting
DESCRIPTION:Monthly meeting for current and prospective CTH member providers. Meetings are the 3rd Monday of every month\, except December. Meetings include educational topics\, article discussions\, networking\, and case consultations. For more info\, contact the Membership Chair at membership@charlottetranshealth.org. \nMeeting on 1/19/26 is moved to 1/26/26 due to MLK Holiday.
URL:https://charlottetranshealth.org/event/monthly-member-meeting-4/2028-10-16/
LOCATION:Virtual with Quarterly In-Person\, Charlotte\, NC\, United States
CATEGORIES:Education,Member Meetings
ATTACH;FMTTYPE=image/jpeg:https://charlottetranshealth.org/wp-content/uploads/2024/09/CTH_logo_purple_screen.jpg
ORGANIZER;CN="Charlotte Trans Health":MAILTO:info@charlottetranshealth.org
END:VEVENT
BEGIN:VEVENT
DTSTART;TZID=America/New_York:20281018T183000
DTEND;TZID=America/New_York:20281018T193000
DTSTAMP:20260423T121639
CREATED:20250221T041055Z
LAST-MODIFIED:20260120T010404Z
UID:10001038-1855506600-1855510200@charlottetranshealth.org
SUMMARY:Therapist-Led Support Group
DESCRIPTION:  \nFor more information and to register\, please email eileen@charlottetranshealth.org.
URL:https://charlottetranshealth.org/event/therapist-led-support-group-2/2028-10-18/
CATEGORIES:In-Person,Support Group
ATTACH;FMTTYPE=image/png:https://charlottetranshealth.org/wp-content/uploads/2025/04/TGD-Support-Group-Edited.png
ORGANIZER;CN="Charlotte Trans Health":MAILTO:info@charlottetranshealth.org
END:VEVENT
BEGIN:VEVENT
DTSTART;TZID=America/New_York:20281101T183000
DTEND;TZID=America/New_York:20281101T193000
DTSTAMP:20260423T121639
CREATED:20250430T004541Z
LAST-MODIFIED:20250430T004839Z
UID:10000176-1856716200-1856719800@charlottetranshealth.org
SUMMARY:Therapist-Led Support Group
DESCRIPTION:  \nFor more information and to register\, please email eileen@charlottetranshealth.org.
URL:https://charlottetranshealth.org/event/therapist-led-support-group-3/2028-11-01/
CATEGORIES:Support Group
ATTACH;FMTTYPE=image/png:https://charlottetranshealth.org/wp-content/uploads/2025/04/TGD-Support-Group-Edited.png
ORGANIZER;CN="Charlotte Trans Health":MAILTO:info@charlottetranshealth.org
END:VEVENT
BEGIN:VEVENT
DTSTART;TZID=America/New_York:20281115T183000
DTEND;TZID=America/New_York:20281115T193000
DTSTAMP:20260423T121639
CREATED:20250221T041055Z
LAST-MODIFIED:20260120T010404Z
UID:10001039-1857925800-1857929400@charlottetranshealth.org
SUMMARY:Therapist-Led Support Group
DESCRIPTION:  \nFor more information and to register\, please email eileen@charlottetranshealth.org.
URL:https://charlottetranshealth.org/event/therapist-led-support-group-2/2028-11-15/
CATEGORIES:In-Person,Support Group
ATTACH;FMTTYPE=image/png:https://charlottetranshealth.org/wp-content/uploads/2025/04/TGD-Support-Group-Edited.png
ORGANIZER;CN="Charlotte Trans Health":MAILTO:info@charlottetranshealth.org
END:VEVENT
BEGIN:VEVENT
DTSTART;TZID=America/New_York:20281120T190000
DTEND;TZID=America/New_York:20281120T203000
DTSTAMP:20260423T121639
CREATED:20260120T010750Z
LAST-MODIFIED:20260120T011926Z
UID:10000048-1858359600-1858365000@charlottetranshealth.org
SUMMARY:Monthly Member Meeting
DESCRIPTION:Monthly meeting for current and prospective CTH member providers. Meetings are the 3rd Monday of every month\, except December. Meetings include educational topics\, article discussions\, networking\, and case consultations. For more info\, contact the Membership Chair at membership@charlottetranshealth.org. \nMeeting on 1/19/26 is moved to 1/26/26 due to MLK Holiday.
URL:https://charlottetranshealth.org/event/monthly-member-meeting-4/2028-11-20/
LOCATION:Virtual with Quarterly In-Person\, Charlotte\, NC\, United States
CATEGORIES:Education,Member Meetings
ATTACH;FMTTYPE=image/jpeg:https://charlottetranshealth.org/wp-content/uploads/2024/09/CTH_logo_purple_screen.jpg
ORGANIZER;CN="Charlotte Trans Health":MAILTO:info@charlottetranshealth.org
END:VEVENT
BEGIN:VEVENT
DTSTART;TZID=America/New_York:20281206T183000
DTEND;TZID=America/New_York:20281206T193000
DTSTAMP:20260423T121639
CREATED:20250430T004541Z
LAST-MODIFIED:20250430T004839Z
UID:10000177-1859740200-1859743800@charlottetranshealth.org
SUMMARY:Therapist-Led Support Group
DESCRIPTION:  \nFor more information and to register\, please email eileen@charlottetranshealth.org.
URL:https://charlottetranshealth.org/event/therapist-led-support-group-3/2028-12-06/
CATEGORIES:Support Group
ATTACH;FMTTYPE=image/png:https://charlottetranshealth.org/wp-content/uploads/2025/04/TGD-Support-Group-Edited.png
ORGANIZER;CN="Charlotte Trans Health":MAILTO:info@charlottetranshealth.org
END:VEVENT
BEGIN:VEVENT
DTSTART;TZID=America/New_York:20281220T183000
DTEND;TZID=America/New_York:20281220T193000
DTSTAMP:20260423T121639
CREATED:20250221T041055Z
LAST-MODIFIED:20260120T010404Z
UID:10001040-1860949800-1860953400@charlottetranshealth.org
SUMMARY:Therapist-Led Support Group
DESCRIPTION:  \nFor more information and to register\, please email eileen@charlottetranshealth.org.
URL:https://charlottetranshealth.org/event/therapist-led-support-group-2/2028-12-20/
CATEGORIES:In-Person,Support Group
ATTACH;FMTTYPE=image/png:https://charlottetranshealth.org/wp-content/uploads/2025/04/TGD-Support-Group-Edited.png
ORGANIZER;CN="Charlotte Trans Health":MAILTO:info@charlottetranshealth.org
END:VEVENT
BEGIN:VEVENT
DTSTART;TZID=America/New_York:20290103T183000
DTEND;TZID=America/New_York:20290103T193000
DTSTAMP:20260423T121639
CREATED:20250430T004541Z
LAST-MODIFIED:20250430T004839Z
UID:10000178-1862159400-1862163000@charlottetranshealth.org
SUMMARY:Therapist-Led Support Group
DESCRIPTION:  \nFor more information and to register\, please email eileen@charlottetranshealth.org.
URL:https://charlottetranshealth.org/event/therapist-led-support-group-3/2029-01-03/
CATEGORIES:Support Group
ATTACH;FMTTYPE=image/png:https://charlottetranshealth.org/wp-content/uploads/2025/04/TGD-Support-Group-Edited.png
ORGANIZER;CN="Charlotte Trans Health":MAILTO:info@charlottetranshealth.org
END:VEVENT
BEGIN:VEVENT
DTSTART;TZID=America/New_York:20290115T190000
DTEND;TZID=America/New_York:20290115T203000
DTSTAMP:20260423T121639
CREATED:20260120T010750Z
LAST-MODIFIED:20260120T011926Z
UID:10000049-1863198000-1863203400@charlottetranshealth.org
SUMMARY:Monthly Member Meeting
DESCRIPTION:Monthly meeting for current and prospective CTH member providers. Meetings are the 3rd Monday of every month\, except December. Meetings include educational topics\, article discussions\, networking\, and case consultations. For more info\, contact the Membership Chair at membership@charlottetranshealth.org. \nMeeting on 1/19/26 is moved to 1/26/26 due to MLK Holiday.
URL:https://charlottetranshealth.org/event/monthly-member-meeting-4/2029-01-15/
LOCATION:Virtual with Quarterly In-Person\, Charlotte\, NC\, United States
CATEGORIES:Education,Member Meetings
ATTACH;FMTTYPE=image/jpeg:https://charlottetranshealth.org/wp-content/uploads/2024/09/CTH_logo_purple_screen.jpg
ORGANIZER;CN="Charlotte Trans Health":MAILTO:info@charlottetranshealth.org
END:VEVENT
BEGIN:VEVENT
DTSTART;TZID=America/New_York:20290117T183000
DTEND;TZID=America/New_York:20290117T193000
DTSTAMP:20260423T121639
CREATED:20250221T041055Z
LAST-MODIFIED:20260120T010404Z
UID:10001041-1863369000-1863372600@charlottetranshealth.org
SUMMARY:Therapist-Led Support Group
DESCRIPTION:  \nFor more information and to register\, please email eileen@charlottetranshealth.org.
URL:https://charlottetranshealth.org/event/therapist-led-support-group-2/2029-01-17/
CATEGORIES:In-Person,Support Group
ATTACH;FMTTYPE=image/png:https://charlottetranshealth.org/wp-content/uploads/2025/04/TGD-Support-Group-Edited.png
ORGANIZER;CN="Charlotte Trans Health":MAILTO:info@charlottetranshealth.org
END:VEVENT
BEGIN:VEVENT
DTSTART;TZID=America/New_York:20290207T183000
DTEND;TZID=America/New_York:20290207T193000
DTSTAMP:20260423T121639
CREATED:20250430T004541Z
LAST-MODIFIED:20250430T004839Z
UID:10000179-1865183400-1865187000@charlottetranshealth.org
SUMMARY:Therapist-Led Support Group
DESCRIPTION:  \nFor more information and to register\, please email eileen@charlottetranshealth.org.
URL:https://charlottetranshealth.org/event/therapist-led-support-group-3/2029-02-07/
CATEGORIES:Support Group
ATTACH;FMTTYPE=image/png:https://charlottetranshealth.org/wp-content/uploads/2025/04/TGD-Support-Group-Edited.png
ORGANIZER;CN="Charlotte Trans Health":MAILTO:info@charlottetranshealth.org
END:VEVENT
BEGIN:VEVENT
DTSTART;TZID=America/New_York:20290219T190000
DTEND;TZID=America/New_York:20290219T203000
DTSTAMP:20260423T121639
CREATED:20260120T010750Z
LAST-MODIFIED:20260120T011926Z
UID:10000050-1866222000-1866227400@charlottetranshealth.org
SUMMARY:Monthly Member Meeting
DESCRIPTION:Monthly meeting for current and prospective CTH member providers. Meetings are the 3rd Monday of every month\, except December. Meetings include educational topics\, article discussions\, networking\, and case consultations. For more info\, contact the Membership Chair at membership@charlottetranshealth.org. \nMeeting on 1/19/26 is moved to 1/26/26 due to MLK Holiday.
URL:https://charlottetranshealth.org/event/monthly-member-meeting-4/2029-02-19/
LOCATION:Virtual with Quarterly In-Person\, Charlotte\, NC\, United States
CATEGORIES:Education,Member Meetings
ATTACH;FMTTYPE=image/jpeg:https://charlottetranshealth.org/wp-content/uploads/2024/09/CTH_logo_purple_screen.jpg
ORGANIZER;CN="Charlotte Trans Health":MAILTO:info@charlottetranshealth.org
END:VEVENT
BEGIN:VEVENT
DTSTART;TZID=America/New_York:20290221T183000
DTEND;TZID=America/New_York:20290221T193000
DTSTAMP:20260423T121639
CREATED:20250221T041055Z
LAST-MODIFIED:20260120T010404Z
UID:10001042-1866393000-1866396600@charlottetranshealth.org
SUMMARY:Therapist-Led Support Group
DESCRIPTION:  \nFor more information and to register\, please email eileen@charlottetranshealth.org.
URL:https://charlottetranshealth.org/event/therapist-led-support-group-2/2029-02-21/
CATEGORIES:In-Person,Support Group
ATTACH;FMTTYPE=image/png:https://charlottetranshealth.org/wp-content/uploads/2025/04/TGD-Support-Group-Edited.png
ORGANIZER;CN="Charlotte Trans Health":MAILTO:info@charlottetranshealth.org
END:VEVENT
BEGIN:VEVENT
DTSTART;TZID=America/New_York:20290307T183000
DTEND;TZID=America/New_York:20290307T193000
DTSTAMP:20260423T121639
CREATED:20250430T004541Z
LAST-MODIFIED:20250430T004839Z
UID:10000180-1867602600-1867606200@charlottetranshealth.org
SUMMARY:Therapist-Led Support Group
DESCRIPTION:  \nFor more information and to register\, please email eileen@charlottetranshealth.org.
URL:https://charlottetranshealth.org/event/therapist-led-support-group-3/2029-03-07/
CATEGORIES:Support Group
ATTACH;FMTTYPE=image/png:https://charlottetranshealth.org/wp-content/uploads/2025/04/TGD-Support-Group-Edited.png
ORGANIZER;CN="Charlotte Trans Health":MAILTO:info@charlottetranshealth.org
END:VEVENT
BEGIN:VEVENT
DTSTART;TZID=America/New_York:20290319T190000
DTEND;TZID=America/New_York:20290319T203000
DTSTAMP:20260423T121639
CREATED:20260120T010750Z
LAST-MODIFIED:20260120T011926Z
UID:10000051-1868641200-1868646600@charlottetranshealth.org
SUMMARY:Monthly Member Meeting
DESCRIPTION:Monthly meeting for current and prospective CTH member providers. Meetings are the 3rd Monday of every month\, except December. Meetings include educational topics\, article discussions\, networking\, and case consultations. For more info\, contact the Membership Chair at membership@charlottetranshealth.org. \nMeeting on 1/19/26 is moved to 1/26/26 due to MLK Holiday.
URL:https://charlottetranshealth.org/event/monthly-member-meeting-4/2029-03-19/
LOCATION:Virtual with Quarterly In-Person\, Charlotte\, NC\, United States
CATEGORIES:Education,Member Meetings
ATTACH;FMTTYPE=image/jpeg:https://charlottetranshealth.org/wp-content/uploads/2024/09/CTH_logo_purple_screen.jpg
ORGANIZER;CN="Charlotte Trans Health":MAILTO:info@charlottetranshealth.org
END:VEVENT
BEGIN:VEVENT
DTSTART;TZID=America/New_York:20290321T183000
DTEND;TZID=America/New_York:20290321T193000
DTSTAMP:20260423T121639
CREATED:20250221T041055Z
LAST-MODIFIED:20260120T010404Z
UID:10001043-1868812200-1868815800@charlottetranshealth.org
SUMMARY:Therapist-Led Support Group
DESCRIPTION:  \nFor more information and to register\, please email eileen@charlottetranshealth.org.
URL:https://charlottetranshealth.org/event/therapist-led-support-group-2/2029-03-21/
CATEGORIES:In-Person,Support Group
ATTACH;FMTTYPE=image/png:https://charlottetranshealth.org/wp-content/uploads/2025/04/TGD-Support-Group-Edited.png
ORGANIZER;CN="Charlotte Trans Health":MAILTO:info@charlottetranshealth.org
END:VEVENT
BEGIN:VEVENT
DTSTART;TZID=America/New_York:20290404T183000
DTEND;TZID=America/New_York:20290404T193000
DTSTAMP:20260423T121639
CREATED:20250430T004541Z
LAST-MODIFIED:20250430T004839Z
UID:10000181-1870021800-1870025400@charlottetranshealth.org
SUMMARY:Therapist-Led Support Group
DESCRIPTION:  \nFor more information and to register\, please email eileen@charlottetranshealth.org.
URL:https://charlottetranshealth.org/event/therapist-led-support-group-3/2029-04-04/
CATEGORIES:Support Group
ATTACH;FMTTYPE=image/png:https://charlottetranshealth.org/wp-content/uploads/2025/04/TGD-Support-Group-Edited.png
ORGANIZER;CN="Charlotte Trans Health":MAILTO:info@charlottetranshealth.org
END:VEVENT
BEGIN:VEVENT
DTSTART;TZID=America/New_York:20290416T190000
DTEND;TZID=America/New_York:20290416T203000
DTSTAMP:20260423T121639
CREATED:20260120T010750Z
LAST-MODIFIED:20260120T011926Z
UID:10000052-1871060400-1871065800@charlottetranshealth.org
SUMMARY:Monthly Member Meeting
DESCRIPTION:Monthly meeting for current and prospective CTH member providers. Meetings are the 3rd Monday of every month\, except December. Meetings include educational topics\, article discussions\, networking\, and case consultations. For more info\, contact the Membership Chair at membership@charlottetranshealth.org. \nMeeting on 1/19/26 is moved to 1/26/26 due to MLK Holiday.
URL:https://charlottetranshealth.org/event/monthly-member-meeting-4/2029-04-16/
LOCATION:Virtual with Quarterly In-Person\, Charlotte\, NC\, United States
CATEGORIES:Education,Member Meetings
ATTACH;FMTTYPE=image/jpeg:https://charlottetranshealth.org/wp-content/uploads/2024/09/CTH_logo_purple_screen.jpg
ORGANIZER;CN="Charlotte Trans Health":MAILTO:info@charlottetranshealth.org
END:VEVENT
BEGIN:VEVENT
DTSTART;TZID=America/New_York:20290418T183000
DTEND;TZID=America/New_York:20290418T193000
DTSTAMP:20260423T121639
CREATED:20250221T041055Z
LAST-MODIFIED:20260120T010404Z
UID:10001044-1871231400-1871235000@charlottetranshealth.org
SUMMARY:Therapist-Led Support Group
DESCRIPTION:  \nFor more information and to register\, please email eileen@charlottetranshealth.org.
URL:https://charlottetranshealth.org/event/therapist-led-support-group-2/2029-04-18/
CATEGORIES:In-Person,Support Group
ATTACH;FMTTYPE=image/png:https://charlottetranshealth.org/wp-content/uploads/2025/04/TGD-Support-Group-Edited.png
ORGANIZER;CN="Charlotte Trans Health":MAILTO:info@charlottetranshealth.org
END:VEVENT
BEGIN:VEVENT
DTSTART;TZID=America/New_York:20290502T183000
DTEND;TZID=America/New_York:20290502T193000
DTSTAMP:20260423T121639
CREATED:20250430T004541Z
LAST-MODIFIED:20250430T004839Z
UID:10000182-1872441000-1872444600@charlottetranshealth.org
SUMMARY:Therapist-Led Support Group
DESCRIPTION:  \nFor more information and to register\, please email eileen@charlottetranshealth.org.
URL:https://charlottetranshealth.org/event/therapist-led-support-group-3/2029-05-02/
CATEGORIES:Support Group
ATTACH;FMTTYPE=image/png:https://charlottetranshealth.org/wp-content/uploads/2025/04/TGD-Support-Group-Edited.png
ORGANIZER;CN="Charlotte Trans Health":MAILTO:info@charlottetranshealth.org
END:VEVENT
BEGIN:VEVENT
DTSTART;TZID=America/New_York:20290516T183000
DTEND;TZID=America/New_York:20290516T193000
DTSTAMP:20260423T121639
CREATED:20250221T041055Z
LAST-MODIFIED:20260120T010404Z
UID:10001045-1873650600-1873654200@charlottetranshealth.org
SUMMARY:Therapist-Led Support Group
DESCRIPTION:  \nFor more information and to register\, please email eileen@charlottetranshealth.org.
URL:https://charlottetranshealth.org/event/therapist-led-support-group-2/2029-05-16/
CATEGORIES:In-Person,Support Group
ATTACH;FMTTYPE=image/png:https://charlottetranshealth.org/wp-content/uploads/2025/04/TGD-Support-Group-Edited.png
ORGANIZER;CN="Charlotte Trans Health":MAILTO:info@charlottetranshealth.org
END:VEVENT
BEGIN:VEVENT
DTSTART;TZID=America/New_York:20290521T190000
DTEND;TZID=America/New_York:20290521T203000
DTSTAMP:20260423T121639
CREATED:20260120T010750Z
LAST-MODIFIED:20260120T011926Z
UID:10000053-1874084400-1874089800@charlottetranshealth.org
SUMMARY:Monthly Member Meeting
DESCRIPTION:Monthly meeting for current and prospective CTH member providers. Meetings are the 3rd Monday of every month\, except December. Meetings include educational topics\, article discussions\, networking\, and case consultations. For more info\, contact the Membership Chair at membership@charlottetranshealth.org. \nMeeting on 1/19/26 is moved to 1/26/26 due to MLK Holiday.
URL:https://charlottetranshealth.org/event/monthly-member-meeting-4/2029-05-21/
LOCATION:Virtual with Quarterly In-Person\, Charlotte\, NC\, United States
CATEGORIES:Education,Member Meetings
ATTACH;FMTTYPE=image/jpeg:https://charlottetranshealth.org/wp-content/uploads/2024/09/CTH_logo_purple_screen.jpg
ORGANIZER;CN="Charlotte Trans Health":MAILTO:info@charlottetranshealth.org
END:VEVENT
BEGIN:VEVENT
DTSTART;TZID=America/New_York:20290606T183000
DTEND;TZID=America/New_York:20290606T193000
DTSTAMP:20260423T121639
CREATED:20250430T004541Z
LAST-MODIFIED:20250430T004839Z
UID:10000183-1875465000-1875468600@charlottetranshealth.org
SUMMARY:Therapist-Led Support Group
DESCRIPTION:  \nFor more information and to register\, please email eileen@charlottetranshealth.org.
URL:https://charlottetranshealth.org/event/therapist-led-support-group-3/2029-06-06/
CATEGORIES:Support Group
ATTACH;FMTTYPE=image/png:https://charlottetranshealth.org/wp-content/uploads/2025/04/TGD-Support-Group-Edited.png
ORGANIZER;CN="Charlotte Trans Health":MAILTO:info@charlottetranshealth.org
END:VEVENT
BEGIN:VEVENT
DTSTART;TZID=America/New_York:20290618T190000
DTEND;TZID=America/New_York:20290618T203000
DTSTAMP:20260423T121639
CREATED:20260120T010750Z
LAST-MODIFIED:20260120T011926Z
UID:10000054-1876503600-1876509000@charlottetranshealth.org
SUMMARY:Monthly Member Meeting
DESCRIPTION:Monthly meeting for current and prospective CTH member providers. Meetings are the 3rd Monday of every month\, except December. Meetings include educational topics\, article discussions\, networking\, and case consultations. For more info\, contact the Membership Chair at membership@charlottetranshealth.org. \nMeeting on 1/19/26 is moved to 1/26/26 due to MLK Holiday.
URL:https://charlottetranshealth.org/event/monthly-member-meeting-4/2029-06-18/
LOCATION:Virtual with Quarterly In-Person\, Charlotte\, NC\, United States
CATEGORIES:Education,Member Meetings
ATTACH;FMTTYPE=image/jpeg:https://charlottetranshealth.org/wp-content/uploads/2024/09/CTH_logo_purple_screen.jpg
ORGANIZER;CN="Charlotte Trans Health":MAILTO:info@charlottetranshealth.org
END:VEVENT
BEGIN:VEVENT
DTSTART;TZID=America/New_York:20290620T183000
DTEND;TZID=America/New_York:20290620T193000
DTSTAMP:20260423T121639
CREATED:20250221T041055Z
LAST-MODIFIED:20260120T010404Z
UID:10001046-1876674600-1876678200@charlottetranshealth.org
SUMMARY:Therapist-Led Support Group
DESCRIPTION:  \nFor more information and to register\, please email eileen@charlottetranshealth.org.
URL:https://charlottetranshealth.org/event/therapist-led-support-group-2/2029-06-20/
CATEGORIES:In-Person,Support Group
ATTACH;FMTTYPE=image/png:https://charlottetranshealth.org/wp-content/uploads/2025/04/TGD-Support-Group-Edited.png
ORGANIZER;CN="Charlotte Trans Health":MAILTO:info@charlottetranshealth.org
END:VEVENT
END:VCALENDAR