BEGIN:VCALENDAR
VERSION:2.0
PRODID:-//Charlotte Trans Health - ECPv6.15.17.1//NONSGML v1.0//EN
CALSCALE:GREGORIAN
METHOD:PUBLISH
X-ORIGINAL-URL:https://charlottetranshealth.org
X-WR-CALDESC:Events for Charlotte Trans Health
REFRESH-INTERVAL;VALUE=DURATION:PT1H
X-Robots-Tag:noindex
X-PUBLISHED-TTL:PT1H
BEGIN:VTIMEZONE
TZID:America/New_York
BEGIN:DAYLIGHT
TZOFFSETFROM:-0500
TZOFFSETTO:-0400
TZNAME:EDT
DTSTART:20230312T070000
END:DAYLIGHT
BEGIN:STANDARD
TZOFFSETFROM:-0400
TZOFFSETTO:-0500
TZNAME:EST
DTSTART:20231105T060000
END:STANDARD
BEGIN:DAYLIGHT
TZOFFSETFROM:-0500
TZOFFSETTO:-0400
TZNAME:EDT
DTSTART:20240310T070000
END:DAYLIGHT
BEGIN:STANDARD
TZOFFSETFROM:-0400
TZOFFSETTO:-0500
TZNAME:EST
DTSTART:20241103T060000
END:STANDARD
BEGIN:DAYLIGHT
TZOFFSETFROM:-0500
TZOFFSETTO:-0400
TZNAME:EDT
DTSTART:20250309T070000
END:DAYLIGHT
BEGIN:STANDARD
TZOFFSETFROM:-0400
TZOFFSETTO:-0500
TZNAME:EST
DTSTART:20251102T060000
END:STANDARD
BEGIN:DAYLIGHT
TZOFFSETFROM:-0500
TZOFFSETTO:-0400
TZNAME:EDT
DTSTART:20260308T070000
END:DAYLIGHT
BEGIN:STANDARD
TZOFFSETFROM:-0400
TZOFFSETTO:-0500
TZNAME:EST
DTSTART:20261101T060000
END:STANDARD
END:VTIMEZONE
BEGIN:VEVENT
DTSTART;TZID=America/New_York:20250618T183000
DTEND;TZID=America/New_York:20250618T193000
DTSTAMP:20260423T060452
CREATED:20250221T041055Z
LAST-MODIFIED:20260120T010404Z
UID:10000998-1750271400-1750275000@charlottetranshealth.org
SUMMARY:Therapist-Led Support Group
DESCRIPTION:  \nFor more information and to register\, please email eileen@charlottetranshealth.org.
URL:https://charlottetranshealth.org/event/therapist-led-support-group-2/2025-06-18/
LOCATION:NC
CATEGORIES:In-Person,Support Group
ATTACH;FMTTYPE=image/png:https://charlottetranshealth.org/wp-content/uploads/2025/04/TGD-Support-Group-Edited.png
ORGANIZER;CN="Charlotte Trans Health":MAILTO:info@charlottetranshealth.org
END:VEVENT
BEGIN:VEVENT
DTSTART;TZID=America/New_York:20250616T190000
DTEND;TZID=America/New_York:20250616T203000
DTSTAMP:20260423T060452
CREATED:20240902T021716Z
LAST-MODIFIED:20260120T010943Z
UID:10000010-1750100400-1750105800@charlottetranshealth.org
SUMMARY:Monthly Member Meeting
DESCRIPTION:Monthly meeting for current and prospective CTH member providers. Meetings are the 3rd Monday of every month\, except December. Meetings include educational topics\, article discussions\, networking\, and case consultations. For more info\, contact the Membership Chair at membership@charlottetranshealth.org.
URL:https://charlottetranshealth.org/event/monthly-member-meeting/2025-06-16/
LOCATION:Virtual with Quarterly In-Person\, Charlotte\, NC\, United States
CATEGORIES:Education,Member Meetings
ATTACH;FMTTYPE=image/jpeg:https://charlottetranshealth.org/wp-content/uploads/2024/09/CTH_logo_purple_screen.jpg
ORGANIZER;CN="Charlotte Trans Health":MAILTO:info@charlottetranshealth.org
END:VEVENT
BEGIN:VEVENT
DTSTART;TZID=America/New_York:20250613T130000
DTEND;TZID=America/New_York:20250613T190000
DTSTAMP:20260423T060452
CREATED:20250429T183104Z
LAST-MODIFIED:20250528T195723Z
UID:10000317-1749819600-1749841200@charlottetranshealth.org
SUMMARY:T.H.E. Field Day
DESCRIPTION:Join CTH and our partners on Friday\, June 13th for an afternoon of health education\, recreation and community building! This event will feature games\, movement workshops including self defense\, yoga\, and dance\, as well as presentations on diet\, exercise\, and holistic wellbeing facilitated by healthcare providers. Register here by 6/10 to help us ensure appropriate catering and preparation! \n  \nThis program is supported by Mecklenburg County with funds from the American Rescue Plan Act (ARPA).
URL:https://charlottetranshealth.org/event/t-h-e-field-day/
LOCATION:CPCC Central Campus\, 1300 Elizabeth Ave\, Charlotte\, 28205\, United States
CATEGORIES:Community Health Forum,In-Person,Social
ATTACH;FMTTYPE=image/png:https://charlottetranshealth.org/wp-content/uploads/2025/04/Social-media-1-announcement.png
ORGANIZER;CN="Charlotte Trans Health":MAILTO:info@charlottetranshealth.org
END:VEVENT
BEGIN:VEVENT
DTSTART;TZID=America/New_York:20250604T183000
DTEND;TZID=America/New_York:20250604T193000
DTSTAMP:20260423T060452
CREATED:20250430T004541Z
LAST-MODIFIED:20250430T004839Z
UID:10000135-1749061800-1749065400@charlottetranshealth.org
SUMMARY:Therapist-Led Support Group
DESCRIPTION:  \nFor more information and to register\, please email eileen@charlottetranshealth.org.
URL:https://charlottetranshealth.org/event/therapist-led-support-group-3/2025-06-04/
LOCATION:NC
CATEGORIES:Support Group
ATTACH;FMTTYPE=image/png:https://charlottetranshealth.org/wp-content/uploads/2025/04/TGD-Support-Group-Edited.png
ORGANIZER;CN="Charlotte Trans Health":MAILTO:info@charlottetranshealth.org
END:VEVENT
BEGIN:VEVENT
DTSTART;TZID=America/New_York:20250531T090000
DTEND;TZID=America/New_York:20250531T170000
DTSTAMP:20260423T060452
CREATED:20250430T003453Z
LAST-MODIFIED:20250430T003453Z
UID:10000318-1748682000-1748710800@charlottetranshealth.org
SUMMARY:Pups & Pride
DESCRIPTION:Join us for a weekend of canine disc fun at our 5th annual Pups & Pride event Saturday and UpDog Competition Sunday! This weekend\, we are celebrating the wonderful diversity of our dog sport community. We welcome all who may be interested in attending regardless of your sexual orientation. Pride is the promotion of the self-affirmation\, dignity\, equality\, and increased visibility of lesbian\, gay\, bisexual\, and transgender people.\n\nAll proceeds from the event are being donated to Charlotte Trans Health!\n\nStay up to date on all things Pups & Pride by visiting the Pups & Pride Facebook page.
URL:https://charlottetranshealth.org/event/pups-pride/
LOCATION:Quicksilver Canine\, 5600 Clarence Rd\, Julian\, 27283\, United States
CATEGORIES:Fundraising,In-Person,Social
ATTACH;FMTTYPE=image/jpeg:https://charlottetranshealth.org/wp-content/uploads/2025/04/pups-and-pride-logo.jpg
ORGANIZER;CN="Pups & Pride":MAILTO:pupsandpride@gmail.com
END:VEVENT
BEGIN:VEVENT
DTSTART;TZID=America/New_York:20250521T183000
DTEND;TZID=America/New_York:20250521T193000
DTSTAMP:20260423T060452
CREATED:20250221T041055Z
LAST-MODIFIED:20260120T010404Z
UID:10000997-1747852200-1747855800@charlottetranshealth.org
SUMMARY:Therapist-Led Support Group
DESCRIPTION:  \nFor more information and to register\, please email eileen@charlottetranshealth.org.
URL:https://charlottetranshealth.org/event/therapist-led-support-group-2/2025-05-21/
LOCATION:NC
CATEGORIES:In-Person,Support Group
ATTACH;FMTTYPE=image/png:https://charlottetranshealth.org/wp-content/uploads/2025/04/TGD-Support-Group-Edited.png
ORGANIZER;CN="Charlotte Trans Health":MAILTO:info@charlottetranshealth.org
END:VEVENT
BEGIN:VEVENT
DTSTART;TZID=America/New_York:20250519T190000
DTEND;TZID=America/New_York:20250519T203000
DTSTAMP:20260423T060452
CREATED:20240902T021716Z
LAST-MODIFIED:20260120T010943Z
UID:10000009-1747681200-1747686600@charlottetranshealth.org
SUMMARY:Monthly Member Meeting
DESCRIPTION:Monthly meeting for current and prospective CTH member providers. Meetings are the 3rd Monday of every month\, except December. Meetings include educational topics\, article discussions\, networking\, and case consultations. For more info\, contact the Membership Chair at membership@charlottetranshealth.org.
URL:https://charlottetranshealth.org/event/monthly-member-meeting/2025-05-19/
LOCATION:Virtual with Quarterly In-Person\, Charlotte\, NC\, United States
CATEGORIES:Education,Member Meetings
ATTACH;FMTTYPE=image/jpeg:https://charlottetranshealth.org/wp-content/uploads/2024/09/CTH_logo_purple_screen.jpg
ORGANIZER;CN="Charlotte Trans Health":MAILTO:info@charlottetranshealth.org
END:VEVENT
BEGIN:VEVENT
DTSTART;TZID=America/New_York:20250507T183000
DTEND;TZID=America/New_York:20250507T193000
DTSTAMP:20260423T060452
CREATED:20250430T004541Z
LAST-MODIFIED:20250430T004839Z
UID:10000134-1746642600-1746646200@charlottetranshealth.org
SUMMARY:Therapist-Led Support Group
DESCRIPTION:  \nFor more information and to register\, please email eileen@charlottetranshealth.org.
URL:https://charlottetranshealth.org/event/therapist-led-support-group-3/2025-05-07/
LOCATION:NC
CATEGORIES:Support Group
ATTACH;FMTTYPE=image/png:https://charlottetranshealth.org/wp-content/uploads/2025/04/TGD-Support-Group-Edited.png
ORGANIZER;CN="Charlotte Trans Health":MAILTO:info@charlottetranshealth.org
END:VEVENT
BEGIN:VEVENT
DTSTART;TZID=America/New_York:20250421T190000
DTEND;TZID=America/New_York:20250421T203000
DTSTAMP:20260423T060452
CREATED:20240902T021716Z
LAST-MODIFIED:20260120T010943Z
UID:10000008-1745262000-1745267400@charlottetranshealth.org
SUMMARY:Monthly Member Meeting
DESCRIPTION:Monthly meeting for current and prospective CTH member providers. Meetings are the 3rd Monday of every month\, except December. Meetings include educational topics\, article discussions\, networking\, and case consultations. For more info\, contact the Membership Chair at membership@charlottetranshealth.org.
URL:https://charlottetranshealth.org/event/monthly-member-meeting/2025-04-21/
LOCATION:Virtual with Quarterly In-Person\, Charlotte\, NC\, United States
CATEGORIES:Education,Member Meetings
ATTACH;FMTTYPE=image/jpeg:https://charlottetranshealth.org/wp-content/uploads/2024/09/CTH_logo_purple_screen.jpg
ORGANIZER;CN="Charlotte Trans Health":MAILTO:info@charlottetranshealth.org
END:VEVENT
BEGIN:VEVENT
DTSTART;TZID=America/New_York:20250416T183000
DTEND;TZID=America/New_York:20250416T193000
DTSTAMP:20260423T060452
CREATED:20250221T041055Z
LAST-MODIFIED:20260120T010404Z
UID:10000996-1744828200-1744831800@charlottetranshealth.org
SUMMARY:Therapist-Led Support Group
DESCRIPTION:  \nFor more information and to register\, please email eileen@charlottetranshealth.org.
URL:https://charlottetranshealth.org/event/therapist-led-support-group-2/2025-04-16/
LOCATION:NC
CATEGORIES:In-Person,Support Group
ATTACH;FMTTYPE=image/png:https://charlottetranshealth.org/wp-content/uploads/2025/04/TGD-Support-Group-Edited.png
ORGANIZER;CN="Charlotte Trans Health":MAILTO:info@charlottetranshealth.org
END:VEVENT
BEGIN:VEVENT
DTSTART;TZID=America/New_York:20250402T183000
DTEND;TZID=America/New_York:20250402T193000
DTSTAMP:20260423T060452
CREATED:20250221T040957Z
LAST-MODIFIED:20250310T005718Z
UID:10000133-1743618600-1743622200@charlottetranshealth.org
SUMMARY:Therapist-Led Support Group
DESCRIPTION:For more information and to register\, please email care@charlottetranshealth.org.
URL:https://charlottetranshealth.org/event/therapist-led-support-group/2025-04-02/
LOCATION:NC
CATEGORIES:Support Group
ORGANIZER;CN="Charlotte Trans Health":MAILTO:info@charlottetranshealth.org
END:VEVENT
BEGIN:VEVENT
DTSTART;TZID=America/New_York:20250331T180000
DTEND;TZID=America/New_York:20250331T200000
DTSTAMP:20260423T060452
CREATED:20250318T163657Z
LAST-MODIFIED:20250318T163717Z
UID:10000316-1743444000-1743451200@charlottetranshealth.org
SUMMARY:Christianity & Mental Health for TGD People
DESCRIPTION:Charlotte Trans Health invites you to join us at The Grove Presbyterian Church (5735 E W.T. Harris Blvd) on Monday March 31st (03/31/2025) at 6pm for a panel discussion on trans mental health in Christian organizations and communities. During the event\, trans faith leaders and mental health providers will discuss the relationship between mental health and spiritual well-being\, trans allyship for Christian organizations and communities\, and answer audience questions. The panel will be followed by food and fellowship. Please RSVP to indicate any dietary restrictions or request childcare during the event. Email info@charlottetranshealth.org with any questions!
URL:https://charlottetranshealth.org/event/christianity-mental-health-for-tgd-people/
LOCATION:The Grove Presbyterian Church\, 5735 E W.T. Harris Blvd\, Charlotte\, NC\, 28215\, United States
ORGANIZER;CN="Charlotte Trans Health":MAILTO:info@charlottetranshealth.org
END:VEVENT
BEGIN:VEVENT
DTSTART;TZID=America/New_York:20250330T130000
DTEND;TZID=America/New_York:20250330T170000
DTSTAMP:20260423T060452
CREATED:20250305T025737Z
LAST-MODIFIED:20250305T030044Z
UID:10000312-1743339600-1743354000@charlottetranshealth.org
SUMMARY:Kaleidoscope: TDOV Mini Market
DESCRIPTION:Join us for this free Trans and Non-Binary market! Participate in free gender-affirming services such as: \nHaircuts \nClothing\, accessories\, shoes\, etc. \nSTI testing and vaccines \nFood and housing resources \nJob assistance \nInsurance Information \nMassage Therapy \nGames & more! \nLight hors d’oeuvres will be provided. Registration and parking are free!
URL:https://charlottetranshealth.org/event/kaleidoscope-tdov-mini-market/
LOCATION:Eastway Recreation Center\, 3150 Eastway Park Dr\, Charlotte\, North Carolina\, 28213\, United States
ORGANIZER;CN="Charlotte Trans Health":MAILTO:info@charlottetranshealth.org
END:VEVENT
BEGIN:VEVENT
DTSTART;TZID=America/New_York:20250319T183000
DTEND;TZID=America/New_York:20250319T193000
DTSTAMP:20260423T060452
CREATED:20250221T041055Z
LAST-MODIFIED:20260120T010404Z
UID:10000925-1742409000-1742412600@charlottetranshealth.org
SUMMARY:Therapist-Led Support Group
DESCRIPTION:  \nFor more information and to register\, please email eileen@charlottetranshealth.org.
URL:https://charlottetranshealth.org/event/therapist-led-support-group-2/2025-03-19/
LOCATION:NC
CATEGORIES:In-Person,Support Group
ATTACH;FMTTYPE=image/png:https://charlottetranshealth.org/wp-content/uploads/2025/04/TGD-Support-Group-Edited.png
ORGANIZER;CN="Charlotte Trans Health":MAILTO:info@charlottetranshealth.org
END:VEVENT
BEGIN:VEVENT
DTSTART;TZID=America/New_York:20250317T190000
DTEND;TZID=America/New_York:20250317T203000
DTSTAMP:20260423T060452
CREATED:20240902T021716Z
LAST-MODIFIED:20260120T010943Z
UID:10000007-1742238000-1742243400@charlottetranshealth.org
SUMMARY:Monthly Member Meeting
DESCRIPTION:Monthly meeting for current and prospective CTH member providers. Meetings are the 3rd Monday of every month\, except December. Meetings include educational topics\, article discussions\, networking\, and case consultations. For more info\, contact the Membership Chair at membership@charlottetranshealth.org.
URL:https://charlottetranshealth.org/event/monthly-member-meeting/2025-03-17/
LOCATION:Virtual with Quarterly In-Person\, Charlotte\, NC\, United States
CATEGORIES:Education,Member Meetings
ATTACH;FMTTYPE=image/jpeg:https://charlottetranshealth.org/wp-content/uploads/2024/09/CTH_logo_purple_screen.jpg
ORGANIZER;CN="Charlotte Trans Health":MAILTO:info@charlottetranshealth.org
END:VEVENT
BEGIN:VEVENT
DTSTART;VALUE=DATE:20250307
DTEND;VALUE=DATE:20250401
DTSTAMP:20260423T060452
CREATED:20250310T005241Z
LAST-MODIFIED:20250310T005415Z
UID:10000314-1741305600-1743465599@charlottetranshealth.org
SUMMARY:Sip a Spring Latte and Support CTH
DESCRIPTION:Spring is in the air at Queen City Grounds! \n\n\nIntroducing our Spring Drink Menu\, featuring floral-inspired flavors that are sure to brighten your day:\n\n\n Petal & Cocoa Latte – Mocha latte with a splash of rose\n Rose Matcha Shake – Matcha milk shake with a touch of rose\n Lavender Serenade Latte – Lavender latte with a hint of agave\n\n\nEach drink is $7\, and for a limited time\, 10% of sales from our spring lattes will be donated to Charlotte Trans Health until April 1st! \n\n\nCome sip\, support\, and celebrate the season with us!
URL:https://charlottetranshealth.org/event/sip-a-spring-latte-and-support-cth/
LOCATION:Queen City Grounds\, 644 N. Church Street\, Charlotte\, United States
CATEGORIES:Fundraising
ORGANIZER;CN="Charlotte Trans Health":MAILTO:info@charlottetranshealth.org
END:VEVENT
BEGIN:VEVENT
DTSTART;TZID=America/New_York:20250305T183000
DTEND;TZID=America/New_York:20250305T193000
DTSTAMP:20260423T060452
CREATED:20250221T040957Z
LAST-MODIFIED:20250310T005718Z
UID:10000132-1741199400-1741203000@charlottetranshealth.org
SUMMARY:Therapist-Led Support Group
DESCRIPTION:For more information and to register\, please email care@charlottetranshealth.org.
URL:https://charlottetranshealth.org/event/therapist-led-support-group/2025-03-05/
LOCATION:NC
CATEGORIES:Support Group
ORGANIZER;CN="Charlotte Trans Health":MAILTO:info@charlottetranshealth.org
END:VEVENT
BEGIN:VEVENT
DTSTART;TZID=America/New_York:20250217T190000
DTEND;TZID=America/New_York:20250217T203000
DTSTAMP:20260423T060452
CREATED:20240902T021716Z
LAST-MODIFIED:20260120T010943Z
UID:10000006-1739818800-1739824200@charlottetranshealth.org
SUMMARY:Monthly Member Meeting
DESCRIPTION:Monthly meeting for current and prospective CTH member providers. Meetings are the 3rd Monday of every month\, except December. Meetings include educational topics\, article discussions\, networking\, and case consultations. For more info\, contact the Membership Chair at membership@charlottetranshealth.org.
URL:https://charlottetranshealth.org/event/monthly-member-meeting/2025-02-17/
LOCATION:Virtual with Quarterly In-Person\, Charlotte\, NC\, United States
CATEGORIES:Education,Member Meetings
ATTACH;FMTTYPE=image/jpeg:https://charlottetranshealth.org/wp-content/uploads/2024/09/CTH_logo_purple_screen.jpg
ORGANIZER;CN="Charlotte Trans Health":MAILTO:info@charlottetranshealth.org
END:VEVENT
BEGIN:VEVENT
DTSTART;TZID=America/New_York:20250208T103000
DTEND;TZID=America/New_York:20250208T163000
DTSTAMP:20260423T060452
CREATED:20250203T044716Z
LAST-MODIFIED:20250203T044716Z
UID:10000131-1739010600-1739032200@charlottetranshealth.org
SUMMARY:Name & Gender Marker Correction Clinic
DESCRIPTION:The Pauli Murray LGBT Bar Association\, LGBTQ Center of Durham and Durham County Library are co-hosting a FREE legal clinic on how to update your name and/or gender marker on various identity documents!!\n\n\nRegister here if you need help navigating the process: https://docs.google.com/…/1FAIpQLSfRUIX2fizOvR…/viewform?\n\n\nRegister here to volunteer: https://docs.google.com/…/1FAIpQLSf8fVwEV1KPaS…/viewform?
URL:https://charlottetranshealth.org/event/name-gender-marker-correction-clinic/
LOCATION:Durham County Library
ATTACH;FMTTYPE=image/jpeg:https://charlottetranshealth.org/wp-content/uploads/2025/02/2-8-legal-clinic-e1738557993253.jpg
END:VEVENT
BEGIN:VEVENT
DTSTART;TZID=America/New_York:20250127T190000
DTEND;TZID=America/New_York:20250127T203000
DTSTAMP:20260423T060452
CREATED:20260120T011427Z
LAST-MODIFIED:20260120T011427Z
UID:10001071-1738004400-1738009800@charlottetranshealth.org
SUMMARY:Monthly Member Meeting
DESCRIPTION:Monthly meeting for current and prospective CTH member providers. Meetings are the 3rd Monday of every month\, with a few exceptions due to holidays. There is no meeting in December. Meetings include educational topics\, article discussions\, networking\, and case consultations. For more info\, contact the Membership Chair at membership@charlottetranshealth.org.
URL:https://charlottetranshealth.org/event/monthly-member-meeting-5/2025-01-27/2/
LOCATION:Virtual with Quarterly In-Person\, Charlotte\, NC\, United States
CATEGORIES:Education,Member Meetings
ATTACH;FMTTYPE=image/jpeg:https://charlottetranshealth.org/wp-content/uploads/2024/09/CTH_logo_purple_screen.jpg
ORGANIZER;CN="Charlotte Trans Health":MAILTO:info@charlottetranshealth.org
END:VEVENT
BEGIN:VEVENT
DTSTART;TZID=America/New_York:20250127T190000
DTEND;TZID=America/New_York:20250127T203000
DTSTAMP:20260423T060452
CREATED:20241118T042832Z
LAST-MODIFIED:20241229T014856Z
UID:10000069-1738004400-1738009800@charlottetranshealth.org
SUMMARY:Monthly Member Meeting
DESCRIPTION:Monthly meeting for current and prospective CTH member providers. Meetings are the 3rd Monday of every month\, with a few exceptions due to holidays. There is no meeting in December. Meetings include educational topics\, article discussions\, networking\, and case consultations. For more info\, contact the Membership Chair at membership@charlottetranshealth.org.
URL:https://charlottetranshealth.org/event/monthly-member-meeting-2/2025-01-27/2/
LOCATION:Virtual with Quarterly In-Person\, Charlotte\, NC\, United States
ORGANIZER;CN="Charlotte Trans Health":MAILTO:info@charlottetranshealth.org
END:VEVENT
BEGIN:VEVENT
DTSTART;TZID=America/New_York:20250127T080000
DTEND;TZID=America/New_York:20250127T170000
DTSTAMP:20260423T060452
CREATED:20260120T011427Z
LAST-MODIFIED:20260120T011427Z
UID:10001070-1737964800-1737997200@charlottetranshealth.org
SUMMARY:Monthly Member Meeting
DESCRIPTION:Monthly meeting for current and prospective CTH member providers. Meetings are the 3rd Monday of every month\, with a few exceptions due to holidays. There is no meeting in December. Meetings include educational topics\, article discussions\, networking\, and case consultations. For more info\, contact the Membership Chair at membership@charlottetranshealth.org.
URL:https://charlottetranshealth.org/event/monthly-member-meeting-5/2025-01-27/1/
LOCATION:Virtual with Quarterly In-Person\, Charlotte\, NC\, United States
CATEGORIES:Education,Member Meetings
ATTACH;FMTTYPE=image/jpeg:https://charlottetranshealth.org/wp-content/uploads/2024/09/CTH_logo_purple_screen.jpg
ORGANIZER;CN="Charlotte Trans Health":MAILTO:info@charlottetranshealth.org
END:VEVENT
BEGIN:VEVENT
DTSTART;TZID=America/New_York:20250127T080000
DTEND;TZID=America/New_York:20250127T170000
DTSTAMP:20260423T060452
CREATED:20241118T042832Z
LAST-MODIFIED:20241229T014856Z
UID:10000129-1737964800-1737997200@charlottetranshealth.org
SUMMARY:Monthly Member Meeting
DESCRIPTION:Monthly meeting for current and prospective CTH member providers. Meetings are the 3rd Monday of every month\, with a few exceptions due to holidays. There is no meeting in December. Meetings include educational topics\, article discussions\, networking\, and case consultations. For more info\, contact the Membership Chair at membership@charlottetranshealth.org.
URL:https://charlottetranshealth.org/event/monthly-member-meeting-2/2025-01-27/1/
LOCATION:Virtual with Quarterly In-Person\, Charlotte\, NC\, United States
ORGANIZER;CN="Charlotte Trans Health":MAILTO:info@charlottetranshealth.org
END:VEVENT
BEGIN:VEVENT
DTSTART;TZID=America/New_York:20241212T150000
DTEND;TZID=America/New_York:20241212T180000
DTSTAMP:20260423T060452
CREATED:20241118T042321Z
LAST-MODIFIED:20241118T042321Z
UID:10000061-1734015600-1734026400@charlottetranshealth.org
SUMMARY:Health Insurance Open Enrollment
DESCRIPTION:Join the CTH team and Care Share on December 12th from 3-6pm at The Drop Resource Center to learn about insurance coverage of gender-affirming medical care\, and explore your insurance options with trained enrollment assisters. Register by completing this brief form.
URL:https://charlottetranshealth.org/event/health-insurance-open-enrollment/
LOCATION:The Drop\, 5114 Monroe Road\, Charlotte\, NC\, 28205\, United States
ATTACH;FMTTYPE=image/jpeg:https://charlottetranshealth.org/wp-content/uploads/2024/11/Ins-Enroll.jpg
END:VEVENT
BEGIN:VEVENT
DTSTART;TZID=America/New_York:20241206T120000
DTEND;TZID=America/New_York:20241206T133000
DTSTAMP:20260423T060452
CREATED:20241118T041619Z
LAST-MODIFIED:20241118T041838Z
UID:10000060-1733486400-1733491800@charlottetranshealth.org
SUMMARY:Virtual Lunch and Learn - Trans Wellness 101
DESCRIPTION:Are you a healthcare provider interested in starting your professional development journey to serve Trans and Gender Diverse clients? Join us on December 6th (12/06) at 12pm for a virtual presentation that will cover\, health disparities\, affirming language\, beliefs and biases that affect care\, and resources.\n\n\nPlease register here to receive the meeting link.
URL:https://charlottetranshealth.org/event/virtual-lunch-and-learn-trans-wellness-101/
LOCATION:Virtual
ATTACH;FMTTYPE=image/jpeg:https://charlottetranshealth.org/wp-content/uploads/2024/11/Lunch-and-Learn-Dec-24-1.jpg
ORGANIZER;CN="Charlotte Trans Health":MAILTO:info@charlottetranshealth.org
END:VEVENT
BEGIN:VEVENT
DTSTART;TZID=America/New_York:20241120T180000
DTEND;TZID=America/New_York:20241120T200000
DTSTAMP:20260423T060452
CREATED:20241026T191925Z
LAST-MODIFIED:20241118T041051Z
UID:10000059-1732125600-1732132800@charlottetranshealth.org
SUMMARY:TDOR- Transgender Day of Remembrance
DESCRIPTION:Charlotte Trans Health will join with our community partners to co-host a TDOR event. TDOR is an annual observance on November 20 that honors the memory of the transgender people whose lives were lost in acts of anti-transgender violence. \nPlease check back for more details. \nCo-hosts: Carolinas LGBT Chamber of Commerce\, Charlotte Black Pride\, Freedom Center for Social Justice\, and Gender Education Network \n  \n 
URL:https://charlottetranshealth.org/event/tdor-transgender-day-of-remembrance/
LOCATION:NC
ATTACH;FMTTYPE=image/jpeg:https://charlottetranshealth.org/wp-content/uploads/2024/10/TDOR-2024.jpg
ORGANIZER;CN="Charlotte Trans Health":MAILTO:info@charlottetranshealth.org
END:VEVENT
BEGIN:VEVENT
DTSTART;TZID=America/New_York:20241118T190000
DTEND;TZID=America/New_York:20241118T203000
DTSTAMP:20260423T060452
CREATED:20240902T021716Z
LAST-MODIFIED:20260120T010943Z
UID:10000004-1731956400-1731961800@charlottetranshealth.org
SUMMARY:Monthly Member Meeting
DESCRIPTION:Monthly meeting for current and prospective CTH member providers. Meetings are the 3rd Monday of every month\, except December. Meetings include educational topics\, article discussions\, networking\, and case consultations. For more info\, contact the Membership Chair at membership@charlottetranshealth.org.
URL:https://charlottetranshealth.org/event/monthly-member-meeting/2024-11-18/
LOCATION:Virtual with Quarterly In-Person\, Charlotte\, NC\, United States
CATEGORIES:Education,Member Meetings
ATTACH;FMTTYPE=image/jpeg:https://charlottetranshealth.org/wp-content/uploads/2024/09/CTH_logo_purple_screen.jpg
ORGANIZER;CN="Charlotte Trans Health":MAILTO:info@charlottetranshealth.org
END:VEVENT
BEGIN:VEVENT
DTSTART;TZID=America/New_York:20241028T190000
DTEND;TZID=America/New_York:20241028T200000
DTSTAMP:20260423T060452
CREATED:20241026T191143Z
LAST-MODIFIED:20241026T191143Z
UID:10000058-1730142000-1730145600@charlottetranshealth.org
SUMMARY:CTH Member Education Extra
DESCRIPTION:Pelvic Floor PT with Ana Karim of Queen City Pelvic PT \n 
URL:https://charlottetranshealth.org/event/cth-member-education-extra/
LOCATION:Virtual
ORGANIZER;CN="Charlotte Trans Health":MAILTO:info@charlottetranshealth.org
END:VEVENT
BEGIN:VEVENT
DTSTART;TZID=America/New_York:20241021T190000
DTEND;TZID=America/New_York:20241021T203000
DTSTAMP:20260423T060452
CREATED:20240902T021716Z
LAST-MODIFIED:20260120T010943Z
UID:10000003-1729537200-1729542600@charlottetranshealth.org
SUMMARY:Monthly Member Meeting
DESCRIPTION:Monthly meeting for current and prospective CTH member providers. Meetings are the 3rd Monday of every month\, except December. Meetings include educational topics\, article discussions\, networking\, and case consultations. For more info\, contact the Membership Chair at membership@charlottetranshealth.org.
URL:https://charlottetranshealth.org/event/monthly-member-meeting/2024-10-21/
LOCATION:Virtual with Quarterly In-Person\, Charlotte\, NC\, United States
CATEGORIES:Education,Member Meetings
ATTACH;FMTTYPE=image/jpeg:https://charlottetranshealth.org/wp-content/uploads/2024/09/CTH_logo_purple_screen.jpg
ORGANIZER;CN="Charlotte Trans Health":MAILTO:info@charlottetranshealth.org
END:VEVENT
BEGIN:VEVENT
DTSTART;TZID=America/New_York:20241019T180000
DTEND;TZID=America/New_York:20241019T220000
DTSTAMP:20260423T060452
CREATED:20240313T231216Z
LAST-MODIFIED:20240918T145047Z
UID:10000001-1729360800-1729375200@charlottetranshealth.org
SUMMARY:T.H.E. Night Hits the Runway
DESCRIPTION:Trans Health is for Everyone and we are excited to host T.H.E. Night Hits the Runway! \nWe’ve got some exciting entertainment in store for you this year\, along with dancing\, speakers\, silent auction\, drinks\, and heavy hors d’oeuvres! \nThe evening will center some of our transgender and gender diverse community members\, along with some of our beloved healthcare providers\, in showing how Compassion Meets Collaboration to make competent\, gender-affirming care accessible to everyone. \nWe look forward to seeing you on the runway! \nTICKETS NOW AVAILABLE
URL:https://charlottetranshealth.org/event/the-night/
LOCATION:Diamonds Direct Luxury Lounge at Truist Field\, 324 S. Mint St.\, Charlotte\, 28202\, United States
ATTACH;FMTTYPE=image/png:https://charlottetranshealth.org/wp-content/uploads/2024/05/TheNightHitsTheRunway-1.png
END:VEVENT
END:VCALENDAR