BEGIN:VCALENDAR
VERSION:2.0
PRODID:-//Charlotte Trans Health - ECPv6.15.17.1//NONSGML v1.0//EN
CALSCALE:GREGORIAN
METHOD:PUBLISH
X-WR-CALNAME:Charlotte Trans Health
X-ORIGINAL-URL:https://charlottetranshealth.org
X-WR-CALDESC:Events for Charlotte Trans Health
REFRESH-INTERVAL;VALUE=DURATION:PT1H
X-Robots-Tag:noindex
X-PUBLISHED-TTL:PT1H
BEGIN:VTIMEZONE
TZID:America/New_York
BEGIN:DAYLIGHT
TZOFFSETFROM:-0500
TZOFFSETTO:-0400
TZNAME:EDT
DTSTART:20250309T070000
END:DAYLIGHT
BEGIN:STANDARD
TZOFFSETFROM:-0400
TZOFFSETTO:-0500
TZNAME:EST
DTSTART:20251102T060000
END:STANDARD
BEGIN:DAYLIGHT
TZOFFSETFROM:-0500
TZOFFSETTO:-0400
TZNAME:EDT
DTSTART:20260308T070000
END:DAYLIGHT
BEGIN:STANDARD
TZOFFSETFROM:-0400
TZOFFSETTO:-0500
TZNAME:EST
DTSTART:20261101T060000
END:STANDARD
BEGIN:DAYLIGHT
TZOFFSETFROM:-0500
TZOFFSETTO:-0400
TZNAME:EDT
DTSTART:20270314T070000
END:DAYLIGHT
BEGIN:STANDARD
TZOFFSETFROM:-0400
TZOFFSETTO:-0500
TZNAME:EST
DTSTART:20271107T060000
END:STANDARD
BEGIN:DAYLIGHT
TZOFFSETFROM:-0500
TZOFFSETTO:-0400
TZNAME:EDT
DTSTART:20280312T070000
END:DAYLIGHT
BEGIN:STANDARD
TZOFFSETFROM:-0400
TZOFFSETTO:-0500
TZNAME:EST
DTSTART:20281105T060000
END:STANDARD
END:VTIMEZONE
BEGIN:VEVENT
DTSTART;TZID=America/New_York:20261104T183000
DTEND;TZID=America/New_York:20261104T193000
DTSTAMP:20260423T074330
CREATED:20250430T004541Z
LAST-MODIFIED:20250430T004839Z
UID:10000152-1793817000-1793820600@charlottetranshealth.org
SUMMARY:Therapist-Led Support Group
DESCRIPTION:  \nFor more information and to register\, please email eileen@charlottetranshealth.org.
URL:https://charlottetranshealth.org/event/therapist-led-support-group-3/2026-11-04/
LOCATION:NC
CATEGORIES:Support Group
ATTACH;FMTTYPE=image/png:https://charlottetranshealth.org/wp-content/uploads/2025/04/TGD-Support-Group-Edited.png
ORGANIZER;CN="Charlotte Trans Health":MAILTO:info@charlottetranshealth.org
END:VEVENT
BEGIN:VEVENT
DTSTART;TZID=America/New_York:20261116T190000
DTEND;TZID=America/New_York:20261116T203000
DTSTAMP:20260423T074330
CREATED:20260120T010750Z
LAST-MODIFIED:20260120T011926Z
UID:10000026-1794855600-1794861000@charlottetranshealth.org
SUMMARY:Monthly Member Meeting
DESCRIPTION:Monthly meeting for current and prospective CTH member providers. Meetings are the 3rd Monday of every month\, except December. Meetings include educational topics\, article discussions\, networking\, and case consultations. For more info\, contact the Membership Chair at membership@charlottetranshealth.org. \nMeeting on 1/19/26 is moved to 1/26/26 due to MLK Holiday.
URL:https://charlottetranshealth.org/event/monthly-member-meeting-4/2026-11-16/
LOCATION:Virtual with Quarterly In-Person\, Charlotte\, NC\, United States
CATEGORIES:Education,Member Meetings
ATTACH;FMTTYPE=image/jpeg:https://charlottetranshealth.org/wp-content/uploads/2024/09/CTH_logo_purple_screen.jpg
ORGANIZER;CN="Charlotte Trans Health":MAILTO:info@charlottetranshealth.org
END:VEVENT
BEGIN:VEVENT
DTSTART;TZID=America/New_York:20261118T183000
DTEND;TZID=America/New_York:20261118T193000
DTSTAMP:20260423T074330
CREATED:20250221T041055Z
LAST-MODIFIED:20260120T010404Z
UID:10001015-1795026600-1795030200@charlottetranshealth.org
SUMMARY:Therapist-Led Support Group
DESCRIPTION:  \nFor more information and to register\, please email eileen@charlottetranshealth.org.
URL:https://charlottetranshealth.org/event/therapist-led-support-group-2/2026-11-18/
LOCATION:NC
CATEGORIES:In-Person,Support Group
ATTACH;FMTTYPE=image/png:https://charlottetranshealth.org/wp-content/uploads/2025/04/TGD-Support-Group-Edited.png
ORGANIZER;CN="Charlotte Trans Health":MAILTO:info@charlottetranshealth.org
END:VEVENT
BEGIN:VEVENT
DTSTART;TZID=America/New_York:20261202T183000
DTEND;TZID=America/New_York:20261202T193000
DTSTAMP:20260423T074330
CREATED:20250430T004541Z
LAST-MODIFIED:20250430T004839Z
UID:10000153-1796236200-1796239800@charlottetranshealth.org
SUMMARY:Therapist-Led Support Group
DESCRIPTION:  \nFor more information and to register\, please email eileen@charlottetranshealth.org.
URL:https://charlottetranshealth.org/event/therapist-led-support-group-3/2026-12-02/
LOCATION:NC
CATEGORIES:Support Group
ATTACH;FMTTYPE=image/png:https://charlottetranshealth.org/wp-content/uploads/2025/04/TGD-Support-Group-Edited.png
ORGANIZER;CN="Charlotte Trans Health":MAILTO:info@charlottetranshealth.org
END:VEVENT
BEGIN:VEVENT
DTSTART;TZID=America/New_York:20261216T183000
DTEND;TZID=America/New_York:20261216T193000
DTSTAMP:20260423T074330
CREATED:20250221T041055Z
LAST-MODIFIED:20260120T010404Z
UID:10001016-1797445800-1797449400@charlottetranshealth.org
SUMMARY:Therapist-Led Support Group
DESCRIPTION:  \nFor more information and to register\, please email eileen@charlottetranshealth.org.
URL:https://charlottetranshealth.org/event/therapist-led-support-group-2/2026-12-16/
LOCATION:NC
CATEGORIES:In-Person,Support Group
ATTACH;FMTTYPE=image/png:https://charlottetranshealth.org/wp-content/uploads/2025/04/TGD-Support-Group-Edited.png
ORGANIZER;CN="Charlotte Trans Health":MAILTO:info@charlottetranshealth.org
END:VEVENT
BEGIN:VEVENT
DTSTART;TZID=America/New_York:20270106T183000
DTEND;TZID=America/New_York:20270106T193000
DTSTAMP:20260423T074330
CREATED:20250430T004541Z
LAST-MODIFIED:20250430T004839Z
UID:10000154-1799260200-1799263800@charlottetranshealth.org
SUMMARY:Therapist-Led Support Group
DESCRIPTION:  \nFor more information and to register\, please email eileen@charlottetranshealth.org.
URL:https://charlottetranshealth.org/event/therapist-led-support-group-3/2027-01-06/
LOCATION:NC
CATEGORIES:Support Group
ATTACH;FMTTYPE=image/png:https://charlottetranshealth.org/wp-content/uploads/2025/04/TGD-Support-Group-Edited.png
ORGANIZER;CN="Charlotte Trans Health":MAILTO:info@charlottetranshealth.org
END:VEVENT
BEGIN:VEVENT
DTSTART;TZID=America/New_York:20270118T190000
DTEND;TZID=America/New_York:20270118T203000
DTSTAMP:20260423T074330
CREATED:20260120T010750Z
LAST-MODIFIED:20260120T011926Z
UID:10000027-1800298800-1800304200@charlottetranshealth.org
SUMMARY:Monthly Member Meeting
DESCRIPTION:Monthly meeting for current and prospective CTH member providers. Meetings are the 3rd Monday of every month\, except December. Meetings include educational topics\, article discussions\, networking\, and case consultations. For more info\, contact the Membership Chair at membership@charlottetranshealth.org. \nMeeting on 1/19/26 is moved to 1/26/26 due to MLK Holiday.
URL:https://charlottetranshealth.org/event/monthly-member-meeting-4/2027-01-18/
LOCATION:Virtual with Quarterly In-Person\, Charlotte\, NC\, United States
CATEGORIES:Education,Member Meetings
ATTACH;FMTTYPE=image/jpeg:https://charlottetranshealth.org/wp-content/uploads/2024/09/CTH_logo_purple_screen.jpg
ORGANIZER;CN="Charlotte Trans Health":MAILTO:info@charlottetranshealth.org
END:VEVENT
BEGIN:VEVENT
DTSTART;TZID=America/New_York:20270120T183000
DTEND;TZID=America/New_York:20270120T193000
DTSTAMP:20260423T074330
CREATED:20250221T041055Z
LAST-MODIFIED:20260120T010404Z
UID:10001017-1800469800-1800473400@charlottetranshealth.org
SUMMARY:Therapist-Led Support Group
DESCRIPTION:  \nFor more information and to register\, please email eileen@charlottetranshealth.org.
URL:https://charlottetranshealth.org/event/therapist-led-support-group-2/2027-01-20/
LOCATION:NC
CATEGORIES:In-Person,Support Group
ATTACH;FMTTYPE=image/png:https://charlottetranshealth.org/wp-content/uploads/2025/04/TGD-Support-Group-Edited.png
ORGANIZER;CN="Charlotte Trans Health":MAILTO:info@charlottetranshealth.org
END:VEVENT
BEGIN:VEVENT
DTSTART;TZID=America/New_York:20270203T183000
DTEND;TZID=America/New_York:20270203T193000
DTSTAMP:20260423T074330
CREATED:20250430T004541Z
LAST-MODIFIED:20250430T004839Z
UID:10000155-1801679400-1801683000@charlottetranshealth.org
SUMMARY:Therapist-Led Support Group
DESCRIPTION:  \nFor more information and to register\, please email eileen@charlottetranshealth.org.
URL:https://charlottetranshealth.org/event/therapist-led-support-group-3/2027-02-03/
LOCATION:NC
CATEGORIES:Support Group
ATTACH;FMTTYPE=image/png:https://charlottetranshealth.org/wp-content/uploads/2025/04/TGD-Support-Group-Edited.png
ORGANIZER;CN="Charlotte Trans Health":MAILTO:info@charlottetranshealth.org
END:VEVENT
BEGIN:VEVENT
DTSTART;TZID=America/New_York:20270215T190000
DTEND;TZID=America/New_York:20270215T203000
DTSTAMP:20260423T074330
CREATED:20260120T010750Z
LAST-MODIFIED:20260120T011926Z
UID:10000028-1802718000-1802723400@charlottetranshealth.org
SUMMARY:Monthly Member Meeting
DESCRIPTION:Monthly meeting for current and prospective CTH member providers. Meetings are the 3rd Monday of every month\, except December. Meetings include educational topics\, article discussions\, networking\, and case consultations. For more info\, contact the Membership Chair at membership@charlottetranshealth.org. \nMeeting on 1/19/26 is moved to 1/26/26 due to MLK Holiday.
URL:https://charlottetranshealth.org/event/monthly-member-meeting-4/2027-02-15/
LOCATION:Virtual with Quarterly In-Person\, Charlotte\, NC\, United States
CATEGORIES:Education,Member Meetings
ATTACH;FMTTYPE=image/jpeg:https://charlottetranshealth.org/wp-content/uploads/2024/09/CTH_logo_purple_screen.jpg
ORGANIZER;CN="Charlotte Trans Health":MAILTO:info@charlottetranshealth.org
END:VEVENT
BEGIN:VEVENT
DTSTART;TZID=America/New_York:20270217T183000
DTEND;TZID=America/New_York:20270217T193000
DTSTAMP:20260423T074330
CREATED:20250221T041055Z
LAST-MODIFIED:20260120T010404Z
UID:10001018-1802889000-1802892600@charlottetranshealth.org
SUMMARY:Therapist-Led Support Group
DESCRIPTION:  \nFor more information and to register\, please email eileen@charlottetranshealth.org.
URL:https://charlottetranshealth.org/event/therapist-led-support-group-2/2027-02-17/
LOCATION:NC
CATEGORIES:In-Person,Support Group
ATTACH;FMTTYPE=image/png:https://charlottetranshealth.org/wp-content/uploads/2025/04/TGD-Support-Group-Edited.png
ORGANIZER;CN="Charlotte Trans Health":MAILTO:info@charlottetranshealth.org
END:VEVENT
BEGIN:VEVENT
DTSTART;TZID=America/New_York:20270303T183000
DTEND;TZID=America/New_York:20270303T193000
DTSTAMP:20260423T074330
CREATED:20250430T004541Z
LAST-MODIFIED:20250430T004839Z
UID:10000156-1804098600-1804102200@charlottetranshealth.org
SUMMARY:Therapist-Led Support Group
DESCRIPTION:  \nFor more information and to register\, please email eileen@charlottetranshealth.org.
URL:https://charlottetranshealth.org/event/therapist-led-support-group-3/2027-03-03/
LOCATION:NC
CATEGORIES:Support Group
ATTACH;FMTTYPE=image/png:https://charlottetranshealth.org/wp-content/uploads/2025/04/TGD-Support-Group-Edited.png
ORGANIZER;CN="Charlotte Trans Health":MAILTO:info@charlottetranshealth.org
END:VEVENT
BEGIN:VEVENT
DTSTART;TZID=America/New_York:20270315T190000
DTEND;TZID=America/New_York:20270315T203000
DTSTAMP:20260423T074330
CREATED:20260120T010750Z
LAST-MODIFIED:20260120T011926Z
UID:10000029-1805137200-1805142600@charlottetranshealth.org
SUMMARY:Monthly Member Meeting
DESCRIPTION:Monthly meeting for current and prospective CTH member providers. Meetings are the 3rd Monday of every month\, except December. Meetings include educational topics\, article discussions\, networking\, and case consultations. For more info\, contact the Membership Chair at membership@charlottetranshealth.org. \nMeeting on 1/19/26 is moved to 1/26/26 due to MLK Holiday.
URL:https://charlottetranshealth.org/event/monthly-member-meeting-4/2027-03-15/
LOCATION:Virtual with Quarterly In-Person\, Charlotte\, NC\, United States
CATEGORIES:Education,Member Meetings
ATTACH;FMTTYPE=image/jpeg:https://charlottetranshealth.org/wp-content/uploads/2024/09/CTH_logo_purple_screen.jpg
ORGANIZER;CN="Charlotte Trans Health":MAILTO:info@charlottetranshealth.org
END:VEVENT
BEGIN:VEVENT
DTSTART;TZID=America/New_York:20270317T183000
DTEND;TZID=America/New_York:20270317T193000
DTSTAMP:20260423T074330
CREATED:20250221T041055Z
LAST-MODIFIED:20260120T010404Z
UID:10001019-1805308200-1805311800@charlottetranshealth.org
SUMMARY:Therapist-Led Support Group
DESCRIPTION:  \nFor more information and to register\, please email eileen@charlottetranshealth.org.
URL:https://charlottetranshealth.org/event/therapist-led-support-group-2/2027-03-17/
LOCATION:NC
CATEGORIES:In-Person,Support Group
ATTACH;FMTTYPE=image/png:https://charlottetranshealth.org/wp-content/uploads/2025/04/TGD-Support-Group-Edited.png
ORGANIZER;CN="Charlotte Trans Health":MAILTO:info@charlottetranshealth.org
END:VEVENT
BEGIN:VEVENT
DTSTART;TZID=America/New_York:20270407T183000
DTEND;TZID=America/New_York:20270407T193000
DTSTAMP:20260423T074330
CREATED:20250430T004541Z
LAST-MODIFIED:20250430T004839Z
UID:10000157-1807122600-1807126200@charlottetranshealth.org
SUMMARY:Therapist-Led Support Group
DESCRIPTION:  \nFor more information and to register\, please email eileen@charlottetranshealth.org.
URL:https://charlottetranshealth.org/event/therapist-led-support-group-3/2027-04-07/
LOCATION:NC
CATEGORIES:Support Group
ATTACH;FMTTYPE=image/png:https://charlottetranshealth.org/wp-content/uploads/2025/04/TGD-Support-Group-Edited.png
ORGANIZER;CN="Charlotte Trans Health":MAILTO:info@charlottetranshealth.org
END:VEVENT
BEGIN:VEVENT
DTSTART;TZID=America/New_York:20270419T190000
DTEND;TZID=America/New_York:20270419T203000
DTSTAMP:20260423T074330
CREATED:20260120T010750Z
LAST-MODIFIED:20260120T011926Z
UID:10000030-1808161200-1808166600@charlottetranshealth.org
SUMMARY:Monthly Member Meeting
DESCRIPTION:Monthly meeting for current and prospective CTH member providers. Meetings are the 3rd Monday of every month\, except December. Meetings include educational topics\, article discussions\, networking\, and case consultations. For more info\, contact the Membership Chair at membership@charlottetranshealth.org. \nMeeting on 1/19/26 is moved to 1/26/26 due to MLK Holiday.
URL:https://charlottetranshealth.org/event/monthly-member-meeting-4/2027-04-19/
LOCATION:Virtual with Quarterly In-Person\, Charlotte\, NC\, United States
CATEGORIES:Education,Member Meetings
ATTACH;FMTTYPE=image/jpeg:https://charlottetranshealth.org/wp-content/uploads/2024/09/CTH_logo_purple_screen.jpg
ORGANIZER;CN="Charlotte Trans Health":MAILTO:info@charlottetranshealth.org
END:VEVENT
BEGIN:VEVENT
DTSTART;TZID=America/New_York:20270421T183000
DTEND;TZID=America/New_York:20270421T193000
DTSTAMP:20260423T074330
CREATED:20250221T041055Z
LAST-MODIFIED:20260120T010404Z
UID:10001020-1808332200-1808335800@charlottetranshealth.org
SUMMARY:Therapist-Led Support Group
DESCRIPTION:  \nFor more information and to register\, please email eileen@charlottetranshealth.org.
URL:https://charlottetranshealth.org/event/therapist-led-support-group-2/2027-04-21/
LOCATION:NC
CATEGORIES:In-Person,Support Group
ATTACH;FMTTYPE=image/png:https://charlottetranshealth.org/wp-content/uploads/2025/04/TGD-Support-Group-Edited.png
ORGANIZER;CN="Charlotte Trans Health":MAILTO:info@charlottetranshealth.org
END:VEVENT
BEGIN:VEVENT
DTSTART;TZID=America/New_York:20270505T183000
DTEND;TZID=America/New_York:20270505T193000
DTSTAMP:20260423T074330
CREATED:20250430T004541Z
LAST-MODIFIED:20250430T004839Z
UID:10000158-1809541800-1809545400@charlottetranshealth.org
SUMMARY:Therapist-Led Support Group
DESCRIPTION:  \nFor more information and to register\, please email eileen@charlottetranshealth.org.
URL:https://charlottetranshealth.org/event/therapist-led-support-group-3/2027-05-05/
LOCATION:NC
CATEGORIES:Support Group
ATTACH;FMTTYPE=image/png:https://charlottetranshealth.org/wp-content/uploads/2025/04/TGD-Support-Group-Edited.png
ORGANIZER;CN="Charlotte Trans Health":MAILTO:info@charlottetranshealth.org
END:VEVENT
BEGIN:VEVENT
DTSTART;TZID=America/New_York:20270517T190000
DTEND;TZID=America/New_York:20270517T203000
DTSTAMP:20260423T074330
CREATED:20260120T010750Z
LAST-MODIFIED:20260120T011926Z
UID:10000031-1810580400-1810585800@charlottetranshealth.org
SUMMARY:Monthly Member Meeting
DESCRIPTION:Monthly meeting for current and prospective CTH member providers. Meetings are the 3rd Monday of every month\, except December. Meetings include educational topics\, article discussions\, networking\, and case consultations. For more info\, contact the Membership Chair at membership@charlottetranshealth.org. \nMeeting on 1/19/26 is moved to 1/26/26 due to MLK Holiday.
URL:https://charlottetranshealth.org/event/monthly-member-meeting-4/2027-05-17/
LOCATION:Virtual with Quarterly In-Person\, Charlotte\, NC\, United States
CATEGORIES:Education,Member Meetings
ATTACH;FMTTYPE=image/jpeg:https://charlottetranshealth.org/wp-content/uploads/2024/09/CTH_logo_purple_screen.jpg
ORGANIZER;CN="Charlotte Trans Health":MAILTO:info@charlottetranshealth.org
END:VEVENT
BEGIN:VEVENT
DTSTART;TZID=America/New_York:20270519T183000
DTEND;TZID=America/New_York:20270519T193000
DTSTAMP:20260423T074330
CREATED:20250221T041055Z
LAST-MODIFIED:20260120T010404Z
UID:10001021-1810751400-1810755000@charlottetranshealth.org
SUMMARY:Therapist-Led Support Group
DESCRIPTION:  \nFor more information and to register\, please email eileen@charlottetranshealth.org.
URL:https://charlottetranshealth.org/event/therapist-led-support-group-2/2027-05-19/
LOCATION:NC
CATEGORIES:In-Person,Support Group
ATTACH;FMTTYPE=image/png:https://charlottetranshealth.org/wp-content/uploads/2025/04/TGD-Support-Group-Edited.png
ORGANIZER;CN="Charlotte Trans Health":MAILTO:info@charlottetranshealth.org
END:VEVENT
BEGIN:VEVENT
DTSTART;TZID=America/New_York:20270602T183000
DTEND;TZID=America/New_York:20270602T193000
DTSTAMP:20260423T074330
CREATED:20250430T004541Z
LAST-MODIFIED:20250430T004839Z
UID:10000159-1811961000-1811964600@charlottetranshealth.org
SUMMARY:Therapist-Led Support Group
DESCRIPTION:  \nFor more information and to register\, please email eileen@charlottetranshealth.org.
URL:https://charlottetranshealth.org/event/therapist-led-support-group-3/2027-06-02/
LOCATION:NC
CATEGORIES:Support Group
ATTACH;FMTTYPE=image/png:https://charlottetranshealth.org/wp-content/uploads/2025/04/TGD-Support-Group-Edited.png
ORGANIZER;CN="Charlotte Trans Health":MAILTO:info@charlottetranshealth.org
END:VEVENT
BEGIN:VEVENT
DTSTART;TZID=America/New_York:20270616T183000
DTEND;TZID=America/New_York:20270616T193000
DTSTAMP:20260423T074330
CREATED:20250221T041055Z
LAST-MODIFIED:20260120T010404Z
UID:10001022-1813170600-1813174200@charlottetranshealth.org
SUMMARY:Therapist-Led Support Group
DESCRIPTION:  \nFor more information and to register\, please email eileen@charlottetranshealth.org.
URL:https://charlottetranshealth.org/event/therapist-led-support-group-2/2027-06-16/
LOCATION:NC
CATEGORIES:In-Person,Support Group
ATTACH;FMTTYPE=image/png:https://charlottetranshealth.org/wp-content/uploads/2025/04/TGD-Support-Group-Edited.png
ORGANIZER;CN="Charlotte Trans Health":MAILTO:info@charlottetranshealth.org
END:VEVENT
BEGIN:VEVENT
DTSTART;TZID=America/New_York:20270621T190000
DTEND;TZID=America/New_York:20270621T203000
DTSTAMP:20260423T074330
CREATED:20260120T010750Z
LAST-MODIFIED:20260120T011926Z
UID:10000032-1813604400-1813609800@charlottetranshealth.org
SUMMARY:Monthly Member Meeting
DESCRIPTION:Monthly meeting for current and prospective CTH member providers. Meetings are the 3rd Monday of every month\, except December. Meetings include educational topics\, article discussions\, networking\, and case consultations. For more info\, contact the Membership Chair at membership@charlottetranshealth.org. \nMeeting on 1/19/26 is moved to 1/26/26 due to MLK Holiday.
URL:https://charlottetranshealth.org/event/monthly-member-meeting-4/2027-06-21/
LOCATION:Virtual with Quarterly In-Person\, Charlotte\, NC\, United States
CATEGORIES:Education,Member Meetings
ATTACH;FMTTYPE=image/jpeg:https://charlottetranshealth.org/wp-content/uploads/2024/09/CTH_logo_purple_screen.jpg
ORGANIZER;CN="Charlotte Trans Health":MAILTO:info@charlottetranshealth.org
END:VEVENT
BEGIN:VEVENT
DTSTART;TZID=America/New_York:20270707T183000
DTEND;TZID=America/New_York:20270707T193000
DTSTAMP:20260423T074330
CREATED:20250430T004541Z
LAST-MODIFIED:20250430T004839Z
UID:10000160-1814985000-1814988600@charlottetranshealth.org
SUMMARY:Therapist-Led Support Group
DESCRIPTION:  \nFor more information and to register\, please email eileen@charlottetranshealth.org.
URL:https://charlottetranshealth.org/event/therapist-led-support-group-3/2027-07-07/
LOCATION:NC
CATEGORIES:Support Group
ATTACH;FMTTYPE=image/png:https://charlottetranshealth.org/wp-content/uploads/2025/04/TGD-Support-Group-Edited.png
ORGANIZER;CN="Charlotte Trans Health":MAILTO:info@charlottetranshealth.org
END:VEVENT
BEGIN:VEVENT
DTSTART;TZID=America/New_York:20270719T190000
DTEND;TZID=America/New_York:20270719T203000
DTSTAMP:20260423T074330
CREATED:20260120T010750Z
LAST-MODIFIED:20260120T011926Z
UID:10000033-1816023600-1816029000@charlottetranshealth.org
SUMMARY:Monthly Member Meeting
DESCRIPTION:Monthly meeting for current and prospective CTH member providers. Meetings are the 3rd Monday of every month\, except December. Meetings include educational topics\, article discussions\, networking\, and case consultations. For more info\, contact the Membership Chair at membership@charlottetranshealth.org. \nMeeting on 1/19/26 is moved to 1/26/26 due to MLK Holiday.
URL:https://charlottetranshealth.org/event/monthly-member-meeting-4/2027-07-19/
LOCATION:Virtual with Quarterly In-Person\, Charlotte\, NC\, United States
CATEGORIES:Education,Member Meetings
ATTACH;FMTTYPE=image/jpeg:https://charlottetranshealth.org/wp-content/uploads/2024/09/CTH_logo_purple_screen.jpg
ORGANIZER;CN="Charlotte Trans Health":MAILTO:info@charlottetranshealth.org
END:VEVENT
BEGIN:VEVENT
DTSTART;TZID=America/New_York:20270721T183000
DTEND;TZID=America/New_York:20270721T193000
DTSTAMP:20260423T074330
CREATED:20250221T041055Z
LAST-MODIFIED:20260120T010404Z
UID:10001023-1816194600-1816198200@charlottetranshealth.org
SUMMARY:Therapist-Led Support Group
DESCRIPTION:  \nFor more information and to register\, please email eileen@charlottetranshealth.org.
URL:https://charlottetranshealth.org/event/therapist-led-support-group-2/2027-07-21/
LOCATION:NC
CATEGORIES:In-Person,Support Group
ATTACH;FMTTYPE=image/png:https://charlottetranshealth.org/wp-content/uploads/2025/04/TGD-Support-Group-Edited.png
ORGANIZER;CN="Charlotte Trans Health":MAILTO:info@charlottetranshealth.org
END:VEVENT
BEGIN:VEVENT
DTSTART;TZID=America/New_York:20270804T183000
DTEND;TZID=America/New_York:20270804T193000
DTSTAMP:20260423T074330
CREATED:20250430T004541Z
LAST-MODIFIED:20250430T004839Z
UID:10000161-1817404200-1817407800@charlottetranshealth.org
SUMMARY:Therapist-Led Support Group
DESCRIPTION:  \nFor more information and to register\, please email eileen@charlottetranshealth.org.
URL:https://charlottetranshealth.org/event/therapist-led-support-group-3/2027-08-04/
LOCATION:NC
CATEGORIES:Support Group
ATTACH;FMTTYPE=image/png:https://charlottetranshealth.org/wp-content/uploads/2025/04/TGD-Support-Group-Edited.png
ORGANIZER;CN="Charlotte Trans Health":MAILTO:info@charlottetranshealth.org
END:VEVENT
BEGIN:VEVENT
DTSTART;TZID=America/New_York:20270816T190000
DTEND;TZID=America/New_York:20270816T203000
DTSTAMP:20260423T074330
CREATED:20260120T010750Z
LAST-MODIFIED:20260120T011926Z
UID:10000034-1818442800-1818448200@charlottetranshealth.org
SUMMARY:Monthly Member Meeting
DESCRIPTION:Monthly meeting for current and prospective CTH member providers. Meetings are the 3rd Monday of every month\, except December. Meetings include educational topics\, article discussions\, networking\, and case consultations. For more info\, contact the Membership Chair at membership@charlottetranshealth.org. \nMeeting on 1/19/26 is moved to 1/26/26 due to MLK Holiday.
URL:https://charlottetranshealth.org/event/monthly-member-meeting-4/2027-08-16/
LOCATION:Virtual with Quarterly In-Person\, Charlotte\, NC\, United States
CATEGORIES:Education,Member Meetings
ATTACH;FMTTYPE=image/jpeg:https://charlottetranshealth.org/wp-content/uploads/2024/09/CTH_logo_purple_screen.jpg
ORGANIZER;CN="Charlotte Trans Health":MAILTO:info@charlottetranshealth.org
END:VEVENT
BEGIN:VEVENT
DTSTART;TZID=America/New_York:20270818T183000
DTEND;TZID=America/New_York:20270818T193000
DTSTAMP:20260423T074330
CREATED:20250221T041055Z
LAST-MODIFIED:20260120T010404Z
UID:10001024-1818613800-1818617400@charlottetranshealth.org
SUMMARY:Therapist-Led Support Group
DESCRIPTION:  \nFor more information and to register\, please email eileen@charlottetranshealth.org.
URL:https://charlottetranshealth.org/event/therapist-led-support-group-2/2027-08-18/
LOCATION:NC
CATEGORIES:In-Person,Support Group
ATTACH;FMTTYPE=image/png:https://charlottetranshealth.org/wp-content/uploads/2025/04/TGD-Support-Group-Edited.png
ORGANIZER;CN="Charlotte Trans Health":MAILTO:info@charlottetranshealth.org
END:VEVENT
BEGIN:VEVENT
DTSTART;TZID=America/New_York:20270901T183000
DTEND;TZID=America/New_York:20270901T193000
DTSTAMP:20260423T074330
CREATED:20250430T004541Z
LAST-MODIFIED:20250430T004839Z
UID:10000162-1819823400-1819827000@charlottetranshealth.org
SUMMARY:Therapist-Led Support Group
DESCRIPTION:  \nFor more information and to register\, please email eileen@charlottetranshealth.org.
URL:https://charlottetranshealth.org/event/therapist-led-support-group-3/2027-09-01/
LOCATION:NC
CATEGORIES:Support Group
ATTACH;FMTTYPE=image/png:https://charlottetranshealth.org/wp-content/uploads/2025/04/TGD-Support-Group-Edited.png
ORGANIZER;CN="Charlotte Trans Health":MAILTO:info@charlottetranshealth.org
END:VEVENT
END:VCALENDAR