BEGIN:VCALENDAR
VERSION:2.0
PRODID:-//Charlotte Trans Health - ECPv6.15.17.1//NONSGML v1.0//EN
CALSCALE:GREGORIAN
METHOD:PUBLISH
X-WR-CALNAME:Charlotte Trans Health
X-ORIGINAL-URL:https://charlottetranshealth.org
X-WR-CALDESC:Events for Charlotte Trans Health
REFRESH-INTERVAL;VALUE=DURATION:PT1H
X-Robots-Tag:noindex
X-PUBLISHED-TTL:PT1H
BEGIN:VTIMEZONE
TZID:America/New_York
BEGIN:DAYLIGHT
TZOFFSETFROM:-0500
TZOFFSETTO:-0400
TZNAME:EDT
DTSTART:20240310T070000
END:DAYLIGHT
BEGIN:STANDARD
TZOFFSETFROM:-0400
TZOFFSETTO:-0500
TZNAME:EST
DTSTART:20241103T060000
END:STANDARD
BEGIN:DAYLIGHT
TZOFFSETFROM:-0500
TZOFFSETTO:-0400
TZNAME:EDT
DTSTART:20250309T070000
END:DAYLIGHT
BEGIN:STANDARD
TZOFFSETFROM:-0400
TZOFFSETTO:-0500
TZNAME:EST
DTSTART:20251102T060000
END:STANDARD
BEGIN:DAYLIGHT
TZOFFSETFROM:-0500
TZOFFSETTO:-0400
TZNAME:EDT
DTSTART:20260308T070000
END:DAYLIGHT
BEGIN:STANDARD
TZOFFSETFROM:-0400
TZOFFSETTO:-0500
TZNAME:EST
DTSTART:20261101T060000
END:STANDARD
END:VTIMEZONE
BEGIN:VEVENT
DTSTART;TZID=America/New_York:20251105T183000
DTEND;TZID=America/New_York:20251105T193000
DTSTAMP:20260423T061401
CREATED:20250430T004541Z
LAST-MODIFIED:20250430T004839Z
UID:10000140-1762367400-1762371000@charlottetranshealth.org
SUMMARY:Therapist-Led Support Group
DESCRIPTION:  \nFor more information and to register\, please email eileen@charlottetranshealth.org.
URL:https://charlottetranshealth.org/event/therapist-led-support-group-3/2025-11-05/
CATEGORIES:Support Group
ATTACH;FMTTYPE=image/png:https://charlottetranshealth.org/wp-content/uploads/2025/04/TGD-Support-Group-Edited.png
ORGANIZER;CN="Charlotte Trans Health":MAILTO:info@charlottetranshealth.org
END:VEVENT
BEGIN:VEVENT
DTSTART;TZID=America/New_York:20251020T190000
DTEND;TZID=America/New_York:20251020T203000
DTSTAMP:20260423T061401
CREATED:20240902T021716Z
LAST-MODIFIED:20260120T010943Z
UID:10000014-1760986800-1760992200@charlottetranshealth.org
SUMMARY:Monthly Member Meeting
DESCRIPTION:Monthly meeting for current and prospective CTH member providers. Meetings are the 3rd Monday of every month\, except December. Meetings include educational topics\, article discussions\, networking\, and case consultations. For more info\, contact the Membership Chair at membership@charlottetranshealth.org.
URL:https://charlottetranshealth.org/event/monthly-member-meeting/2025-10-20/
LOCATION:Virtual with Quarterly In-Person\, Charlotte\, NC\, United States
CATEGORIES:Education,Member Meetings
ATTACH;FMTTYPE=image/jpeg:https://charlottetranshealth.org/wp-content/uploads/2024/09/CTH_logo_purple_screen.jpg
ORGANIZER;CN="Charlotte Trans Health":MAILTO:info@charlottetranshealth.org
END:VEVENT
BEGIN:VEVENT
DTSTART;TZID=America/New_York:20251017T080000
DTEND;TZID=America/New_York:20251017T160000
DTSTAMP:20260423T061401
CREATED:20250715T143756Z
LAST-MODIFIED:20250718T024537Z
UID:10000907-1760688000-1760716800@charlottetranshealth.org
SUMMARY:Carolina Conference On Queer Youth
DESCRIPTION:Carolina Conference on Queer Youth (CCQY) is an annual conference dedicated to advancing the well-being and rights of LGBTQ+ youth in educational and community spaces. CCQY brings together educators\, counselors\, administrators\, social workers\, advocates\, and allies from diverse\, youth-serving backgrounds to collaborate\, educate\, and advocate for positive change. \nCCQY 2025 is presented by Time Out Youth\, Carolina’s CARE Partnership\, Charlotte Trans Health\, Gender Education Network\, PFLAG Charlotte\, and Welcoming Schools.
URL:https://charlottetranshealth.org/event/carolina-conference-on-queer-youth/
CATEGORIES:Education,In-Person
ATTACH;FMTTYPE=image/png:https://charlottetranshealth.org/wp-content/uploads/2025/07/CCQY-2025-Square-Graphic-UPDATE.png
ORGANIZER;CN="Charlotte Trans Health":MAILTO:info@charlottetranshealth.org
END:VEVENT
BEGIN:VEVENT
DTSTART;TZID=America/New_York:20251015T183000
DTEND;TZID=America/New_York:20251015T193000
DTSTAMP:20260423T061401
CREATED:20250221T041055Z
LAST-MODIFIED:20260120T010404Z
UID:10001002-1760553000-1760556600@charlottetranshealth.org
SUMMARY:Therapist-Led Support Group
DESCRIPTION:  \nFor more information and to register\, please email eileen@charlottetranshealth.org.
URL:https://charlottetranshealth.org/event/therapist-led-support-group-2/2025-10-15/
CATEGORIES:In-Person,Support Group
ATTACH;FMTTYPE=image/png:https://charlottetranshealth.org/wp-content/uploads/2025/04/TGD-Support-Group-Edited.png
ORGANIZER;CN="Charlotte Trans Health":MAILTO:info@charlottetranshealth.org
END:VEVENT
BEGIN:VEVENT
DTSTART;VALUE=DATE:20251009
DTEND;VALUE=DATE:20251012
DTSTAMP:20260423T061401
CREATED:20250528T201056Z
LAST-MODIFIED:20250528T201056Z
UID:10000905-1759968000-1760227199@charlottetranshealth.org
SUMMARY:GLMA's 43rd Annual Conference on LGBTQ+ Health
DESCRIPTION:Join GLMA in Minneapolis\, MN from October 9 – 11\, 2025 for the leading national conference focused on LGBTQ+ health and inclusive care practices. GLMA’s 43rd Annual Conference on LGBTQ+ Health will bring together 700+ health professionals\, researchers\, academics\, policy experts\, and advocates from across all disciplines to share groundbreaking research\, innovative interventions\, and best practices in LGBTQ+ health care.
URL:https://charlottetranshealth.org/event/glmas-43rd-annual-conference-on-lgbtq-health/
CATEGORIES:Education
ATTACH;FMTTYPE=image/png:https://charlottetranshealth.org/wp-content/uploads/2025/05/GLMA2025_Regular_Registration_05062025135519.png
END:VEVENT
BEGIN:VEVENT
DTSTART;TZID=America/New_York:20251001T183000
DTEND;TZID=America/New_York:20251001T193000
DTSTAMP:20260423T061401
CREATED:20250430T004541Z
LAST-MODIFIED:20250430T004839Z
UID:10000139-1759343400-1759347000@charlottetranshealth.org
SUMMARY:Therapist-Led Support Group
DESCRIPTION:  \nFor more information and to register\, please email eileen@charlottetranshealth.org.
URL:https://charlottetranshealth.org/event/therapist-led-support-group-3/2025-10-01/
CATEGORIES:Support Group
ATTACH;FMTTYPE=image/png:https://charlottetranshealth.org/wp-content/uploads/2025/04/TGD-Support-Group-Edited.png
ORGANIZER;CN="Charlotte Trans Health":MAILTO:info@charlottetranshealth.org
END:VEVENT
BEGIN:VEVENT
DTSTART;VALUE=DATE:20250926
DTEND;VALUE=DATE:20251001
DTSTAMP:20260423T061401
CREATED:20250528T201521Z
LAST-MODIFIED:20250718T024447Z
UID:10000906-1758844800-1759276799@charlottetranshealth.org
SUMMARY:USPATH 2025 Scientific Symposium
DESCRIPTION:Join USPATH in Santa Ana Pueblo\, New Mexico September 26-30th for the nations leading conference on transgender health. More information and registration available here!
URL:https://charlottetranshealth.org/event/uspath-2025-scientific-symposium/
ATTACH;FMTTYPE=image/jpeg:https://charlottetranshealth.org/wp-content/uploads/2025/05/USPATH-2025-Web-Banner-2400x600-1.jpg
END:VEVENT
BEGIN:VEVENT
DTSTART;TZID=America/New_York:20250917T183000
DTEND;TZID=America/New_York:20250917T193000
DTSTAMP:20260423T061401
CREATED:20250221T041055Z
LAST-MODIFIED:20260120T010404Z
UID:10001001-1758133800-1758137400@charlottetranshealth.org
SUMMARY:Therapist-Led Support Group
DESCRIPTION:  \nFor more information and to register\, please email eileen@charlottetranshealth.org.
URL:https://charlottetranshealth.org/event/therapist-led-support-group-2/2025-09-17/
CATEGORIES:In-Person,Support Group
ATTACH;FMTTYPE=image/png:https://charlottetranshealth.org/wp-content/uploads/2025/04/TGD-Support-Group-Edited.png
ORGANIZER;CN="Charlotte Trans Health":MAILTO:info@charlottetranshealth.org
END:VEVENT
BEGIN:VEVENT
DTSTART;TZID=America/New_York:20250915T190000
DTEND;TZID=America/New_York:20250915T203000
DTSTAMP:20260423T061401
CREATED:20240902T021716Z
LAST-MODIFIED:20260120T010943Z
UID:10000013-1757962800-1757968200@charlottetranshealth.org
SUMMARY:Monthly Member Meeting
DESCRIPTION:Monthly meeting for current and prospective CTH member providers. Meetings are the 3rd Monday of every month\, except December. Meetings include educational topics\, article discussions\, networking\, and case consultations. For more info\, contact the Membership Chair at membership@charlottetranshealth.org.
URL:https://charlottetranshealth.org/event/monthly-member-meeting/2025-09-15/
LOCATION:Virtual with Quarterly In-Person\, Charlotte\, NC\, United States
CATEGORIES:Education,Member Meetings
ATTACH;FMTTYPE=image/jpeg:https://charlottetranshealth.org/wp-content/uploads/2024/09/CTH_logo_purple_screen.jpg
ORGANIZER;CN="Charlotte Trans Health":MAILTO:info@charlottetranshealth.org
END:VEVENT
BEGIN:VEVENT
DTSTART;TZID=America/New_York:20250903T183000
DTEND;TZID=America/New_York:20250903T193000
DTSTAMP:20260423T061401
CREATED:20250430T004541Z
LAST-MODIFIED:20250430T004839Z
UID:10000138-1756924200-1756927800@charlottetranshealth.org
SUMMARY:Therapist-Led Support Group
DESCRIPTION:  \nFor more information and to register\, please email eileen@charlottetranshealth.org.
URL:https://charlottetranshealth.org/event/therapist-led-support-group-3/2025-09-03/
CATEGORIES:Support Group
ATTACH;FMTTYPE=image/png:https://charlottetranshealth.org/wp-content/uploads/2025/04/TGD-Support-Group-Edited.png
ORGANIZER;CN="Charlotte Trans Health":MAILTO:info@charlottetranshealth.org
END:VEVENT
BEGIN:VEVENT
DTSTART;TZID=America/New_York:20250823T110000
DTEND;TZID=America/New_York:20250823T160000
DTSTAMP:20260423T061401
CREATED:20250803T230052Z
LAST-MODIFIED:20250803T230052Z
UID:10000923-1755946800-1755964800@charlottetranshealth.org
SUMMARY:Amity Medical Group Back to School Fair
DESCRIPTION:Join us on August 23rd from 11AM-4PM at Amity Medical Group – Monroe Road location!
URL:https://charlottetranshealth.org/event/amity-medical-group-back-to-school-fair/
LOCATION:Amity Medical Group\, 9835 Monroe Road\, Charlotte\, 28270\, United States
CATEGORIES:Community Engagement,In-Person,Social
ATTACH;FMTTYPE=image/jpeg:https://charlottetranshealth.org/wp-content/uploads/2025/08/amity-bts.jpg
ORGANIZER;CN="Charlotte Trans Health":MAILTO:info@charlottetranshealth.org
END:VEVENT
BEGIN:VEVENT
DTSTART;TZID=America/New_York:20250820T183000
DTEND;TZID=America/New_York:20250820T193000
DTSTAMP:20260423T061401
CREATED:20250221T041055Z
LAST-MODIFIED:20260120T010404Z
UID:10001000-1755714600-1755718200@charlottetranshealth.org
SUMMARY:Therapist-Led Support Group
DESCRIPTION:  \nFor more information and to register\, please email eileen@charlottetranshealth.org.
URL:https://charlottetranshealth.org/event/therapist-led-support-group-2/2025-08-20/
CATEGORIES:In-Person,Support Group
ATTACH;FMTTYPE=image/png:https://charlottetranshealth.org/wp-content/uploads/2025/04/TGD-Support-Group-Edited.png
ORGANIZER;CN="Charlotte Trans Health":MAILTO:info@charlottetranshealth.org
END:VEVENT
BEGIN:VEVENT
DTSTART;TZID=America/New_York:20250818T190000
DTEND;TZID=America/New_York:20250818T203000
DTSTAMP:20260423T061401
CREATED:20240902T021716Z
LAST-MODIFIED:20260120T010943Z
UID:10000012-1755543600-1755549000@charlottetranshealth.org
SUMMARY:Monthly Member Meeting
DESCRIPTION:Monthly meeting for current and prospective CTH member providers. Meetings are the 3rd Monday of every month\, except December. Meetings include educational topics\, article discussions\, networking\, and case consultations. For more info\, contact the Membership Chair at membership@charlottetranshealth.org.
URL:https://charlottetranshealth.org/event/monthly-member-meeting/2025-08-18/
LOCATION:Virtual with Quarterly In-Person\, Charlotte\, NC\, United States
CATEGORIES:Education,Member Meetings
ATTACH;FMTTYPE=image/jpeg:https://charlottetranshealth.org/wp-content/uploads/2024/09/CTH_logo_purple_screen.jpg
ORGANIZER;CN="Charlotte Trans Health":MAILTO:info@charlottetranshealth.org
END:VEVENT
BEGIN:VEVENT
DTSTART;TZID=America/New_York:20250817T100000
DTEND;TZID=America/New_York:20250818T170000
DTSTAMP:20260423T061401
CREATED:20250718T024202Z
LAST-MODIFIED:20250803T225105Z
UID:10000922-1755424800-1755536400@charlottetranshealth.org
SUMMARY:Charlotte Pride
DESCRIPTION:Join us for Pride weekend! Stop by our booth for info about gender-affirming care resources and some CTH swag! We’ll be on 8th Street in the Health Fair section. \n 
URL:https://charlottetranshealth.org/event/charlotte-pride/2025-08-17/
LOCATION:First Ward Park\, 301 E 7th St\, Charlotte\, United States
CATEGORIES:In-Person,Social
ATTACH;FMTTYPE=image/jpeg:https://charlottetranshealth.org/wp-content/uploads/2025/07/CP-2020-Logo-Primary-1536x1536-1.jpg
ORGANIZER;CN="Charlotte Trans Health":MAILTO:info@charlottetranshealth.org
END:VEVENT
BEGIN:VEVENT
DTSTART;TZID=America/New_York:20250816T100000
DTEND;TZID=America/New_York:20250817T170000
DTSTAMP:20260423T061401
CREATED:20250718T024202Z
LAST-MODIFIED:20250803T225105Z
UID:10000909-1755338400-1755450000@charlottetranshealth.org
SUMMARY:Charlotte Pride
DESCRIPTION:Join us for Pride weekend! Stop by our booth for info about gender-affirming care resources and some CTH swag! We’ll be on 8th Street in the Health Fair section. \n 
URL:https://charlottetranshealth.org/event/charlotte-pride/2025-08-16/
LOCATION:First Ward Park\, 301 E 7th St\, Charlotte\, United States
CATEGORIES:In-Person,Social
ATTACH;FMTTYPE=image/jpeg:https://charlottetranshealth.org/wp-content/uploads/2025/07/CP-2020-Logo-Primary-1536x1536-1.jpg
ORGANIZER;CN="Charlotte Trans Health":MAILTO:info@charlottetranshealth.org
END:VEVENT
BEGIN:VEVENT
DTSTART;TZID=America/New_York:20250809T120000
DTEND;TZID=America/New_York:20250809T170000
DTSTAMP:20260423T061401
CREATED:20250802T163643Z
LAST-MODIFIED:20250802T202011Z
UID:10000910-1754740800-1754758800@charlottetranshealth.org
SUMMARY:Pride Kick-Off Party at Common Market - Benefitting Charlotte Trans Health
DESCRIPTION:What Are You Doing Saturday\, August 9th?\nCome kick off Charlotte Pride a weekend early at Common Market Oakwold—and support Charlotte Trans Health while you’re at it!\n\n\nIt’s a full day and evening of fun\, celebration\, and community featuring:\n\n\nDrag Storytime & Two Major Drag Shows\nHosted by RC Cola and Lolita Chanel\nFeaturing Don Javi\, Lucy Paradisco\, and Oso Chanel!\n\n\nAll Ages Show | 6:30–8:00 PM\n“Not All Ages” Show | 8:30–10:00 PM\nVendor Market — Bits\, baubles\, art\, and more!\nFeatured Beverages from:\nSierra Nevada • Suffolk Punch • Hoptown • Hopfly • Wolffer Wines\n\n\nRaffle Benefiting Charlotte Trans Health!\nWin prizes from: Charlotte FC • Charlotte Royals • Enderly Coffee • Liquid Death • Magnolia Coffee • Five Flowers • Adams Beverage Distribution and more!\n\n\nLocation: Common Market Oakwold\nDate: Saturday\, August 9th\nProceeds support Charlotte Trans Health’s mission to provide affirming\, accessible care for trans and gender-diverse communities.\n\n\nCome say hi\, learn more about our work\, and help us celebrate Charlotte Pride early—with style!\n\n\n#CharlottePride #TransHealth #DragisArt #SupportLocal #CommonMarketOakwold #GenderAffirmingCareSavesLives #lgbtqia
URL:https://charlottetranshealth.org/event/pride-kick-off-party-at-common-market-benefitting-charlotte-trans-health/
LOCATION:Common Market Oakwold\, 4420-A Monroe Road\, Charlotte\, United States
CATEGORIES:Community Engagement,Fundraising,In-Person,Social
ATTACH;FMTTYPE=image/jpeg:https://charlottetranshealth.org/wp-content/uploads/2025/08/CM-Pride-Kickoff-scaled.jpg
ORGANIZER;CN="Charlotte Trans Health":MAILTO:info@charlottetranshealth.org
END:VEVENT
BEGIN:VEVENT
DTSTART;TZID=America/New_York:20250809T100000
DTEND;TZID=America/New_York:20250809T140000
DTSTAMP:20260423T061401
CREATED:20250802T201932Z
LAST-MODIFIED:20250802T201932Z
UID:10000911-1754733600-1754748000@charlottetranshealth.org
SUMMARY:C.W. Williams Back to School Health Fair
DESCRIPTION:Join Charlotte Trans Health between 10AM-2PM at the C.W. Williams Back to School Health Fair!
URL:https://charlottetranshealth.org/event/c-w-williams-back-to-school-health-fair/
LOCATION:CW Williams Health Center\, 3333 Wilkinson Blvd\, Charlotte\, 28208\, United States
CATEGORIES:Community Engagement,In-Person,Social
ATTACH;FMTTYPE=image/jpeg:https://charlottetranshealth.org/wp-content/uploads/2025/08/cw-williams.jpg
ORGANIZER;CN="Charlotte Trans Health":MAILTO:info@charlottetranshealth.org
END:VEVENT
BEGIN:VEVENT
DTSTART;TZID=America/New_York:20250806T183000
DTEND;TZID=America/New_York:20250806T193000
DTSTAMP:20260423T061401
CREATED:20250430T004541Z
LAST-MODIFIED:20250430T004839Z
UID:10000137-1754505000-1754508600@charlottetranshealth.org
SUMMARY:Therapist-Led Support Group
DESCRIPTION:  \nFor more information and to register\, please email eileen@charlottetranshealth.org.
URL:https://charlottetranshealth.org/event/therapist-led-support-group-3/2025-08-06/
CATEGORIES:Support Group
ATTACH;FMTTYPE=image/png:https://charlottetranshealth.org/wp-content/uploads/2025/04/TGD-Support-Group-Edited.png
ORGANIZER;CN="Charlotte Trans Health":MAILTO:info@charlottetranshealth.org
END:VEVENT
BEGIN:VEVENT
DTSTART;TZID=America/New_York:20250721T190000
DTEND;TZID=America/New_York:20250721T203000
DTSTAMP:20260423T061401
CREATED:20240902T021716Z
LAST-MODIFIED:20260120T010943Z
UID:10000011-1753124400-1753129800@charlottetranshealth.org
SUMMARY:Monthly Member Meeting
DESCRIPTION:Monthly meeting for current and prospective CTH member providers. Meetings are the 3rd Monday of every month\, except December. Meetings include educational topics\, article discussions\, networking\, and case consultations. For more info\, contact the Membership Chair at membership@charlottetranshealth.org.
URL:https://charlottetranshealth.org/event/monthly-member-meeting/2025-07-21/
LOCATION:Virtual with Quarterly In-Person\, Charlotte\, NC\, United States
CATEGORIES:Education,Member Meetings
ATTACH;FMTTYPE=image/jpeg:https://charlottetranshealth.org/wp-content/uploads/2024/09/CTH_logo_purple_screen.jpg
ORGANIZER;CN="Charlotte Trans Health":MAILTO:info@charlottetranshealth.org
END:VEVENT
BEGIN:VEVENT
DTSTART;TZID=America/New_York:20250719T120000
DTEND;TZID=America/New_York:20250719T170000
DTSTAMP:20260423T061401
CREATED:20250718T023718Z
LAST-MODIFIED:20250718T023718Z
UID:10000908-1752926400-1752944400@charlottetranshealth.org
SUMMARY:Charlotte Black Pride
DESCRIPTION:Join us at the Charlotte Black Pride Expo on Saturday\, July 19th from 12-6pm!
URL:https://charlottetranshealth.org/event/charlotte-black-pride/
LOCATION:Westend Complex\, 1600 West Trade St\, Charlotte\, 28216\, United States
CATEGORIES:In-Person,Social
ATTACH;FMTTYPE=image/jpeg:https://charlottetranshealth.org/wp-content/uploads/2025/07/CBP-2025.jpg
END:VEVENT
BEGIN:VEVENT
DTSTART;TZID=America/New_York:20250716T183000
DTEND;TZID=America/New_York:20250716T193000
DTSTAMP:20260423T061401
CREATED:20250221T041055Z
LAST-MODIFIED:20260120T010404Z
UID:10000999-1752690600-1752694200@charlottetranshealth.org
SUMMARY:Therapist-Led Support Group
DESCRIPTION:  \nFor more information and to register\, please email eileen@charlottetranshealth.org.
URL:https://charlottetranshealth.org/event/therapist-led-support-group-2/2025-07-16/
CATEGORIES:In-Person,Support Group
ATTACH;FMTTYPE=image/png:https://charlottetranshealth.org/wp-content/uploads/2025/04/TGD-Support-Group-Edited.png
ORGANIZER;CN="Charlotte Trans Health":MAILTO:info@charlottetranshealth.org
END:VEVENT
BEGIN:VEVENT
DTSTART;TZID=America/New_York:20250702T183000
DTEND;TZID=America/New_York:20250702T193000
DTSTAMP:20260423T061401
CREATED:20250430T004541Z
LAST-MODIFIED:20250430T004839Z
UID:10000136-1751481000-1751484600@charlottetranshealth.org
SUMMARY:Therapist-Led Support Group
DESCRIPTION:  \nFor more information and to register\, please email eileen@charlottetranshealth.org.
URL:https://charlottetranshealth.org/event/therapist-led-support-group-3/2025-07-02/
CATEGORIES:Support Group
ATTACH;FMTTYPE=image/png:https://charlottetranshealth.org/wp-content/uploads/2025/04/TGD-Support-Group-Edited.png
ORGANIZER;CN="Charlotte Trans Health":MAILTO:info@charlottetranshealth.org
END:VEVENT
BEGIN:VEVENT
DTSTART;TZID=America/New_York:20250618T183000
DTEND;TZID=America/New_York:20250618T193000
DTSTAMP:20260423T061401
CREATED:20250221T041055Z
LAST-MODIFIED:20260120T010404Z
UID:10000998-1750271400-1750275000@charlottetranshealth.org
SUMMARY:Therapist-Led Support Group
DESCRIPTION:  \nFor more information and to register\, please email eileen@charlottetranshealth.org.
URL:https://charlottetranshealth.org/event/therapist-led-support-group-2/2025-06-18/
CATEGORIES:In-Person,Support Group
ATTACH;FMTTYPE=image/png:https://charlottetranshealth.org/wp-content/uploads/2025/04/TGD-Support-Group-Edited.png
ORGANIZER;CN="Charlotte Trans Health":MAILTO:info@charlottetranshealth.org
END:VEVENT
BEGIN:VEVENT
DTSTART;TZID=America/New_York:20250616T190000
DTEND;TZID=America/New_York:20250616T203000
DTSTAMP:20260423T061401
CREATED:20240902T021716Z
LAST-MODIFIED:20260120T010943Z
UID:10000010-1750100400-1750105800@charlottetranshealth.org
SUMMARY:Monthly Member Meeting
DESCRIPTION:Monthly meeting for current and prospective CTH member providers. Meetings are the 3rd Monday of every month\, except December. Meetings include educational topics\, article discussions\, networking\, and case consultations. For more info\, contact the Membership Chair at membership@charlottetranshealth.org.
URL:https://charlottetranshealth.org/event/monthly-member-meeting/2025-06-16/
LOCATION:Virtual with Quarterly In-Person\, Charlotte\, NC\, United States
CATEGORIES:Education,Member Meetings
ATTACH;FMTTYPE=image/jpeg:https://charlottetranshealth.org/wp-content/uploads/2024/09/CTH_logo_purple_screen.jpg
ORGANIZER;CN="Charlotte Trans Health":MAILTO:info@charlottetranshealth.org
END:VEVENT
BEGIN:VEVENT
DTSTART;TZID=America/New_York:20250613T130000
DTEND;TZID=America/New_York:20250613T190000
DTSTAMP:20260423T061401
CREATED:20250429T183104Z
LAST-MODIFIED:20250528T195723Z
UID:10000317-1749819600-1749841200@charlottetranshealth.org
SUMMARY:T.H.E. Field Day
DESCRIPTION:Join CTH and our partners on Friday\, June 13th for an afternoon of health education\, recreation and community building! This event will feature games\, movement workshops including self defense\, yoga\, and dance\, as well as presentations on diet\, exercise\, and holistic wellbeing facilitated by healthcare providers. Register here by 6/10 to help us ensure appropriate catering and preparation! \n  \nThis program is supported by Mecklenburg County with funds from the American Rescue Plan Act (ARPA).
URL:https://charlottetranshealth.org/event/t-h-e-field-day/
LOCATION:CPCC Central Campus\, 1300 Elizabeth Ave\, Charlotte\, 28205\, United States
CATEGORIES:Community Health Forum,In-Person,Social
ATTACH;FMTTYPE=image/png:https://charlottetranshealth.org/wp-content/uploads/2025/04/Social-media-1-announcement.png
ORGANIZER;CN="Charlotte Trans Health":MAILTO:info@charlottetranshealth.org
END:VEVENT
BEGIN:VEVENT
DTSTART;TZID=America/New_York:20250604T183000
DTEND;TZID=America/New_York:20250604T193000
DTSTAMP:20260423T061401
CREATED:20250430T004541Z
LAST-MODIFIED:20250430T004839Z
UID:10000135-1749061800-1749065400@charlottetranshealth.org
SUMMARY:Therapist-Led Support Group
DESCRIPTION:  \nFor more information and to register\, please email eileen@charlottetranshealth.org.
URL:https://charlottetranshealth.org/event/therapist-led-support-group-3/2025-06-04/
CATEGORIES:Support Group
ATTACH;FMTTYPE=image/png:https://charlottetranshealth.org/wp-content/uploads/2025/04/TGD-Support-Group-Edited.png
ORGANIZER;CN="Charlotte Trans Health":MAILTO:info@charlottetranshealth.org
END:VEVENT
BEGIN:VEVENT
DTSTART;TZID=America/New_York:20250531T090000
DTEND;TZID=America/New_York:20250531T170000
DTSTAMP:20260423T061401
CREATED:20250430T003453Z
LAST-MODIFIED:20250430T003453Z
UID:10000318-1748682000-1748710800@charlottetranshealth.org
SUMMARY:Pups & Pride
DESCRIPTION:Join us for a weekend of canine disc fun at our 5th annual Pups & Pride event Saturday and UpDog Competition Sunday! This weekend\, we are celebrating the wonderful diversity of our dog sport community. We welcome all who may be interested in attending regardless of your sexual orientation. Pride is the promotion of the self-affirmation\, dignity\, equality\, and increased visibility of lesbian\, gay\, bisexual\, and transgender people.\n\nAll proceeds from the event are being donated to Charlotte Trans Health!\n\nStay up to date on all things Pups & Pride by visiting the Pups & Pride Facebook page.
URL:https://charlottetranshealth.org/event/pups-pride/
LOCATION:Quicksilver Canine\, 5600 Clarence Rd\, Julian\, 27283\, United States
CATEGORIES:Fundraising,In-Person,Social
ATTACH;FMTTYPE=image/jpeg:https://charlottetranshealth.org/wp-content/uploads/2025/04/pups-and-pride-logo.jpg
ORGANIZER;CN="Pups & Pride":MAILTO:pupsandpride@gmail.com
END:VEVENT
BEGIN:VEVENT
DTSTART;TZID=America/New_York:20250521T183000
DTEND;TZID=America/New_York:20250521T193000
DTSTAMP:20260423T061401
CREATED:20250221T041055Z
LAST-MODIFIED:20260120T010404Z
UID:10000997-1747852200-1747855800@charlottetranshealth.org
SUMMARY:Therapist-Led Support Group
DESCRIPTION:  \nFor more information and to register\, please email eileen@charlottetranshealth.org.
URL:https://charlottetranshealth.org/event/therapist-led-support-group-2/2025-05-21/
CATEGORIES:In-Person,Support Group
ATTACH;FMTTYPE=image/png:https://charlottetranshealth.org/wp-content/uploads/2025/04/TGD-Support-Group-Edited.png
ORGANIZER;CN="Charlotte Trans Health":MAILTO:info@charlottetranshealth.org
END:VEVENT
BEGIN:VEVENT
DTSTART;TZID=America/New_York:20250519T190000
DTEND;TZID=America/New_York:20250519T203000
DTSTAMP:20260423T061401
CREATED:20240902T021716Z
LAST-MODIFIED:20260120T010943Z
UID:10000009-1747681200-1747686600@charlottetranshealth.org
SUMMARY:Monthly Member Meeting
DESCRIPTION:Monthly meeting for current and prospective CTH member providers. Meetings are the 3rd Monday of every month\, except December. Meetings include educational topics\, article discussions\, networking\, and case consultations. For more info\, contact the Membership Chair at membership@charlottetranshealth.org.
URL:https://charlottetranshealth.org/event/monthly-member-meeting/2025-05-19/
LOCATION:Virtual with Quarterly In-Person\, Charlotte\, NC\, United States
CATEGORIES:Education,Member Meetings
ATTACH;FMTTYPE=image/jpeg:https://charlottetranshealth.org/wp-content/uploads/2024/09/CTH_logo_purple_screen.jpg
ORGANIZER;CN="Charlotte Trans Health":MAILTO:info@charlottetranshealth.org
END:VEVENT
BEGIN:VEVENT
DTSTART;TZID=America/New_York:20250507T183000
DTEND;TZID=America/New_York:20250507T193000
DTSTAMP:20260423T061401
CREATED:20250430T004541Z
LAST-MODIFIED:20250430T004839Z
UID:10000134-1746642600-1746646200@charlottetranshealth.org
SUMMARY:Therapist-Led Support Group
DESCRIPTION:  \nFor more information and to register\, please email eileen@charlottetranshealth.org.
URL:https://charlottetranshealth.org/event/therapist-led-support-group-3/2025-05-07/
CATEGORIES:Support Group
ATTACH;FMTTYPE=image/png:https://charlottetranshealth.org/wp-content/uploads/2025/04/TGD-Support-Group-Edited.png
ORGANIZER;CN="Charlotte Trans Health":MAILTO:info@charlottetranshealth.org
END:VEVENT
END:VCALENDAR