BEGIN:VCALENDAR
VERSION:2.0
PRODID:-//Charlotte Trans Health - ECPv6.15.17.1//NONSGML v1.0//EN
CALSCALE:GREGORIAN
METHOD:PUBLISH
X-WR-CALNAME:Charlotte Trans Health
X-ORIGINAL-URL:https://charlottetranshealth.org
X-WR-CALDESC:Events for Charlotte Trans Health
REFRESH-INTERVAL;VALUE=DURATION:PT1H
X-Robots-Tag:noindex
X-PUBLISHED-TTL:PT1H
BEGIN:VTIMEZONE
TZID:America/New_York
BEGIN:DAYLIGHT
TZOFFSETFROM:-0500
TZOFFSETTO:-0400
TZNAME:EDT
DTSTART:20270314T070000
END:DAYLIGHT
BEGIN:STANDARD
TZOFFSETFROM:-0400
TZOFFSETTO:-0500
TZNAME:EST
DTSTART:20271107T060000
END:STANDARD
BEGIN:DAYLIGHT
TZOFFSETFROM:-0500
TZOFFSETTO:-0400
TZNAME:EDT
DTSTART:20280312T070000
END:DAYLIGHT
BEGIN:STANDARD
TZOFFSETFROM:-0400
TZOFFSETTO:-0500
TZNAME:EST
DTSTART:20281105T060000
END:STANDARD
BEGIN:DAYLIGHT
TZOFFSETFROM:-0500
TZOFFSETTO:-0400
TZNAME:EDT
DTSTART:20290311T070000
END:DAYLIGHT
BEGIN:STANDARD
TZOFFSETFROM:-0400
TZOFFSETTO:-0500
TZNAME:EST
DTSTART:20291104T060000
END:STANDARD
BEGIN:DAYLIGHT
TZOFFSETFROM:-0500
TZOFFSETTO:-0400
TZNAME:EDT
DTSTART:20300310T070000
END:DAYLIGHT
BEGIN:STANDARD
TZOFFSETFROM:-0400
TZOFFSETTO:-0500
TZNAME:EST
DTSTART:20301103T060000
END:STANDARD
BEGIN:DAYLIGHT
TZOFFSETFROM:-0500
TZOFFSETTO:-0400
TZNAME:EDT
DTSTART:20310309T070000
END:DAYLIGHT
BEGIN:STANDARD
TZOFFSETFROM:-0400
TZOFFSETTO:-0500
TZNAME:EST
DTSTART:20311102T060000
END:STANDARD
END:VTIMEZONE
BEGIN:VEVENT
DTSTART;TZID=America/New_York:20280719T183000
DTEND;TZID=America/New_York:20280719T193000
DTSTAMP:20260425T111719
CREATED:20250221T041055Z
LAST-MODIFIED:20260120T010404Z
UID:10001035-1847644200-1847647800@charlottetranshealth.org
SUMMARY:Therapist-Led Support Group
DESCRIPTION:  \nFor more information and to register\, please email eileen@charlottetranshealth.org.
URL:https://charlottetranshealth.org/event/therapist-led-support-group-2/2028-07-19/
CATEGORIES:In-Person,Support Group
ATTACH;FMTTYPE=image/png:https://charlottetranshealth.org/wp-content/uploads/2025/04/TGD-Support-Group-Edited.png
ORGANIZER;CN="Charlotte Trans Health":MAILTO:info@charlottetranshealth.org
END:VEVENT
BEGIN:VEVENT
DTSTART;TZID=America/New_York:20280816T183000
DTEND;TZID=America/New_York:20280816T193000
DTSTAMP:20260425T111719
CREATED:20250221T041055Z
LAST-MODIFIED:20260120T010404Z
UID:10001036-1850063400-1850067000@charlottetranshealth.org
SUMMARY:Therapist-Led Support Group
DESCRIPTION:  \nFor more information and to register\, please email eileen@charlottetranshealth.org.
URL:https://charlottetranshealth.org/event/therapist-led-support-group-2/2028-08-16/
CATEGORIES:In-Person,Support Group
ATTACH;FMTTYPE=image/png:https://charlottetranshealth.org/wp-content/uploads/2025/04/TGD-Support-Group-Edited.png
ORGANIZER;CN="Charlotte Trans Health":MAILTO:info@charlottetranshealth.org
END:VEVENT
BEGIN:VEVENT
DTSTART;TZID=America/New_York:20280920T183000
DTEND;TZID=America/New_York:20280920T193000
DTSTAMP:20260425T111719
CREATED:20250221T041055Z
LAST-MODIFIED:20260120T010404Z
UID:10001037-1853087400-1853091000@charlottetranshealth.org
SUMMARY:Therapist-Led Support Group
DESCRIPTION:  \nFor more information and to register\, please email eileen@charlottetranshealth.org.
URL:https://charlottetranshealth.org/event/therapist-led-support-group-2/2028-09-20/
CATEGORIES:In-Person,Support Group
ATTACH;FMTTYPE=image/png:https://charlottetranshealth.org/wp-content/uploads/2025/04/TGD-Support-Group-Edited.png
ORGANIZER;CN="Charlotte Trans Health":MAILTO:info@charlottetranshealth.org
END:VEVENT
BEGIN:VEVENT
DTSTART;TZID=America/New_York:20281018T183000
DTEND;TZID=America/New_York:20281018T193000
DTSTAMP:20260425T111719
CREATED:20250221T041055Z
LAST-MODIFIED:20260120T010404Z
UID:10001038-1855506600-1855510200@charlottetranshealth.org
SUMMARY:Therapist-Led Support Group
DESCRIPTION:  \nFor more information and to register\, please email eileen@charlottetranshealth.org.
URL:https://charlottetranshealth.org/event/therapist-led-support-group-2/2028-10-18/
CATEGORIES:In-Person,Support Group
ATTACH;FMTTYPE=image/png:https://charlottetranshealth.org/wp-content/uploads/2025/04/TGD-Support-Group-Edited.png
ORGANIZER;CN="Charlotte Trans Health":MAILTO:info@charlottetranshealth.org
END:VEVENT
BEGIN:VEVENT
DTSTART;TZID=America/New_York:20281115T183000
DTEND;TZID=America/New_York:20281115T193000
DTSTAMP:20260425T111719
CREATED:20250221T041055Z
LAST-MODIFIED:20260120T010404Z
UID:10001039-1857925800-1857929400@charlottetranshealth.org
SUMMARY:Therapist-Led Support Group
DESCRIPTION:  \nFor more information and to register\, please email eileen@charlottetranshealth.org.
URL:https://charlottetranshealth.org/event/therapist-led-support-group-2/2028-11-15/
CATEGORIES:In-Person,Support Group
ATTACH;FMTTYPE=image/png:https://charlottetranshealth.org/wp-content/uploads/2025/04/TGD-Support-Group-Edited.png
ORGANIZER;CN="Charlotte Trans Health":MAILTO:info@charlottetranshealth.org
END:VEVENT
BEGIN:VEVENT
DTSTART;TZID=America/New_York:20281220T183000
DTEND;TZID=America/New_York:20281220T193000
DTSTAMP:20260425T111719
CREATED:20250221T041055Z
LAST-MODIFIED:20260120T010404Z
UID:10001040-1860949800-1860953400@charlottetranshealth.org
SUMMARY:Therapist-Led Support Group
DESCRIPTION:  \nFor more information and to register\, please email eileen@charlottetranshealth.org.
URL:https://charlottetranshealth.org/event/therapist-led-support-group-2/2028-12-20/
CATEGORIES:In-Person,Support Group
ATTACH;FMTTYPE=image/png:https://charlottetranshealth.org/wp-content/uploads/2025/04/TGD-Support-Group-Edited.png
ORGANIZER;CN="Charlotte Trans Health":MAILTO:info@charlottetranshealth.org
END:VEVENT
BEGIN:VEVENT
DTSTART;TZID=America/New_York:20290117T183000
DTEND;TZID=America/New_York:20290117T193000
DTSTAMP:20260425T111719
CREATED:20250221T041055Z
LAST-MODIFIED:20260120T010404Z
UID:10001041-1863369000-1863372600@charlottetranshealth.org
SUMMARY:Therapist-Led Support Group
DESCRIPTION:  \nFor more information and to register\, please email eileen@charlottetranshealth.org.
URL:https://charlottetranshealth.org/event/therapist-led-support-group-2/2029-01-17/
CATEGORIES:In-Person,Support Group
ATTACH;FMTTYPE=image/png:https://charlottetranshealth.org/wp-content/uploads/2025/04/TGD-Support-Group-Edited.png
ORGANIZER;CN="Charlotte Trans Health":MAILTO:info@charlottetranshealth.org
END:VEVENT
BEGIN:VEVENT
DTSTART;TZID=America/New_York:20290221T183000
DTEND;TZID=America/New_York:20290221T193000
DTSTAMP:20260425T111719
CREATED:20250221T041055Z
LAST-MODIFIED:20260120T010404Z
UID:10001042-1866393000-1866396600@charlottetranshealth.org
SUMMARY:Therapist-Led Support Group
DESCRIPTION:  \nFor more information and to register\, please email eileen@charlottetranshealth.org.
URL:https://charlottetranshealth.org/event/therapist-led-support-group-2/2029-02-21/
CATEGORIES:In-Person,Support Group
ATTACH;FMTTYPE=image/png:https://charlottetranshealth.org/wp-content/uploads/2025/04/TGD-Support-Group-Edited.png
ORGANIZER;CN="Charlotte Trans Health":MAILTO:info@charlottetranshealth.org
END:VEVENT
BEGIN:VEVENT
DTSTART;TZID=America/New_York:20290321T183000
DTEND;TZID=America/New_York:20290321T193000
DTSTAMP:20260425T111719
CREATED:20250221T041055Z
LAST-MODIFIED:20260120T010404Z
UID:10001043-1868812200-1868815800@charlottetranshealth.org
SUMMARY:Therapist-Led Support Group
DESCRIPTION:  \nFor more information and to register\, please email eileen@charlottetranshealth.org.
URL:https://charlottetranshealth.org/event/therapist-led-support-group-2/2029-03-21/
CATEGORIES:In-Person,Support Group
ATTACH;FMTTYPE=image/png:https://charlottetranshealth.org/wp-content/uploads/2025/04/TGD-Support-Group-Edited.png
ORGANIZER;CN="Charlotte Trans Health":MAILTO:info@charlottetranshealth.org
END:VEVENT
BEGIN:VEVENT
DTSTART;TZID=America/New_York:20290418T183000
DTEND;TZID=America/New_York:20290418T193000
DTSTAMP:20260425T111719
CREATED:20250221T041055Z
LAST-MODIFIED:20260120T010404Z
UID:10001044-1871231400-1871235000@charlottetranshealth.org
SUMMARY:Therapist-Led Support Group
DESCRIPTION:  \nFor more information and to register\, please email eileen@charlottetranshealth.org.
URL:https://charlottetranshealth.org/event/therapist-led-support-group-2/2029-04-18/
CATEGORIES:In-Person,Support Group
ATTACH;FMTTYPE=image/png:https://charlottetranshealth.org/wp-content/uploads/2025/04/TGD-Support-Group-Edited.png
ORGANIZER;CN="Charlotte Trans Health":MAILTO:info@charlottetranshealth.org
END:VEVENT
BEGIN:VEVENT
DTSTART;TZID=America/New_York:20290516T183000
DTEND;TZID=America/New_York:20290516T193000
DTSTAMP:20260425T111719
CREATED:20250221T041055Z
LAST-MODIFIED:20260120T010404Z
UID:10001045-1873650600-1873654200@charlottetranshealth.org
SUMMARY:Therapist-Led Support Group
DESCRIPTION:  \nFor more information and to register\, please email eileen@charlottetranshealth.org.
URL:https://charlottetranshealth.org/event/therapist-led-support-group-2/2029-05-16/
CATEGORIES:In-Person,Support Group
ATTACH;FMTTYPE=image/png:https://charlottetranshealth.org/wp-content/uploads/2025/04/TGD-Support-Group-Edited.png
ORGANIZER;CN="Charlotte Trans Health":MAILTO:info@charlottetranshealth.org
END:VEVENT
BEGIN:VEVENT
DTSTART;TZID=America/New_York:20290620T183000
DTEND;TZID=America/New_York:20290620T193000
DTSTAMP:20260425T111719
CREATED:20250221T041055Z
LAST-MODIFIED:20260120T010404Z
UID:10001046-1876674600-1876678200@charlottetranshealth.org
SUMMARY:Therapist-Led Support Group
DESCRIPTION:  \nFor more information and to register\, please email eileen@charlottetranshealth.org.
URL:https://charlottetranshealth.org/event/therapist-led-support-group-2/2029-06-20/
CATEGORIES:In-Person,Support Group
ATTACH;FMTTYPE=image/png:https://charlottetranshealth.org/wp-content/uploads/2025/04/TGD-Support-Group-Edited.png
ORGANIZER;CN="Charlotte Trans Health":MAILTO:info@charlottetranshealth.org
END:VEVENT
BEGIN:VEVENT
DTSTART;TZID=America/New_York:20290718T183000
DTEND;TZID=America/New_York:20290718T193000
DTSTAMP:20260425T111719
CREATED:20250221T041055Z
LAST-MODIFIED:20260120T010404Z
UID:10001047-1879093800-1879097400@charlottetranshealth.org
SUMMARY:Therapist-Led Support Group
DESCRIPTION:  \nFor more information and to register\, please email eileen@charlottetranshealth.org.
URL:https://charlottetranshealth.org/event/therapist-led-support-group-2/2029-07-18/
CATEGORIES:In-Person,Support Group
ATTACH;FMTTYPE=image/png:https://charlottetranshealth.org/wp-content/uploads/2025/04/TGD-Support-Group-Edited.png
ORGANIZER;CN="Charlotte Trans Health":MAILTO:info@charlottetranshealth.org
END:VEVENT
BEGIN:VEVENT
DTSTART;TZID=America/New_York:20290815T183000
DTEND;TZID=America/New_York:20290815T193000
DTSTAMP:20260425T111719
CREATED:20250221T041055Z
LAST-MODIFIED:20260120T010404Z
UID:10001048-1881513000-1881516600@charlottetranshealth.org
SUMMARY:Therapist-Led Support Group
DESCRIPTION:  \nFor more information and to register\, please email eileen@charlottetranshealth.org.
URL:https://charlottetranshealth.org/event/therapist-led-support-group-2/2029-08-15/
CATEGORIES:In-Person,Support Group
ATTACH;FMTTYPE=image/png:https://charlottetranshealth.org/wp-content/uploads/2025/04/TGD-Support-Group-Edited.png
ORGANIZER;CN="Charlotte Trans Health":MAILTO:info@charlottetranshealth.org
END:VEVENT
BEGIN:VEVENT
DTSTART;TZID=America/New_York:20290919T183000
DTEND;TZID=America/New_York:20290919T193000
DTSTAMP:20260425T111719
CREATED:20250221T041055Z
LAST-MODIFIED:20260120T010404Z
UID:10001049-1884537000-1884540600@charlottetranshealth.org
SUMMARY:Therapist-Led Support Group
DESCRIPTION:  \nFor more information and to register\, please email eileen@charlottetranshealth.org.
URL:https://charlottetranshealth.org/event/therapist-led-support-group-2/2029-09-19/
CATEGORIES:In-Person,Support Group
ATTACH;FMTTYPE=image/png:https://charlottetranshealth.org/wp-content/uploads/2025/04/TGD-Support-Group-Edited.png
ORGANIZER;CN="Charlotte Trans Health":MAILTO:info@charlottetranshealth.org
END:VEVENT
BEGIN:VEVENT
DTSTART;TZID=America/New_York:20291017T183000
DTEND;TZID=America/New_York:20291017T193000
DTSTAMP:20260425T111719
CREATED:20250221T041055Z
LAST-MODIFIED:20260120T010404Z
UID:10001050-1886956200-1886959800@charlottetranshealth.org
SUMMARY:Therapist-Led Support Group
DESCRIPTION:  \nFor more information and to register\, please email eileen@charlottetranshealth.org.
URL:https://charlottetranshealth.org/event/therapist-led-support-group-2/2029-10-17/
CATEGORIES:In-Person,Support Group
ATTACH;FMTTYPE=image/png:https://charlottetranshealth.org/wp-content/uploads/2025/04/TGD-Support-Group-Edited.png
ORGANIZER;CN="Charlotte Trans Health":MAILTO:info@charlottetranshealth.org
END:VEVENT
BEGIN:VEVENT
DTSTART;TZID=America/New_York:20291121T183000
DTEND;TZID=America/New_York:20291121T193000
DTSTAMP:20260425T111719
CREATED:20250221T041055Z
LAST-MODIFIED:20260120T010404Z
UID:10001051-1889980200-1889983800@charlottetranshealth.org
SUMMARY:Therapist-Led Support Group
DESCRIPTION:  \nFor more information and to register\, please email eileen@charlottetranshealth.org.
URL:https://charlottetranshealth.org/event/therapist-led-support-group-2/2029-11-21/
CATEGORIES:In-Person,Support Group
ATTACH;FMTTYPE=image/png:https://charlottetranshealth.org/wp-content/uploads/2025/04/TGD-Support-Group-Edited.png
ORGANIZER;CN="Charlotte Trans Health":MAILTO:info@charlottetranshealth.org
END:VEVENT
BEGIN:VEVENT
DTSTART;TZID=America/New_York:20291219T183000
DTEND;TZID=America/New_York:20291219T193000
DTSTAMP:20260425T111719
CREATED:20250221T041055Z
LAST-MODIFIED:20260120T010404Z
UID:10001052-1892399400-1892403000@charlottetranshealth.org
SUMMARY:Therapist-Led Support Group
DESCRIPTION:  \nFor more information and to register\, please email eileen@charlottetranshealth.org.
URL:https://charlottetranshealth.org/event/therapist-led-support-group-2/2029-12-19/
CATEGORIES:In-Person,Support Group
ATTACH;FMTTYPE=image/png:https://charlottetranshealth.org/wp-content/uploads/2025/04/TGD-Support-Group-Edited.png
ORGANIZER;CN="Charlotte Trans Health":MAILTO:info@charlottetranshealth.org
END:VEVENT
BEGIN:VEVENT
DTSTART;TZID=America/New_York:20300116T183000
DTEND;TZID=America/New_York:20300116T193000
DTSTAMP:20260425T111719
CREATED:20250221T041055Z
LAST-MODIFIED:20260120T010404Z
UID:10001053-1894818600-1894822200@charlottetranshealth.org
SUMMARY:Therapist-Led Support Group
DESCRIPTION:  \nFor more information and to register\, please email eileen@charlottetranshealth.org.
URL:https://charlottetranshealth.org/event/therapist-led-support-group-2/2030-01-16/
CATEGORIES:In-Person,Support Group
ATTACH;FMTTYPE=image/png:https://charlottetranshealth.org/wp-content/uploads/2025/04/TGD-Support-Group-Edited.png
ORGANIZER;CN="Charlotte Trans Health":MAILTO:info@charlottetranshealth.org
END:VEVENT
BEGIN:VEVENT
DTSTART;TZID=America/New_York:20300220T183000
DTEND;TZID=America/New_York:20300220T193000
DTSTAMP:20260425T111719
CREATED:20250221T041055Z
LAST-MODIFIED:20260120T010404Z
UID:10001054-1897842600-1897846200@charlottetranshealth.org
SUMMARY:Therapist-Led Support Group
DESCRIPTION:  \nFor more information and to register\, please email eileen@charlottetranshealth.org.
URL:https://charlottetranshealth.org/event/therapist-led-support-group-2/2030-02-20/
CATEGORIES:In-Person,Support Group
ATTACH;FMTTYPE=image/png:https://charlottetranshealth.org/wp-content/uploads/2025/04/TGD-Support-Group-Edited.png
ORGANIZER;CN="Charlotte Trans Health":MAILTO:info@charlottetranshealth.org
END:VEVENT
BEGIN:VEVENT
DTSTART;TZID=America/New_York:20300320T183000
DTEND;TZID=America/New_York:20300320T193000
DTSTAMP:20260425T111719
CREATED:20250221T041055Z
LAST-MODIFIED:20260120T010404Z
UID:10001055-1900261800-1900265400@charlottetranshealth.org
SUMMARY:Therapist-Led Support Group
DESCRIPTION:  \nFor more information and to register\, please email eileen@charlottetranshealth.org.
URL:https://charlottetranshealth.org/event/therapist-led-support-group-2/2030-03-20/
CATEGORIES:In-Person,Support Group
ATTACH;FMTTYPE=image/png:https://charlottetranshealth.org/wp-content/uploads/2025/04/TGD-Support-Group-Edited.png
ORGANIZER;CN="Charlotte Trans Health":MAILTO:info@charlottetranshealth.org
END:VEVENT
BEGIN:VEVENT
DTSTART;TZID=America/New_York:20300417T183000
DTEND;TZID=America/New_York:20300417T193000
DTSTAMP:20260425T111719
CREATED:20250221T041055Z
LAST-MODIFIED:20260120T010404Z
UID:10001056-1902681000-1902684600@charlottetranshealth.org
SUMMARY:Therapist-Led Support Group
DESCRIPTION:  \nFor more information and to register\, please email eileen@charlottetranshealth.org.
URL:https://charlottetranshealth.org/event/therapist-led-support-group-2/2030-04-17/
CATEGORIES:In-Person,Support Group
ATTACH;FMTTYPE=image/png:https://charlottetranshealth.org/wp-content/uploads/2025/04/TGD-Support-Group-Edited.png
ORGANIZER;CN="Charlotte Trans Health":MAILTO:info@charlottetranshealth.org
END:VEVENT
BEGIN:VEVENT
DTSTART;TZID=America/New_York:20300515T183000
DTEND;TZID=America/New_York:20300515T193000
DTSTAMP:20260425T111719
CREATED:20250221T041055Z
LAST-MODIFIED:20260120T010404Z
UID:10001057-1905100200-1905103800@charlottetranshealth.org
SUMMARY:Therapist-Led Support Group
DESCRIPTION:  \nFor more information and to register\, please email eileen@charlottetranshealth.org.
URL:https://charlottetranshealth.org/event/therapist-led-support-group-2/2030-05-15/
CATEGORIES:In-Person,Support Group
ATTACH;FMTTYPE=image/png:https://charlottetranshealth.org/wp-content/uploads/2025/04/TGD-Support-Group-Edited.png
ORGANIZER;CN="Charlotte Trans Health":MAILTO:info@charlottetranshealth.org
END:VEVENT
BEGIN:VEVENT
DTSTART;TZID=America/New_York:20300619T183000
DTEND;TZID=America/New_York:20300619T193000
DTSTAMP:20260425T111719
CREATED:20250221T041055Z
LAST-MODIFIED:20260120T010404Z
UID:10001058-1908124200-1908127800@charlottetranshealth.org
SUMMARY:Therapist-Led Support Group
DESCRIPTION:  \nFor more information and to register\, please email eileen@charlottetranshealth.org.
URL:https://charlottetranshealth.org/event/therapist-led-support-group-2/2030-06-19/
CATEGORIES:In-Person,Support Group
ATTACH;FMTTYPE=image/png:https://charlottetranshealth.org/wp-content/uploads/2025/04/TGD-Support-Group-Edited.png
ORGANIZER;CN="Charlotte Trans Health":MAILTO:info@charlottetranshealth.org
END:VEVENT
BEGIN:VEVENT
DTSTART;TZID=America/New_York:20300717T183000
DTEND;TZID=America/New_York:20300717T193000
DTSTAMP:20260425T111719
CREATED:20250221T041055Z
LAST-MODIFIED:20260120T010404Z
UID:10001059-1910543400-1910547000@charlottetranshealth.org
SUMMARY:Therapist-Led Support Group
DESCRIPTION:  \nFor more information and to register\, please email eileen@charlottetranshealth.org.
URL:https://charlottetranshealth.org/event/therapist-led-support-group-2/2030-07-17/
CATEGORIES:In-Person,Support Group
ATTACH;FMTTYPE=image/png:https://charlottetranshealth.org/wp-content/uploads/2025/04/TGD-Support-Group-Edited.png
ORGANIZER;CN="Charlotte Trans Health":MAILTO:info@charlottetranshealth.org
END:VEVENT
BEGIN:VEVENT
DTSTART;TZID=America/New_York:20300821T183000
DTEND;TZID=America/New_York:20300821T193000
DTSTAMP:20260425T111719
CREATED:20250221T041055Z
LAST-MODIFIED:20260120T010404Z
UID:10001060-1913567400-1913571000@charlottetranshealth.org
SUMMARY:Therapist-Led Support Group
DESCRIPTION:  \nFor more information and to register\, please email eileen@charlottetranshealth.org.
URL:https://charlottetranshealth.org/event/therapist-led-support-group-2/2030-08-21/
CATEGORIES:In-Person,Support Group
ATTACH;FMTTYPE=image/png:https://charlottetranshealth.org/wp-content/uploads/2025/04/TGD-Support-Group-Edited.png
ORGANIZER;CN="Charlotte Trans Health":MAILTO:info@charlottetranshealth.org
END:VEVENT
BEGIN:VEVENT
DTSTART;TZID=America/New_York:20300918T183000
DTEND;TZID=America/New_York:20300918T193000
DTSTAMP:20260425T111719
CREATED:20250221T041055Z
LAST-MODIFIED:20260120T010404Z
UID:10001061-1915986600-1915990200@charlottetranshealth.org
SUMMARY:Therapist-Led Support Group
DESCRIPTION:  \nFor more information and to register\, please email eileen@charlottetranshealth.org.
URL:https://charlottetranshealth.org/event/therapist-led-support-group-2/2030-09-18/
CATEGORIES:In-Person,Support Group
ATTACH;FMTTYPE=image/png:https://charlottetranshealth.org/wp-content/uploads/2025/04/TGD-Support-Group-Edited.png
ORGANIZER;CN="Charlotte Trans Health":MAILTO:info@charlottetranshealth.org
END:VEVENT
BEGIN:VEVENT
DTSTART;TZID=America/New_York:20301016T183000
DTEND;TZID=America/New_York:20301016T193000
DTSTAMP:20260425T111719
CREATED:20250221T041055Z
LAST-MODIFIED:20260120T010404Z
UID:10001062-1918405800-1918409400@charlottetranshealth.org
SUMMARY:Therapist-Led Support Group
DESCRIPTION:  \nFor more information and to register\, please email eileen@charlottetranshealth.org.
URL:https://charlottetranshealth.org/event/therapist-led-support-group-2/2030-10-16/
CATEGORIES:In-Person,Support Group
ATTACH;FMTTYPE=image/png:https://charlottetranshealth.org/wp-content/uploads/2025/04/TGD-Support-Group-Edited.png
ORGANIZER;CN="Charlotte Trans Health":MAILTO:info@charlottetranshealth.org
END:VEVENT
BEGIN:VEVENT
DTSTART;TZID=America/New_York:20301120T183000
DTEND;TZID=America/New_York:20301120T193000
DTSTAMP:20260425T111719
CREATED:20250221T041055Z
LAST-MODIFIED:20260120T010404Z
UID:10001063-1921429800-1921433400@charlottetranshealth.org
SUMMARY:Therapist-Led Support Group
DESCRIPTION:  \nFor more information and to register\, please email eileen@charlottetranshealth.org.
URL:https://charlottetranshealth.org/event/therapist-led-support-group-2/2030-11-20/
CATEGORIES:In-Person,Support Group
ATTACH;FMTTYPE=image/png:https://charlottetranshealth.org/wp-content/uploads/2025/04/TGD-Support-Group-Edited.png
ORGANIZER;CN="Charlotte Trans Health":MAILTO:info@charlottetranshealth.org
END:VEVENT
BEGIN:VEVENT
DTSTART;TZID=America/New_York:20301218T183000
DTEND;TZID=America/New_York:20301218T193000
DTSTAMP:20260425T111719
CREATED:20250221T041055Z
LAST-MODIFIED:20260120T010404Z
UID:10001064-1923849000-1923852600@charlottetranshealth.org
SUMMARY:Therapist-Led Support Group
DESCRIPTION:  \nFor more information and to register\, please email eileen@charlottetranshealth.org.
URL:https://charlottetranshealth.org/event/therapist-led-support-group-2/2030-12-18/
CATEGORIES:In-Person,Support Group
ATTACH;FMTTYPE=image/png:https://charlottetranshealth.org/wp-content/uploads/2025/04/TGD-Support-Group-Edited.png
ORGANIZER;CN="Charlotte Trans Health":MAILTO:info@charlottetranshealth.org
END:VEVENT
END:VCALENDAR