BEGIN:VCALENDAR
VERSION:2.0
PRODID:-//Charlotte Trans Health - ECPv6.15.17.1//NONSGML v1.0//EN
CALSCALE:GREGORIAN
METHOD:PUBLISH
X-WR-CALNAME:Charlotte Trans Health
X-ORIGINAL-URL:https://charlottetranshealth.org
X-WR-CALDESC:Events for Charlotte Trans Health
REFRESH-INTERVAL;VALUE=DURATION:PT1H
X-Robots-Tag:noindex
X-PUBLISHED-TTL:PT1H
BEGIN:VTIMEZONE
TZID:America/New_York
BEGIN:DAYLIGHT
TZOFFSETFROM:-0500
TZOFFSETTO:-0400
TZNAME:EDT
DTSTART:20240310T070000
END:DAYLIGHT
BEGIN:STANDARD
TZOFFSETFROM:-0400
TZOFFSETTO:-0500
TZNAME:EST
DTSTART:20241103T060000
END:STANDARD
BEGIN:DAYLIGHT
TZOFFSETFROM:-0500
TZOFFSETTO:-0400
TZNAME:EDT
DTSTART:20250309T070000
END:DAYLIGHT
BEGIN:STANDARD
TZOFFSETFROM:-0400
TZOFFSETTO:-0500
TZNAME:EST
DTSTART:20251102T060000
END:STANDARD
BEGIN:DAYLIGHT
TZOFFSETFROM:-0500
TZOFFSETTO:-0400
TZNAME:EDT
DTSTART:20260308T070000
END:DAYLIGHT
BEGIN:STANDARD
TZOFFSETFROM:-0400
TZOFFSETTO:-0500
TZNAME:EST
DTSTART:20261101T060000
END:STANDARD
BEGIN:DAYLIGHT
TZOFFSETFROM:-0500
TZOFFSETTO:-0400
TZNAME:EDT
DTSTART:20270314T070000
END:DAYLIGHT
BEGIN:STANDARD
TZOFFSETFROM:-0400
TZOFFSETTO:-0500
TZNAME:EST
DTSTART:20271107T060000
END:STANDARD
END:VTIMEZONE
BEGIN:VEVENT
DTSTART;VALUE=DATE:20260422
DTEND;VALUE=DATE:20260423
DTSTAMP:20260425T115530
CREATED:20260319T023535Z
LAST-MODIFIED:20260319T024320Z
UID:10001081-1776816000-1776902399@charlottetranshealth.org
SUMMARY:Birdies for Better - Bid for Prizes While Donating to CTH!
DESCRIPTION:Driving Impact by Giving Back \nSupport CTH and join the fun! \nKnow any golf fans? Share this with them today! \nDonate $20 or more for a chance to guess the number of birdies* at the 2026 Truist Championship and win prizes. 100% of donations go to CTH\, plus a share of a $100\,000 bonus pool. \nThe individual who comes closest to guessing the number of birdies made during the 2026 Truist Championship will win a one-year Audi Q5 lease or $10\,000! Runner-up will receive a Date Night for a Year at Steak 48 and the next runner-up will wine a VIP Experience for Two at the 2027 Truist Championship! \n*A birdie is a score of one stroke under par (-1) on any individual hole. \nBid today in support of affirming care!
URL:https://charlottetranshealth.org/event/birdies-for-better-bid-for-prizes-while-donating-to-cth/2026-04-22/
CATEGORIES:Fundraising
ATTACH;FMTTYPE=image/jpeg:https://charlottetranshealth.org/wp-content/uploads/2026/03/BirdiesforBetter_Primary_JPEG.jpg
ORGANIZER;CN="Charlotte Trans Health":MAILTO:info@charlottetranshealth.org
END:VEVENT
BEGIN:VEVENT
DTSTART;VALUE=DATE:20260415
DTEND;VALUE=DATE:20260416
DTSTAMP:20260425T115530
CREATED:20260319T023535Z
LAST-MODIFIED:20260319T024320Z
UID:10001080-1776211200-1776297599@charlottetranshealth.org
SUMMARY:Birdies for Better - Bid for Prizes While Donating to CTH!
DESCRIPTION:Driving Impact by Giving Back \nSupport CTH and join the fun! \nKnow any golf fans? Share this with them today! \nDonate $20 or more for a chance to guess the number of birdies* at the 2026 Truist Championship and win prizes. 100% of donations go to CTH\, plus a share of a $100\,000 bonus pool. \nThe individual who comes closest to guessing the number of birdies made during the 2026 Truist Championship will win a one-year Audi Q5 lease or $10\,000! Runner-up will receive a Date Night for a Year at Steak 48 and the next runner-up will wine a VIP Experience for Two at the 2027 Truist Championship! \n*A birdie is a score of one stroke under par (-1) on any individual hole. \nBid today in support of affirming care!
URL:https://charlottetranshealth.org/event/birdies-for-better-bid-for-prizes-while-donating-to-cth/2026-04-15/
CATEGORIES:Fundraising
ATTACH;FMTTYPE=image/jpeg:https://charlottetranshealth.org/wp-content/uploads/2026/03/BirdiesforBetter_Primary_JPEG.jpg
ORGANIZER;CN="Charlotte Trans Health":MAILTO:info@charlottetranshealth.org
END:VEVENT
BEGIN:VEVENT
DTSTART;VALUE=DATE:20260408
DTEND;VALUE=DATE:20260409
DTSTAMP:20260425T115530
CREATED:20260319T023535Z
LAST-MODIFIED:20260319T024320Z
UID:10001079-1775606400-1775692799@charlottetranshealth.org
SUMMARY:Birdies for Better - Bid for Prizes While Donating to CTH!
DESCRIPTION:Driving Impact by Giving Back \nSupport CTH and join the fun! \nKnow any golf fans? Share this with them today! \nDonate $20 or more for a chance to guess the number of birdies* at the 2026 Truist Championship and win prizes. 100% of donations go to CTH\, plus a share of a $100\,000 bonus pool. \nThe individual who comes closest to guessing the number of birdies made during the 2026 Truist Championship will win a one-year Audi Q5 lease or $10\,000! Runner-up will receive a Date Night for a Year at Steak 48 and the next runner-up will wine a VIP Experience for Two at the 2027 Truist Championship! \n*A birdie is a score of one stroke under par (-1) on any individual hole. \nBid today in support of affirming care!
URL:https://charlottetranshealth.org/event/birdies-for-better-bid-for-prizes-while-donating-to-cth/2026-04-08/
CATEGORIES:Fundraising
ATTACH;FMTTYPE=image/jpeg:https://charlottetranshealth.org/wp-content/uploads/2026/03/BirdiesforBetter_Primary_JPEG.jpg
ORGANIZER;CN="Charlotte Trans Health":MAILTO:info@charlottetranshealth.org
END:VEVENT
BEGIN:VEVENT
DTSTART;VALUE=DATE:20260401
DTEND;VALUE=DATE:20260402
DTSTAMP:20260425T115530
CREATED:20260319T023535Z
LAST-MODIFIED:20260319T024320Z
UID:10001078-1775001600-1775087999@charlottetranshealth.org
SUMMARY:Birdies for Better - Bid for Prizes While Donating to CTH!
DESCRIPTION:Driving Impact by Giving Back \nSupport CTH and join the fun! \nKnow any golf fans? Share this with them today! \nDonate $20 or more for a chance to guess the number of birdies* at the 2026 Truist Championship and win prizes. 100% of donations go to CTH\, plus a share of a $100\,000 bonus pool. \nThe individual who comes closest to guessing the number of birdies made during the 2026 Truist Championship will win a one-year Audi Q5 lease or $10\,000! Runner-up will receive a Date Night for a Year at Steak 48 and the next runner-up will wine a VIP Experience for Two at the 2027 Truist Championship! \n*A birdie is a score of one stroke under par (-1) on any individual hole. \nBid today in support of affirming care!
URL:https://charlottetranshealth.org/event/birdies-for-better-bid-for-prizes-while-donating-to-cth/2026-04-01/
CATEGORIES:Fundraising
ATTACH;FMTTYPE=image/jpeg:https://charlottetranshealth.org/wp-content/uploads/2026/03/BirdiesforBetter_Primary_JPEG.jpg
ORGANIZER;CN="Charlotte Trans Health":MAILTO:info@charlottetranshealth.org
END:VEVENT
BEGIN:VEVENT
DTSTART;VALUE=DATE:20260325
DTEND;VALUE=DATE:20260326
DTSTAMP:20260425T115530
CREATED:20260319T023535Z
LAST-MODIFIED:20260319T024320Z
UID:10001077-1774396800-1774483199@charlottetranshealth.org
SUMMARY:Birdies for Better - Bid for Prizes While Donating to CTH!
DESCRIPTION:Driving Impact by Giving Back \nSupport CTH and join the fun! \nKnow any golf fans? Share this with them today! \nDonate $20 or more for a chance to guess the number of birdies* at the 2026 Truist Championship and win prizes. 100% of donations go to CTH\, plus a share of a $100\,000 bonus pool. \nThe individual who comes closest to guessing the number of birdies made during the 2026 Truist Championship will win a one-year Audi Q5 lease or $10\,000! Runner-up will receive a Date Night for a Year at Steak 48 and the next runner-up will wine a VIP Experience for Two at the 2027 Truist Championship! \n*A birdie is a score of one stroke under par (-1) on any individual hole. \nBid today in support of affirming care!
URL:https://charlottetranshealth.org/event/birdies-for-better-bid-for-prizes-while-donating-to-cth/2026-03-25/
CATEGORIES:Fundraising
ATTACH;FMTTYPE=image/jpeg:https://charlottetranshealth.org/wp-content/uploads/2026/03/BirdiesforBetter_Primary_JPEG.jpg
ORGANIZER;CN="Charlotte Trans Health":MAILTO:info@charlottetranshealth.org
END:VEVENT
BEGIN:VEVENT
DTSTART;TZID=America/New_York:20250809T120000
DTEND;TZID=America/New_York:20250809T170000
DTSTAMP:20260425T115530
CREATED:20250802T163643Z
LAST-MODIFIED:20250802T202011Z
UID:10000910-1754740800-1754758800@charlottetranshealth.org
SUMMARY:Pride Kick-Off Party at Common Market - Benefitting Charlotte Trans Health
DESCRIPTION:What Are You Doing Saturday\, August 9th?\nCome kick off Charlotte Pride a weekend early at Common Market Oakwold—and support Charlotte Trans Health while you’re at it!\n\n\nIt’s a full day and evening of fun\, celebration\, and community featuring:\n\n\nDrag Storytime & Two Major Drag Shows\nHosted by RC Cola and Lolita Chanel\nFeaturing Don Javi\, Lucy Paradisco\, and Oso Chanel!\n\n\nAll Ages Show | 6:30–8:00 PM\n“Not All Ages” Show | 8:30–10:00 PM\nVendor Market — Bits\, baubles\, art\, and more!\nFeatured Beverages from:\nSierra Nevada • Suffolk Punch • Hoptown • Hopfly • Wolffer Wines\n\n\nRaffle Benefiting Charlotte Trans Health!\nWin prizes from: Charlotte FC • Charlotte Royals • Enderly Coffee • Liquid Death • Magnolia Coffee • Five Flowers • Adams Beverage Distribution and more!\n\n\nLocation: Common Market Oakwold\nDate: Saturday\, August 9th\nProceeds support Charlotte Trans Health’s mission to provide affirming\, accessible care for trans and gender-diverse communities.\n\n\nCome say hi\, learn more about our work\, and help us celebrate Charlotte Pride early—with style!\n\n\n#CharlottePride #TransHealth #DragisArt #SupportLocal #CommonMarketOakwold #GenderAffirmingCareSavesLives #lgbtqia
URL:https://charlottetranshealth.org/event/pride-kick-off-party-at-common-market-benefitting-charlotte-trans-health/
LOCATION:Common Market Oakwold\, 4420-A Monroe Road\, Charlotte\, United States
CATEGORIES:Community Engagement,Fundraising,In-Person,Social
ATTACH;FMTTYPE=image/jpeg:https://charlottetranshealth.org/wp-content/uploads/2025/08/CM-Pride-Kickoff-scaled.jpg
ORGANIZER;CN="Charlotte Trans Health":MAILTO:info@charlottetranshealth.org
END:VEVENT
BEGIN:VEVENT
DTSTART;TZID=America/New_York:20250531T090000
DTEND;TZID=America/New_York:20250531T170000
DTSTAMP:20260425T115530
CREATED:20250430T003453Z
LAST-MODIFIED:20250430T003453Z
UID:10000318-1748682000-1748710800@charlottetranshealth.org
SUMMARY:Pups & Pride
DESCRIPTION:Join us for a weekend of canine disc fun at our 5th annual Pups & Pride event Saturday and UpDog Competition Sunday! This weekend\, we are celebrating the wonderful diversity of our dog sport community. We welcome all who may be interested in attending regardless of your sexual orientation. Pride is the promotion of the self-affirmation\, dignity\, equality\, and increased visibility of lesbian\, gay\, bisexual\, and transgender people.\n\nAll proceeds from the event are being donated to Charlotte Trans Health!\n\nStay up to date on all things Pups & Pride by visiting the Pups & Pride Facebook page.
URL:https://charlottetranshealth.org/event/pups-pride/
LOCATION:Quicksilver Canine\, 5600 Clarence Rd\, Julian\, 27283\, United States
CATEGORIES:Fundraising,In-Person,Social
ATTACH;FMTTYPE=image/jpeg:https://charlottetranshealth.org/wp-content/uploads/2025/04/pups-and-pride-logo.jpg
ORGANIZER;CN="Pups & Pride":MAILTO:pupsandpride@gmail.com
END:VEVENT
BEGIN:VEVENT
DTSTART;VALUE=DATE:20250307
DTEND;VALUE=DATE:20250401
DTSTAMP:20260425T115530
CREATED:20250310T005241Z
LAST-MODIFIED:20250310T005415Z
UID:10000314-1741305600-1743465599@charlottetranshealth.org
SUMMARY:Sip a Spring Latte and Support CTH
DESCRIPTION:Spring is in the air at Queen City Grounds! \n\n\nIntroducing our Spring Drink Menu\, featuring floral-inspired flavors that are sure to brighten your day:\n\n\n Petal & Cocoa Latte – Mocha latte with a splash of rose\n Rose Matcha Shake – Matcha milk shake with a touch of rose\n Lavender Serenade Latte – Lavender latte with a hint of agave\n\n\nEach drink is $7\, and for a limited time\, 10% of sales from our spring lattes will be donated to Charlotte Trans Health until April 1st! \n\n\nCome sip\, support\, and celebrate the season with us!
URL:https://charlottetranshealth.org/event/sip-a-spring-latte-and-support-cth/
LOCATION:Queen City Grounds\, 644 N. Church Street\, Charlotte\, United States
CATEGORIES:Fundraising
ORGANIZER;CN="Charlotte Trans Health":MAILTO:info@charlottetranshealth.org
END:VEVENT
END:VCALENDAR