BEGIN:VCALENDAR
VERSION:2.0
PRODID:-//Charlotte Trans Health - ECPv6.15.17.1//NONSGML v1.0//EN
CALSCALE:GREGORIAN
METHOD:PUBLISH
X-WR-CALNAME:Charlotte Trans Health
X-ORIGINAL-URL:https://charlottetranshealth.org
X-WR-CALDESC:Events for Charlotte Trans Health
REFRESH-INTERVAL;VALUE=DURATION:PT1H
X-Robots-Tag:noindex
X-PUBLISHED-TTL:PT1H
BEGIN:VTIMEZONE
TZID:America/New_York
BEGIN:DAYLIGHT
TZOFFSETFROM:-0500
TZOFFSETTO:-0400
TZNAME:EDT
DTSTART:20290311T070000
END:DAYLIGHT
BEGIN:STANDARD
TZOFFSETFROM:-0400
TZOFFSETTO:-0500
TZNAME:EST
DTSTART:20291104T060000
END:STANDARD
BEGIN:DAYLIGHT
TZOFFSETFROM:-0500
TZOFFSETTO:-0400
TZNAME:EDT
DTSTART:20300310T070000
END:DAYLIGHT
BEGIN:STANDARD
TZOFFSETFROM:-0400
TZOFFSETTO:-0500
TZNAME:EST
DTSTART:20301103T060000
END:STANDARD
BEGIN:DAYLIGHT
TZOFFSETFROM:-0500
TZOFFSETTO:-0400
TZNAME:EDT
DTSTART:20310309T070000
END:DAYLIGHT
BEGIN:STANDARD
TZOFFSETFROM:-0400
TZOFFSETTO:-0500
TZNAME:EST
DTSTART:20311102T060000
END:STANDARD
END:VTIMEZONE
BEGIN:VEVENT
DTSTART;TZID=America/New_York:20300916T190000
DTEND;TZID=America/New_York:20300916T203000
DTSTAMP:20260423T020229
CREATED:20260120T010750Z
LAST-MODIFIED:20260120T011926Z
UID:10001067-1915815600-1915821000@charlottetranshealth.org
SUMMARY:Monthly Member Meeting
DESCRIPTION:Monthly meeting for current and prospective CTH member providers. Meetings are the 3rd Monday of every month\, except December. Meetings include educational topics\, article discussions\, networking\, and case consultations. For more info\, contact the Membership Chair at membership@charlottetranshealth.org. \nMeeting on 1/19/26 is moved to 1/26/26 due to MLK Holiday.
URL:https://charlottetranshealth.org/event/monthly-member-meeting-4/2030-09-16/
LOCATION:Virtual with Quarterly In-Person\, Charlotte\, NC\, United States
CATEGORIES:Education,Member Meetings
ATTACH;FMTTYPE=image/jpeg:https://charlottetranshealth.org/wp-content/uploads/2024/09/CTH_logo_purple_screen.jpg
ORGANIZER;CN="Charlotte Trans Health":MAILTO:info@charlottetranshealth.org
END:VEVENT
BEGIN:VEVENT
DTSTART;TZID=America/New_York:20301021T190000
DTEND;TZID=America/New_York:20301021T203000
DTSTAMP:20260423T020229
CREATED:20260120T010750Z
LAST-MODIFIED:20260120T011926Z
UID:10001068-1918839600-1918845000@charlottetranshealth.org
SUMMARY:Monthly Member Meeting
DESCRIPTION:Monthly meeting for current and prospective CTH member providers. Meetings are the 3rd Monday of every month\, except December. Meetings include educational topics\, article discussions\, networking\, and case consultations. For more info\, contact the Membership Chair at membership@charlottetranshealth.org. \nMeeting on 1/19/26 is moved to 1/26/26 due to MLK Holiday.
URL:https://charlottetranshealth.org/event/monthly-member-meeting-4/2030-10-21/
LOCATION:Virtual with Quarterly In-Person\, Charlotte\, NC\, United States
CATEGORIES:Education,Member Meetings
ATTACH;FMTTYPE=image/jpeg:https://charlottetranshealth.org/wp-content/uploads/2024/09/CTH_logo_purple_screen.jpg
ORGANIZER;CN="Charlotte Trans Health":MAILTO:info@charlottetranshealth.org
END:VEVENT
BEGIN:VEVENT
DTSTART;TZID=America/New_York:20301118T190000
DTEND;TZID=America/New_York:20301118T203000
DTSTAMP:20260423T020229
CREATED:20260120T010750Z
LAST-MODIFIED:20260120T011926Z
UID:10001069-1921258800-1921264200@charlottetranshealth.org
SUMMARY:Monthly Member Meeting
DESCRIPTION:Monthly meeting for current and prospective CTH member providers. Meetings are the 3rd Monday of every month\, except December. Meetings include educational topics\, article discussions\, networking\, and case consultations. For more info\, contact the Membership Chair at membership@charlottetranshealth.org. \nMeeting on 1/19/26 is moved to 1/26/26 due to MLK Holiday.
URL:https://charlottetranshealth.org/event/monthly-member-meeting-4/2030-11-18/
LOCATION:Virtual with Quarterly In-Person\, Charlotte\, NC\, United States
CATEGORIES:Education,Member Meetings
ATTACH;FMTTYPE=image/jpeg:https://charlottetranshealth.org/wp-content/uploads/2024/09/CTH_logo_purple_screen.jpg
ORGANIZER;CN="Charlotte Trans Health":MAILTO:info@charlottetranshealth.org
END:VEVENT
END:VCALENDAR