BEGIN:VCALENDAR
VERSION:2.0
PRODID:-//Charlotte Trans Health - ECPv6.15.17.1//NONSGML v1.0//EN
CALSCALE:GREGORIAN
METHOD:PUBLISH
X-ORIGINAL-URL:https://charlottetranshealth.org
X-WR-CALDESC:Events for Charlotte Trans Health
REFRESH-INTERVAL;VALUE=DURATION:PT1H
X-Robots-Tag:noindex
X-PUBLISHED-TTL:PT1H
BEGIN:VTIMEZONE
TZID:America/New_York
BEGIN:DAYLIGHT
TZOFFSETFROM:-0500
TZOFFSETTO:-0400
TZNAME:EDT
DTSTART:20250309T070000
END:DAYLIGHT
BEGIN:STANDARD
TZOFFSETFROM:-0400
TZOFFSETTO:-0500
TZNAME:EST
DTSTART:20251102T060000
END:STANDARD
BEGIN:DAYLIGHT
TZOFFSETFROM:-0500
TZOFFSETTO:-0400
TZNAME:EDT
DTSTART:20260308T070000
END:DAYLIGHT
BEGIN:STANDARD
TZOFFSETFROM:-0400
TZOFFSETTO:-0500
TZNAME:EST
DTSTART:20261101T060000
END:STANDARD
BEGIN:DAYLIGHT
TZOFFSETFROM:-0500
TZOFFSETTO:-0400
TZNAME:EDT
DTSTART:20270314T070000
END:DAYLIGHT
BEGIN:STANDARD
TZOFFSETFROM:-0400
TZOFFSETTO:-0500
TZNAME:EST
DTSTART:20271107T060000
END:STANDARD
END:VTIMEZONE
BEGIN:VEVENT
DTSTART;TZID=America/New_York:20260317T180000
DTEND;TZID=America/New_York:20260317T190000
DTSTAMP:20260422T212210
CREATED:20260313T025612Z
LAST-MODIFIED:20260313T025612Z
UID:10001074-1773770400-1773774000@charlottetranshealth.org
SUMMARY:NC Virtual Town Hall
DESCRIPTION:Several clinics in North Carolina have recently announced that they will no longer provide gender-affirming care for transgender youth under 19. We know this is a confusing time\, and we want families to understand that help is available\, including from the Trans Youth Emergency Project\, which provides navigation services and travel grants to impacted families. We are proud to partner with Campaign for Southern Equality\, Equality NC\, and others across NC in hosting a Town Hall to share more about these developments\, the current legal landscape\, and resources for support on Tuesday\, 3/17 at 6:00 PM EST. RSVP below\, and even if you can’t attend\, all signups will be sent a summary after the event.  \n 
URL:https://charlottetranshealth.org/event/nc-virtual-town-hall/
CATEGORIES:Community Engagement,Community Health Forum,Virtual
ATTACH;FMTTYPE=image/png:https://charlottetranshealth.org/wp-content/uploads/2026/03/NC-Town-Hall.png
ORGANIZER;CN="Charlotte Trans Health":MAILTO:info@charlottetranshealth.org
LOCATION:https://charlottetranshealth.org/event/nc-virtual-town-hall/
END:VEVENT
END:VCALENDAR